BEGIN:VCALENDAR
VERSION:2.0
PRODID:-//Zonta Club of North Puget Sound WA- Aka Zonta Club of Everett - ECPv6.15.20//NONSGML v1.0//EN
CALSCALE:GREGORIAN
METHOD:PUBLISH
X-ORIGINAL-URL:https://zontanorthpugetsound.org
X-WR-CALDESC:Events for Zonta Club of North Puget Sound WA- Aka Zonta Club of Everett
REFRESH-INTERVAL;VALUE=DURATION:PT1H
X-Robots-Tag:noindex
X-PUBLISHED-TTL:PT1H
BEGIN:VTIMEZONE
TZID:America/Los_Angeles
BEGIN:DAYLIGHT
TZOFFSETFROM:-0800
TZOFFSETTO:-0700
TZNAME:PDT
DTSTART:20210314T100000
END:DAYLIGHT
BEGIN:STANDARD
TZOFFSETFROM:-0700
TZOFFSETTO:-0800
TZNAME:PST
DTSTART:20211107T090000
END:STANDARD
BEGIN:DAYLIGHT
TZOFFSETFROM:-0800
TZOFFSETTO:-0700
TZNAME:PDT
DTSTART:20220313T100000
END:DAYLIGHT
BEGIN:STANDARD
TZOFFSETFROM:-0700
TZOFFSETTO:-0800
TZNAME:PST
DTSTART:20221106T090000
END:STANDARD
BEGIN:DAYLIGHT
TZOFFSETFROM:-0800
TZOFFSETTO:-0700
TZNAME:PDT
DTSTART:20230312T100000
END:DAYLIGHT
BEGIN:STANDARD
TZOFFSETFROM:-0700
TZOFFSETTO:-0800
TZNAME:PST
DTSTART:20231105T090000
END:STANDARD
BEGIN:DAYLIGHT
TZOFFSETFROM:-0800
TZOFFSETTO:-0700
TZNAME:PDT
DTSTART:20240310T100000
END:DAYLIGHT
BEGIN:STANDARD
TZOFFSETFROM:-0700
TZOFFSETTO:-0800
TZNAME:PST
DTSTART:20241103T090000
END:STANDARD
BEGIN:DAYLIGHT
TZOFFSETFROM:-0800
TZOFFSETTO:-0700
TZNAME:PDT
DTSTART:20250309T100000
END:DAYLIGHT
BEGIN:STANDARD
TZOFFSETFROM:-0700
TZOFFSETTO:-0800
TZNAME:PST
DTSTART:20251102T090000
END:STANDARD
END:VTIMEZONE
BEGIN:VEVENT
DTSTART;VALUE=DATE:20240627
DTEND;VALUE=DATE:20240702
DTSTAMP:20260423T135026
CREATED:20240507T222044Z
LAST-MODIFIED:20240507T222044Z
UID:9796-1719446400-1719878399@zontanorthpugetsound.org
SUMMARY:Zonta International Convention - Brisbane AU
DESCRIPTION:
URL:https://zontanorthpugetsound.org/calendar-item/zonta-international-convention-brisbane-au
CATEGORIES:Convention or Conference
ATTACH;FMTTYPE=image/png:https://zontanorthpugetsound.org/wp-content/uploads/2024/05/Zonta-Convention-Brisbane-2024-.png
ORGANIZER;CN="Zonta International":MAILTO:convention@zonta.org
END:VEVENT
BEGIN:VEVENT
DTSTART;TZID=America/Los_Angeles:20220625T080000
DTEND;TZID=America/Los_Angeles:20220628T170000
DTSTAMP:20260423T135026
CREATED:20220504T164110Z
LAST-MODIFIED:20220504T164219Z
UID:7500-1656144000-1656435600@zontanorthpugetsound.org
SUMMARY:Zonta International Convention
DESCRIPTION:
URL:https://zontanorthpugetsound.org/calendar-item/zonta-international-convention
CATEGORIES:Convention or Conference
ORGANIZER;CN="Zonta International":MAILTO:convention@zonta.org
END:VEVENT
END:VCALENDAR