BEGIN:VCALENDAR
VERSION:2.0
PRODID:-//Zonta Club of North Puget Sound WA- Aka Zonta Club of Everett - ECPv6.15.20//NONSGML v1.0//EN
CALSCALE:GREGORIAN
METHOD:PUBLISH
X-WR-CALNAME:Zonta Club of North Puget Sound WA- Aka Zonta Club of Everett
X-ORIGINAL-URL:https://zontanorthpugetsound.org
X-WR-CALDESC:Events for Zonta Club of North Puget Sound WA- Aka Zonta Club of Everett
REFRESH-INTERVAL;VALUE=DURATION:PT1H
X-Robots-Tag:noindex
X-PUBLISHED-TTL:PT1H
BEGIN:VTIMEZONE
TZID:America/Los_Angeles
BEGIN:DAYLIGHT
TZOFFSETFROM:-0800
TZOFFSETTO:-0700
TZNAME:PDT
DTSTART:20230312T100000
END:DAYLIGHT
BEGIN:STANDARD
TZOFFSETFROM:-0700
TZOFFSETTO:-0800
TZNAME:PST
DTSTART:20231105T090000
END:STANDARD
BEGIN:DAYLIGHT
TZOFFSETFROM:-0800
TZOFFSETTO:-0700
TZNAME:PDT
DTSTART:20240310T100000
END:DAYLIGHT
BEGIN:STANDARD
TZOFFSETFROM:-0700
TZOFFSETTO:-0800
TZNAME:PST
DTSTART:20241103T090000
END:STANDARD
BEGIN:DAYLIGHT
TZOFFSETFROM:-0800
TZOFFSETTO:-0700
TZNAME:PDT
DTSTART:20250309T100000
END:DAYLIGHT
BEGIN:STANDARD
TZOFFSETFROM:-0700
TZOFFSETTO:-0800
TZNAME:PST
DTSTART:20251102T090000
END:STANDARD
END:VTIMEZONE
BEGIN:VEVENT
DTSTART;TZID=America/Los_Angeles:20240125T113000
DTEND;TZID=America/Los_Angeles:20240125T130000
DTSTAMP:20260425T070621
CREATED:20230823T193444Z
LAST-MODIFIED:20240113T233803Z
UID:8811-1706182200-1706187600@zontanorthpugetsound.org
SUMMARY:Program: Fly Like a Girl  for Amelia Earhart -
DESCRIPTION:Watch:  Fly Like a Girl\, then discuss with Film Makers and fellow Zonta Members\nVia Zoom – Virtual Only  11:30- 1pm Jan. 25th.\n  email info@zontaeverett.org to get the zoom link\, or check your District 8 or Zonta Everett newsletter if you subscribe.  \nWatch the movie at home\, or host a watch party\, using your favorite streaming service. Comment below where you found it\, so others can follow. \n Watch this. \n \nemail us at info \nHere is what the film website suggests for streaming: https://www.flylikeagirl.film \n \nJoin us for a program about pioneer aviation leader Amelia Earhart\, a member of Zonta.
URL:https://zontanorthpugetsound.org/calendar-item/program-amelia-earhart
LOCATION:Zoom
CATEGORIES:Program Meetings,Special Events
ATTACH;FMTTYPE=image/png:https://zontanorthpugetsound.org/wp-content/uploads/2023/08/Flypromo.png
END:VEVENT
END:VCALENDAR