BEGIN:VCALENDAR
VERSION:2.0
PRODID:-//Zonta Club of North Puget Sound WA- Aka Zonta Club of Everett - ECPv6.15.20//NONSGML v1.0//EN
CALSCALE:GREGORIAN
METHOD:PUBLISH
X-ORIGINAL-URL:https://zontanorthpugetsound.org
X-WR-CALDESC:Events for Zonta Club of North Puget Sound WA- Aka Zonta Club of Everett
REFRESH-INTERVAL;VALUE=DURATION:PT1H
X-Robots-Tag:noindex
X-PUBLISHED-TTL:PT1H
BEGIN:VTIMEZONE
TZID:America/Los_Angeles
BEGIN:DAYLIGHT
TZOFFSETFROM:-0800
TZOFFSETTO:-0700
TZNAME:PDT
DTSTART:20220313T100000
END:DAYLIGHT
BEGIN:STANDARD
TZOFFSETFROM:-0700
TZOFFSETTO:-0800
TZNAME:PST
DTSTART:20221106T090000
END:STANDARD
BEGIN:DAYLIGHT
TZOFFSETFROM:-0800
TZOFFSETTO:-0700
TZNAME:PDT
DTSTART:20230312T100000
END:DAYLIGHT
BEGIN:STANDARD
TZOFFSETFROM:-0700
TZOFFSETTO:-0800
TZNAME:PST
DTSTART:20231105T090000
END:STANDARD
BEGIN:DAYLIGHT
TZOFFSETFROM:-0800
TZOFFSETTO:-0700
TZNAME:PDT
DTSTART:20240310T100000
END:DAYLIGHT
BEGIN:STANDARD
TZOFFSETFROM:-0700
TZOFFSETTO:-0800
TZNAME:PST
DTSTART:20241103T090000
END:STANDARD
END:VTIMEZONE
BEGIN:VEVENT
DTSTART;TZID=America/Los_Angeles:20230912T150000
DTEND;TZID=America/Los_Angeles:20230912T190000
DTSTAMP:20260425T113811
CREATED:20230805T200240Z
LAST-MODIFIED:20230822T161524Z
UID:8771-1694530800-1694545200@zontanorthpugetsound.org
SUMMARY:ACCESSORY EXTRAVAGANZA!
DESCRIPTION:Zonta Club of Everett Zocial Fundraiser\n$10 Ticket includes light refreshments and a glass of wine! \nLocation: Marysville Tulalip Chamber of Commerce\, 8825 34th Ave NE\, Marysville\, WA 98271 \nThere will be accessories for sale of all kinds!  Jewelry\, purses\, handbags\, tote bags\, scarves\, belts… Some practically free!  Something for everyone!  Raffle Baskets available (need not be present to win) Raffle tickets $2 for one or 6 for $10!  If you wish to donate items for the fundraiser\, please connect with Cynthia Weaver
URL:https://zontanorthpugetsound.org/calendar-item/accessory-extravaganza
LOCATION:Marysville Tulalip Chamber\, 8825 34th Ave NE\, Marysville\, WA\, 98271\, United States
CATEGORIES:Special Events
ATTACH;FMTTYPE=image/jpeg:https://zontanorthpugetsound.org/wp-content/uploads/2023/08/Accessory-Extravaganza-Zocial-Invite.jpg
ORGANIZER;CN="Zonta Club of Everett Foundation":MAILTO:info@zontaeverett.org
END:VEVENT
END:VCALENDAR