BEGIN:VCALENDAR
VERSION:2.0
PRODID:-//Zonta Club of North Puget Sound WA- Aka Zonta Club of Everett - ECPv6.15.20//NONSGML v1.0//EN
CALSCALE:GREGORIAN
METHOD:PUBLISH
X-ORIGINAL-URL:https://zontanorthpugetsound.org
X-WR-CALDESC:Events for Zonta Club of North Puget Sound WA- Aka Zonta Club of Everett
REFRESH-INTERVAL;VALUE=DURATION:PT1H
X-Robots-Tag:noindex
X-PUBLISHED-TTL:PT1H
BEGIN:VTIMEZONE
TZID:America/Los_Angeles
BEGIN:DAYLIGHT
TZOFFSETFROM:-0800
TZOFFSETTO:-0700
TZNAME:PDT
DTSTART:20230312T100000
END:DAYLIGHT
BEGIN:STANDARD
TZOFFSETFROM:-0700
TZOFFSETTO:-0800
TZNAME:PST
DTSTART:20231105T090000
END:STANDARD
BEGIN:DAYLIGHT
TZOFFSETFROM:-0800
TZOFFSETTO:-0700
TZNAME:PDT
DTSTART:20240310T100000
END:DAYLIGHT
BEGIN:STANDARD
TZOFFSETFROM:-0700
TZOFFSETTO:-0800
TZNAME:PST
DTSTART:20241103T090000
END:STANDARD
BEGIN:DAYLIGHT
TZOFFSETFROM:-0800
TZOFFSETTO:-0700
TZNAME:PDT
DTSTART:20250309T100000
END:DAYLIGHT
BEGIN:STANDARD
TZOFFSETFROM:-0700
TZOFFSETTO:-0800
TZNAME:PST
DTSTART:20251102T090000
END:STANDARD
END:VTIMEZONE
BEGIN:VEVENT
DTSTART;TZID=America/Los_Angeles:20240208T173000
DTEND;TZID=America/Los_Angeles:20240208T203000
DTSTAMP:20260425T042611
CREATED:20231214T235129Z
LAST-MODIFIED:20240110T234632Z
UID:9178-1707413400-1707424200@zontanorthpugetsound.org
SUMMARY:Mysterious Mardi Gras Fun-draiser
DESCRIPTION:Zonta Club of Puget Sound’s\n\nMysterious Masquerade Ball\n\nThursday February 8th at 5:30pm\n\n\n\n\nEverett Transit Station  Weyerhauser Room \n3201 Smith Ave – 4th floor\nEverett\, WA \n$85 per person including dinner  \nThe rustle of silks and feathers under muted conversation was probably the last thing heard by the tragically and unexpectedly deceased at the Zonta Club of Puget Sound’s Masquerade Ball. It’s up to you to determine which partygoer is guilty\, bring this crime to justice\, and save the party! \nAttend Zonta’s Masquerade Ball and help get this soiree back on track by trading clues with guests\, gathering information\, and solving the crime before the masked menace gets away! Evening wear\, ball gowns\, Venetian masks\, suits\, and tuxes are what to wear to this high class night of masks and murder (OPTIONAL). Get ready for a glamorous evening of mystery\, intrigue\, and murder at this masquerade ball murder mystery party! \nIn addition to the fun\, learn more about what your support is doing for women in our community. Hear directly from a scholarship recipient who has received funding from Zonta. \nThis is a fundraising event and there will be an ask for financial support\, as well as a small raffle. \nProceeds support Zonta Club of Puget Sound Foundation\, where we envision a community in which women’s rights are recognized as human rights and every woman is able to reach her full potential. \nBook your tickets now on the ticket page! https://zontaeverett.ejoinme.org/masquerade \nRegrets gifts can be made on our ticket page
URL:https://zontanorthpugetsound.org/calendar-item/mysterious-mardi-gras-fun-draiser
LOCATION:Everett Transit Station\, 3201 Smith Ave - 4th floor Everett\, WA\, Everett\, WA
CATEGORIES:Special Events
ATTACH;FMTTYPE=image/png:https://zontanorthpugetsound.org/wp-content/uploads/2023/12/Violet-and-Yellow-Image-Mardi-Gras-Facebook-Post1.png
ORGANIZER;CN="Zonta Club of Everett Foundation":MAILTO:info@zontaeverett.org
END:VEVENT
END:VCALENDAR