BEGIN:VCALENDAR
VERSION:2.0
PRODID:-//Zonta Club of North Puget Sound WA- Aka Zonta Club of Everett - ECPv6.15.20//NONSGML v1.0//EN
CALSCALE:GREGORIAN
METHOD:PUBLISH
X-WR-CALNAME:Zonta Club of North Puget Sound WA- Aka Zonta Club of Everett
X-ORIGINAL-URL:https://zontanorthpugetsound.org
X-WR-CALDESC:Events for Zonta Club of North Puget Sound WA- Aka Zonta Club of Everett
REFRESH-INTERVAL;VALUE=DURATION:PT1H
X-Robots-Tag:noindex
X-PUBLISHED-TTL:PT1H
BEGIN:VTIMEZONE
TZID:America/Los_Angeles
BEGIN:DAYLIGHT
TZOFFSETFROM:-0800
TZOFFSETTO:-0700
TZNAME:PDT
DTSTART:20220313T100000
END:DAYLIGHT
BEGIN:STANDARD
TZOFFSETFROM:-0700
TZOFFSETTO:-0800
TZNAME:PST
DTSTART:20221106T090000
END:STANDARD
BEGIN:DAYLIGHT
TZOFFSETFROM:-0800
TZOFFSETTO:-0700
TZNAME:PDT
DTSTART:20230312T100000
END:DAYLIGHT
BEGIN:STANDARD
TZOFFSETFROM:-0700
TZOFFSETTO:-0800
TZNAME:PST
DTSTART:20231105T090000
END:STANDARD
BEGIN:DAYLIGHT
TZOFFSETFROM:-0800
TZOFFSETTO:-0700
TZNAME:PDT
DTSTART:20240310T100000
END:DAYLIGHT
BEGIN:STANDARD
TZOFFSETFROM:-0700
TZOFFSETTO:-0800
TZNAME:PST
DTSTART:20241103T090000
END:STANDARD
END:VTIMEZONE
BEGIN:VEVENT
DTSTART;TZID=America/Los_Angeles:20231214T113000
DTEND;TZID=America/Los_Angeles:20231214T130000
DTSTAMP:20260425T094949
CREATED:20230527T181500Z
LAST-MODIFIED:20231116T195314Z
UID:8691-1702553400-1702558800@zontanorthpugetsound.org
SUMMARY:Annual Holiday Lunch and Gift Bag Auction
DESCRIPTION:Zonta Club of North Puget Sound (formerly Everett) annual holiday auction.\n \nYou are invited to our Lunch\, Bagged Holiday Gift Game and Lots of FUN!\nTo be held in person this year!!\nThe date is December 14 from 11:30 to 1:00. Mark your calendar for a fun filled\, holiday luncheon and gift auction.\nWhat fabulous gift will you take home this year?\n  \n[tx_button style=”default” text=”Tickets” url=”https://givebutter.com/ZontaHoliday23″ color=”#9b0b01″ textcolor=”white” target=”blank”]
URL:https://zontanorthpugetsound.org/calendar-item/annual-holiday-auction-2
LOCATION:Everett Golf and Country Club\, 1500 52nd St SE\, Everett\, WA\, 98203\, United States
CATEGORIES:Special Events
ATTACH;FMTTYPE=image/jpeg:https://zontanorthpugetsound.org/wp-content/uploads/2020/07/Holiday.jpg
ORGANIZER;CN="Zonta Club of Everett Foundation":MAILTO:info@zontaeverett.org
END:VEVENT
BEGIN:VEVENT
DTSTART;TZID=America/Los_Angeles:20231208T080000
DTEND;TZID=America/Los_Angeles:20231208T170000
DTSTAMP:20260425T094949
CREATED:20231116T021220Z
LAST-MODIFIED:20231116T021418Z
UID:9144-1702022400-1702054800@zontanorthpugetsound.org
SUMMARY:Toy Donations for Wintertide Due
DESCRIPTION:Zonta Club of North Puget Sound service committee is asking members and supporters to participate in the Connect Casino Road’s toy drive. The attached graphic has information on the toy drive (it also has a link to an amazon list in case people would prefer to donate that way).\nUp to half of the children in the Casino neighborhood experience poverty\, so please know how meaningful this holiday support is for the families in this community. Jillian Robinson is the contact for this toy drive if you have any questions. \nhttps://www.amazon.com/registries/gl/guest-view/1HXNTQCIQ5NKL?ref=gr_search_page_result \n\n\n\n\n\nCommunity Organizations
URL:https://zontanorthpugetsound.org/calendar-item/toy-donations-for-wintertide-due
LOCATION:The village on casino road\, 14 E Casino Rd\, Everett\, WA\, United States
CATEGORIES:Special Events
ATTACH;FMTTYPE=image/png:https://zontanorthpugetsound.org/wp-content/uploads/2023/11/Screenshot-2023-11-15-at-5.51.43-PM.png
END:VEVENT
BEGIN:VEVENT
DTSTART;TZID=America/Los_Angeles:20231207T080000
DTEND;TZID=America/Los_Angeles:20231207T170000
DTSTAMP:20260425T094949
CREATED:20230823T200437Z
LAST-MODIFIED:20230823T200437Z
UID:8851-1701936000-1701968400@zontanorthpugetsound.org
SUMMARY:Club Business Meeting
DESCRIPTION:Consent Agenda and Activities of the Club: \nBuilding a Better World for Women and Girls
URL:https://zontanorthpugetsound.org/calendar-item/club-business-meeting-4
LOCATION:Zoom
CATEGORIES:Business Meetings
ATTACH;FMTTYPE=image/jpeg:https://zontanorthpugetsound.org/wp-content/uploads/2020/07/BUSINESS-e1597367074684.jpg
END:VEVENT
BEGIN:VEVENT
DTSTART;TZID=America/Los_Angeles:20231116T113000
DTEND;TZID=America/Los_Angeles:20231116T130000
DTSTAMP:20260425T094949
CREATED:20230926T025414Z
LAST-MODIFIED:20230926T030627Z
UID:8920-1700134200-1700139600@zontanorthpugetsound.org
SUMMARY:Founders Day Lunch
DESCRIPTION:Zonta Club of Everett was Founded in 1929.  Founder’s day celebrates our long history of helping women in the area.   \nRecognition:\nNovember is an exciting month for our club as we recognize and present our annual Founder’s Day award to a person who has shown great commitment to the efforts of Zonta. It’s always a surprise to the recipient and the club\, which adds a little extra excitement! \nGrant Recipients:\nWe will also recognize all of the agencies building a better world for women and girls who were selected for a grant award this year. \nNew Name:\nAt our 2023 Founder’s Day Lunch\, we will also celebrate our new name: Zonta Club of North Puget Sound\, and welcome all of our members from across North Puget Sound…from Seattle to Mt. Vernon and Whidby Island to Kirkland.  \nMore Details Coming Soon!
URL:https://zontanorthpugetsound.org/calendar-item/founders-day-lunch
LOCATION:WA
CATEGORIES:Program Meetings,Special Events
ATTACH;FMTTYPE=image/jpeg:https://zontanorthpugetsound.org/wp-content/uploads/2020/06/founders.jpg
END:VEVENT
BEGIN:VEVENT
DTSTART;TZID=America/Los_Angeles:20231102T080000
DTEND;TZID=America/Los_Angeles:20231102T090000
DTSTAMP:20260425T094949
CREATED:20230823T200105Z
LAST-MODIFIED:20230823T200223Z
UID:8849-1698912000-1698915600@zontanorthpugetsound.org
SUMMARY:Club Business Meeting
DESCRIPTION:Consent Agenda and Activities of the Club: \nBuilding a Better World for Women and Girls
URL:https://zontanorthpugetsound.org/calendar-item/club-business-meeting-3
LOCATION:Zoom
CATEGORIES:Business Meetings
ATTACH;FMTTYPE=image/jpeg:https://zontanorthpugetsound.org/wp-content/uploads/2020/07/BUSINESS-e1597367074684.jpg
END:VEVENT
BEGIN:VEVENT
DTSTART;TZID=America/Los_Angeles:20231019T113000
DTEND;TZID=America/Los_Angeles:20231019T130000
DTSTAMP:20260425T094949
CREATED:20230823T193137Z
LAST-MODIFIED:20231012T193138Z
UID:8807-1697715000-1697720400@zontanorthpugetsound.org
SUMMARY:Program: Youth Homelessness - Cocoon House
DESCRIPTION:Join us in Person or online for Chelsea Monroe and Andrea Wyatt\,  speakers from Cocoon House about Youth Homelessness in Everett and North Puget Sound. \nAbout Cocoon House:\nFounded as an emergency shelter for youth in 1991\, Cocoon House has grown to include a continuum of programs designed to prevent and end youth homelessness. Cocoon House offers short- and long-term housing\, street outreach\, and prevention services aimed at strengthening families. Together\, these programs represent a network of services that improve outcomes for youth and families in Snohomish County. \nCocoon House is strongly committed to removing barriers and supporting inclusion and diversity in all its forms. We strive to create a safe and open atmosphere for young people\, families\, staff\, board members\, community partners and funders. We learn from the diverse individuals we work with and embrace their unique attributes to ensure we fulfill our agency mission and core values. \nhttps://www.cocoonhouse.org/ \n 
URL:https://zontanorthpugetsound.org/calendar-item/youthhomelessness
LOCATION:Everett Evergreen library\, 9512 Evergreen Way\, Everett\, WA\, United States
CATEGORIES:Program Meetings
ATTACH;FMTTYPE=image/png:https://zontanorthpugetsound.org/wp-content/uploads/2020/08/Cocoon-House-logo.png
END:VEVENT
BEGIN:VEVENT
DTSTART;TZID=America/Los_Angeles:20231005T080000
DTEND;TZID=America/Los_Angeles:20231005T090000
DTSTAMP:20260425T094949
CREATED:20230823T200008Z
LAST-MODIFIED:20230823T200008Z
UID:8847-1696492800-1696496400@zontanorthpugetsound.org
SUMMARY:Club Business Meeting
DESCRIPTION:Consent Agenda and Activities of the Club: \nBuilding a Better World for Women and Girls
URL:https://zontanorthpugetsound.org/calendar-item/club-business-meeting-2
LOCATION:Zoom
CATEGORIES:Business Meetings
ATTACH;FMTTYPE=image/jpeg:https://zontanorthpugetsound.org/wp-content/uploads/2020/07/BUSINESS-e1597367074684.jpg
END:VEVENT
BEGIN:VEVENT
DTSTART;TZID=America/Los_Angeles:20230921T113000
DTEND;TZID=America/Los_Angeles:20230921T130000
DTSTAMP:20260425T094949
CREATED:20230823T192641Z
LAST-MODIFIED:20230901T230202Z
UID:8802-1695295800-1695301200@zontanorthpugetsound.org
SUMMARY:Program: Why Washington Needs to Eliminate Statute of limitations on Child Sexual Abuse
DESCRIPTION:Speaker Leah Griffin\nWashington State Association for Justice\nThursday Sept 21st 11:30- 1pm\nMeeting will be held over Zoom. – email info@zontaeverett .org for the zoom link\n \nMeeting starts at 11:30 with Club announcements and updates\nSpeaker will start at 12:00.\n \nChildhood Sexual Assault is more common than you might think.\n And the trauma and age of the victim is unique in preventing and delaying reporting of the abuse.\n \n\n 2SHB 1618 eliminates the civil statute of limitations for childhood sexual abuse. This bill acknowledges the unique challenges survivors face and recognizes that there should be no time limit to commence an action for injury suffered as a result of childhood sexual abuse. 2SHB 1618 will shift the cost burden of child sexual abuse from the victims and society at large to those who caused harm and hold perpetrators accountable  \nData from the Department of Justice suggests that 86% of child sexual abuse goes unreported altogether. When a victim does report\, it is likely they will delay disclosure well into adulthood. While we all hope that a survivor would disclose abuse when it happened\, data reveals a different reality. In a study of over 1\,000 survivors\, the average age at the time of disclosing child sex abuse was about 52 years.  \n\nLeah Griffin is a leading advocate in Washington state for survivors of sexual assault.\nOver the past eight years\, she has been instrumental in passing multiple laws to reform the systems which failed her as a victim of sexual assault. Those laws lead to the elimination of the rape kit backlog\, tracking for sexual assault kits\, survivors’ rights\, police training\, and hospital protocols. She led on the Approve R90 campaign to create inclusive sexual health education in WA state school curriculum\, and works on the coalition behind the Keep Our Care Act to provide oversight to religiously affiliated hospital mergers which seek to deny reproductive and trans healthcare. \nDownload the Flyer and invite your colleagues to this virtual event: \n \nSept Program- Leah Griffin-8 \n 
URL:https://zontanorthpugetsound.org/calendar-item/program-why-washington-needs-to-eliminate-statute-of-limitations-on-child-sexual-abuse
LOCATION:Zoom
CATEGORIES:Program Meetings
ATTACH;FMTTYPE=image/png:https://zontanorthpugetsound.org/wp-content/uploads/2023/08/Screenshot-2023-09-01-at-2.39.44-PM.png
END:VEVENT
BEGIN:VEVENT
DTSTART;TZID=America/Los_Angeles:20230912T150000
DTEND;TZID=America/Los_Angeles:20230912T190000
DTSTAMP:20260425T094949
CREATED:20230805T200240Z
LAST-MODIFIED:20230822T161524Z
UID:8771-1694530800-1694545200@zontanorthpugetsound.org
SUMMARY:ACCESSORY EXTRAVAGANZA!
DESCRIPTION:Zonta Club of Everett Zocial Fundraiser\n$10 Ticket includes light refreshments and a glass of wine! \nLocation: Marysville Tulalip Chamber of Commerce\, 8825 34th Ave NE\, Marysville\, WA 98271 \nThere will be accessories for sale of all kinds!  Jewelry\, purses\, handbags\, tote bags\, scarves\, belts… Some practically free!  Something for everyone!  Raffle Baskets available (need not be present to win) Raffle tickets $2 for one or 6 for $10!  If you wish to donate items for the fundraiser\, please connect with Cynthia Weaver
URL:https://zontanorthpugetsound.org/calendar-item/accessory-extravaganza
LOCATION:Marysville Tulalip Chamber\, 8825 34th Ave NE\, Marysville\, WA\, 98271\, United States
CATEGORIES:Special Events
ATTACH;FMTTYPE=image/jpeg:https://zontanorthpugetsound.org/wp-content/uploads/2023/08/Accessory-Extravaganza-Zocial-Invite.jpg
ORGANIZER;CN="Zonta Club of Everett Foundation":MAILTO:info@zontaeverett.org
END:VEVENT
BEGIN:VEVENT
DTSTART;TZID=America/Los_Angeles:20230907T080000
DTEND;TZID=America/Los_Angeles:20230907T090000
DTSTAMP:20260425T094949
CREATED:20230823T195839Z
LAST-MODIFIED:20230823T195839Z
UID:8845-1694073600-1694077200@zontanorthpugetsound.org
SUMMARY:Club Business Meeting
DESCRIPTION:Consent Agenda and Activities of the Club: \nBuilding a Better World for Women and Girls
URL:https://zontanorthpugetsound.org/calendar-item/club-business-meeting
LOCATION:Zoom
ATTACH;FMTTYPE=image/jpeg:https://zontanorthpugetsound.org/wp-content/uploads/2020/07/BUSINESS-e1597367074684.jpg
END:VEVENT
BEGIN:VEVENT
DTSTART;TZID=America/Los_Angeles:20230823T093000
DTEND;TZID=America/Los_Angeles:20230823T140000
DTSTAMP:20260425T094949
CREATED:20230823T200823Z
LAST-MODIFIED:20230823T201214Z
UID:8858-1692783000-1692799200@zontanorthpugetsound.org
SUMMARY:Club Planning Meeting
DESCRIPTION:Planning for the Next Year of the Club: \nBuilding a Better World for Women and Girls
URL:https://zontanorthpugetsound.org/calendar-item/club-business-meeting-7
LOCATION:Zoom
CATEGORIES:Business Meetings
ATTACH;FMTTYPE=image/jpeg:https://zontanorthpugetsound.org/wp-content/uploads/2020/07/BUSINESS-e1597367074684.jpg
END:VEVENT
BEGIN:VEVENT
DTSTART;TZID=America/Los_Angeles:20230823T090000
DTEND;TZID=America/Los_Angeles:20230823T130000
DTSTAMP:20260425T094949
CREATED:20230712T151634Z
LAST-MODIFIED:20230712T151634Z
UID:8710-1692781200-1692795600@zontanorthpugetsound.org
SUMMARY:Annual Retreat
DESCRIPTION:
URL:https://zontanorthpugetsound.org/calendar-item/annual-retreat-3
LOCATION:Kindred Kitchen\, 3315 Broadway\, everett\, WA\, 98201\, United States
ATTACH;FMTTYPE=image/jpeg:https://zontanorthpugetsound.org/wp-content/uploads/2020/08/RETREAT.jpg
END:VEVENT
BEGIN:VEVENT
DTSTART;TZID=America/Los_Angeles:20230731T081500
DTEND;TZID=America/Los_Angeles:20230731T093000
DTSTAMP:20260425T094949
CREATED:20230621T163800Z
LAST-MODIFIED:20230621T163800Z
UID:8705-1690791300-1690795800@zontanorthpugetsound.org
SUMMARY:Board Meeting
DESCRIPTION:
URL:https://zontanorthpugetsound.org/calendar-item/board-meeting-37
LOCATION:Zoom
ATTACH;FMTTYPE=image/jpeg:https://zontanorthpugetsound.org/wp-content/uploads/2020/07/BOARD-e1597367058740.jpg
END:VEVENT
BEGIN:VEVENT
DTSTART;TZID=America/Los_Angeles:20230720T163000
DTEND;TZID=America/Los_Angeles:20230720T200000
DTSTAMP:20260425T094949
CREATED:20230621T151408Z
LAST-MODIFIED:20230621T151408Z
UID:8702-1689870600-1689883200@zontanorthpugetsound.org
SUMMARY:Annual Pool Party
DESCRIPTION:
URL:https://zontanorthpugetsound.org/calendar-item/annual-pool-party-4
LOCATION:Unnamed Venue\, MN\, United States
ATTACH;FMTTYPE=image/png:https://zontanorthpugetsound.org/wp-content/uploads/2023/06/2023-Pool-Party-Zocial-resized.png
END:VEVENT
BEGIN:VEVENT
DTSTART;TZID=America/Los_Angeles:20230706T080000
DTEND;TZID=America/Los_Angeles:20230706T090000
DTSTAMP:20260425T094949
CREATED:20230621T150810Z
LAST-MODIFIED:20230621T150810Z
UID:8700-1688630400-1688634000@zontanorthpugetsound.org
SUMMARY:Business Meeting
DESCRIPTION:
URL:https://zontanorthpugetsound.org/calendar-item/business-meeting-57
LOCATION:Zoom
ATTACH;FMTTYPE=image/jpeg:https://zontanorthpugetsound.org/wp-content/uploads/2020/07/BUSINESS-e1597367074684.jpg
END:VEVENT
BEGIN:VEVENT
DTSTART;TZID=America/Los_Angeles:20230630T110000
DTEND;TZID=America/Los_Angeles:20230702T120000
DTSTAMP:20260425T094949
CREATED:20230215T192608Z
LAST-MODIFIED:20230215T192608Z
UID:8356-1688122800-1688299200@zontanorthpugetsound.org
SUMMARY:North America Inter-District Meeting (NAIDM)
DESCRIPTION:
URL:https://zontanorthpugetsound.org/calendar-item/north-america-inter-district-meeting-naidm
LOCATION:Indianapolis\, IN
ATTACH;FMTTYPE=image/png:https://zontanorthpugetsound.org/wp-content/uploads/2023/02/NAIDM.png
END:VEVENT
BEGIN:VEVENT
DTSTART;TZID=America/Los_Angeles:20230626T081500
DTEND;TZID=America/Los_Angeles:20230626T093000
DTSTAMP:20260425T094949
CREATED:20230621T163912Z
LAST-MODIFIED:20230621T163912Z
UID:8707-1687767300-1687771800@zontanorthpugetsound.org
SUMMARY:Board Meeting
DESCRIPTION:
URL:https://zontanorthpugetsound.org/calendar-item/board-meeting-38
LOCATION:Zoom
ATTACH;FMTTYPE=image/jpeg:https://zontanorthpugetsound.org/wp-content/uploads/2020/07/BOARD-e1597367058740.jpg
END:VEVENT
BEGIN:VEVENT
DTSTART;TZID=America/Los_Angeles:20230615T113000
DTEND;TZID=America/Los_Angeles:20230615T130000
DTSTAMP:20260425T094949
CREATED:20230527T181338Z
LAST-MODIFIED:20230527T181338Z
UID:8689-1686828600-1686834000@zontanorthpugetsound.org
SUMMARY:Program Meeting
DESCRIPTION:
URL:https://zontanorthpugetsound.org/calendar-item/program-meeting-33
LOCATION:Kindred Kitchen\, 3315 Broadway\, everett\, WA\, 98201\, United States
ATTACH;FMTTYPE=image/jpeg:https://zontanorthpugetsound.org/wp-content/uploads/2020/07/PROGRAM-e1597367089590.jpg
END:VEVENT
BEGIN:VEVENT
DTSTART;TZID=America/Los_Angeles:20230601T080000
DTEND;TZID=America/Los_Angeles:20230601T090000
DTSTAMP:20260425T094949
CREATED:20230527T181225Z
LAST-MODIFIED:20230527T181225Z
UID:8687-1685606400-1685610000@zontanorthpugetsound.org
SUMMARY:Business Meeting
DESCRIPTION:
URL:https://zontanorthpugetsound.org/calendar-item/business-meeting-56
LOCATION:Zoom
ATTACH;FMTTYPE=image/jpeg:https://zontanorthpugetsound.org/wp-content/uploads/2020/07/BUSINESS-e1597367074684.jpg
END:VEVENT
BEGIN:VEVENT
DTSTART;TZID=America/Los_Angeles:20230530T080000
DTEND;TZID=America/Los_Angeles:20230530T080000
DTSTAMP:20260425T094949
CREATED:20230527T181042Z
LAST-MODIFIED:20230527T181042Z
UID:8685-1685433600-1685433600@zontanorthpugetsound.org
SUMMARY:Board Meeting
DESCRIPTION:
URL:https://zontanorthpugetsound.org/calendar-item/board-meeting-36
LOCATION:Zoom
ATTACH;FMTTYPE=image/jpeg:https://zontanorthpugetsound.org/wp-content/uploads/2020/07/BOARD-e1597367058740.jpg
END:VEVENT
BEGIN:VEVENT
DTSTART;TZID=America/Los_Angeles:20230524T173000
DTEND;TZID=America/Los_Angeles:20230524T193000
DTSTAMP:20260425T094949
CREATED:20230426T154349Z
LAST-MODIFIED:20230426T154349Z
UID:8649-1684949400-1684956600@zontanorthpugetsound.org
SUMMARY:VIP Dinner
DESCRIPTION:
URL:https://zontanorthpugetsound.org/calendar-item/vip-dinner-5
LOCATION:Lombardi’s Italian Restaurant\, 1620 W. Marine View Dr\, Everett\, WA\, 98201\, United States
ATTACH;FMTTYPE=image/jpeg:https://zontanorthpugetsound.org/wp-content/uploads/2020/07/PROGRAM-e1597367089590.jpg
END:VEVENT
BEGIN:VEVENT
DTSTART;TZID=America/Los_Angeles:20230504T080000
DTEND;TZID=America/Los_Angeles:20230504T090000
DTSTAMP:20260425T094949
CREATED:20230401T205032Z
LAST-MODIFIED:20230401T205032Z
UID:8528-1683187200-1683190800@zontanorthpugetsound.org
SUMMARY:Business Meeting
DESCRIPTION:
URL:https://zontanorthpugetsound.org/calendar-item/business-meeting-55
LOCATION:Zoom
ATTACH;FMTTYPE=image/jpeg:https://zontanorthpugetsound.org/wp-content/uploads/2020/07/BUSINESS-e1597367074684.jpg
END:VEVENT
BEGIN:VEVENT
DTSTART;TZID=America/Los_Angeles:20230501T080000
DTEND;TZID=America/Los_Angeles:20230501T090000
DTSTAMP:20260425T094949
CREATED:20230426T154901Z
LAST-MODIFIED:20230426T154901Z
UID:8659-1682928000-1682931600@zontanorthpugetsound.org
SUMMARY:Board Meeting
DESCRIPTION:
URL:https://zontanorthpugetsound.org/calendar-item/board-meeting-35
LOCATION:Zoom
ATTACH;FMTTYPE=image/jpeg:https://zontanorthpugetsound.org/wp-content/uploads/2020/07/BOARD-e1597367058740.jpg
END:VEVENT
BEGIN:VEVENT
DTSTART;TZID=America/Los_Angeles:20230422T100000
DTEND;TZID=America/Los_Angeles:20230422T140000
DTSTAMP:20260425T094949
CREATED:20230222T163716Z
LAST-MODIFIED:20230401T204157Z
UID:8372-1682157600-1682172000@zontanorthpugetsound.org
SUMMARY:All Area Workshop
DESCRIPTION:https://us02web.zoom.us/meeting/register/tZclcOCuqjsiGNc5fi9fEkwr3kBY9U1a_V3_
URL:https://zontanorthpugetsound.org/calendar-item/all-area-workshop
LOCATION:Zoom
ATTACH;FMTTYPE=image/png:https://zontanorthpugetsound.org/wp-content/uploads/2023/04/AAW-registration.png
END:VEVENT
BEGIN:VEVENT
DTSTART;TZID=America/Los_Angeles:20230418T163000
DTEND;TZID=America/Los_Angeles:20230418T180000
DTSTAMP:20260425T094949
CREATED:20230401T204901Z
LAST-MODIFIED:20230401T204901Z
UID:8525-1681835400-1681840800@zontanorthpugetsound.org
SUMMARY:Zocial
DESCRIPTION:Bring Friends\, Prospective Members\, Family\, other members!\nTuesday\, April 18th\, 4-6pm\nHotel Indigo Everett Waterfront – 1028 13th St\, Everett\, WA 98201\nWe will have a table reserved for Zonta in their restaurant area.  No RSVP Required\, but if you would like to let someone know you plan to come\, please feel free to email Cynthia Weaver at cweaver@beneficialstate.com or text her at 425-422-6157. 
URL:https://zontanorthpugetsound.org/calendar-item/zocial-26
LOCATION:Hotel Indigo\, 1028 13th St\, Everett\, WA\, 98201
ATTACH;FMTTYPE=image/jpeg:https://zontanorthpugetsound.org/wp-content/uploads/2020/07/Zocial-e1597367035215.jpg
END:VEVENT
BEGIN:VEVENT
DTSTART;TZID=America/Los_Angeles:20230406T080000
DTEND;TZID=America/Los_Angeles:20230406T090000
DTSTAMP:20260425T094949
CREATED:20230401T204453Z
LAST-MODIFIED:20230401T204453Z
UID:8523-1680768000-1680771600@zontanorthpugetsound.org
SUMMARY:Business Meeting
DESCRIPTION:
URL:https://zontanorthpugetsound.org/calendar-item/business-meeting-54
LOCATION:Zoom
ATTACH;FMTTYPE=image/jpeg:https://zontanorthpugetsound.org/wp-content/uploads/2020/07/BUSINESS-e1597367074684.jpg
END:VEVENT
BEGIN:VEVENT
DTSTART;TZID=America/Los_Angeles:20230403T080000
DTEND;TZID=America/Los_Angeles:20230403T090000
DTSTAMP:20260425T094949
CREATED:20230401T204355Z
LAST-MODIFIED:20230401T204355Z
UID:8521-1680508800-1680512400@zontanorthpugetsound.org
SUMMARY:Board Meeting
DESCRIPTION:
URL:https://zontanorthpugetsound.org/calendar-item/board-meeting-34
LOCATION:Zoom
ATTACH;FMTTYPE=image/jpeg:https://zontanorthpugetsound.org/wp-content/uploads/2020/07/BOARD-e1597367058740.jpg
END:VEVENT
BEGIN:VEVENT
DTSTART;TZID=America/Los_Angeles:20230401T173000
DTEND;TZID=America/Los_Angeles:20230401T210000
DTSTAMP:20260425T094949
CREATED:20221130T174528Z
LAST-MODIFIED:20230412T160752Z
UID:8223-1680370200-1680382800@zontanorthpugetsound.org
SUMMARY:2023 Annual Gala
DESCRIPTION:A great success: See our Photo Gallery + Results\n2023 Gala Fundraiser\n\n\n\n\n\n April 1st!\nFor our Gala and Auction \nA Little Bit of Magic\n $85 per person\nLive Magic + Silent Auction & Raffle\nSaturday April 1st 5:30 PM\nGreat fundraising fun! \n\n\n\n\n \n*MENU*\nPlease make your selections after you’ve purchased your ticket: \nClassic Caesar Salad \nRomaine\, Asiago Cheese\, Shaved Radish\, and Croutons\, with Caesar Dressing \nEntrees\nChicken Marsala \nwith Sweet\, Marsala Cream Sauce with Mushroom and Thyme \nServed with Garlic Mashed Potatoes with Butter and Half-n-Half \nMedley of Vegetables Sautéed with Garlic and Herbs \nOR \nPortobello Mushroom \nStuffed with Quinoa\, Peppers\, Parmesan and Spinach \n  \nDessert\nNew York Cheesecake with Salted Caramel Sauce \n \nRegrets donations will be gratefully accepted at the above link  to support scholarships and local community work.  \nIf you would like to donate by check or PayPal to support improving the lives of women and girls.  \n\n\nThank you to our Gala Sponsors:\nTitle Sponsor \n \n 
URL:https://zontanorthpugetsound.org/calendar-item/annual-gala-3
LOCATION:Everett Golf and Country Club\, 1500 52nd St SE\, Everett\, WA\, 98203\, United States
CATEGORIES:Special Events
ATTACH;FMTTYPE=image/png:https://zontanorthpugetsound.org/wp-content/uploads/2022/11/2023-Gala-Poster.png
ORGANIZER;CN="Zonta Club of Everett Foundation":MAILTO:info@zontaeverett.org
END:VEVENT
BEGIN:VEVENT
DTSTART;TZID=America/Los_Angeles:20230316T113000
DTEND;TZID=America/Los_Angeles:20230316T130000
DTSTAMP:20260425T094949
CREATED:20230310T200654Z
LAST-MODIFIED:20230310T200654Z
UID:8469-1678966200-1678971600@zontanorthpugetsound.org
SUMMARY:Megan Crawford from Acres of Diamonds Program meeting
DESCRIPTION:“Creating lasting change for homeless moms and kids through a caring community.”\n \nvia Zoom or in person.  The in person portion will be held in the Jones Room at HopeWorks at 3315 Broadway\, Everett\, WA. \n \nYou can order lunch from the Kindred Kitchen here: https://www.kindredkitchen.com/.  If you can’t make it in person\, we will see you on Zoom.\n \nContact info@zontaeverett.org for the zoom link. 
URL:https://zontanorthpugetsound.org/calendar-item/megan-crawford-from-acres-of-diamonds-program-meeting
LOCATION:Zoom
CATEGORIES:Program Meetings
ATTACH;FMTTYPE=image/png:https://zontanorthpugetsound.org/wp-content/uploads/2023/03/logo.png
END:VEVENT
BEGIN:VEVENT
DTSTART;TZID=America/Los_Angeles:20230316T113000
DTEND;TZID=America/Los_Angeles:20230316T130000
DTSTAMP:20260425T094949
CREATED:20230215T192258Z
LAST-MODIFIED:20230215T192258Z
UID:8354-1678966200-1678971600@zontanorthpugetsound.org
SUMMARY:Program Meeting
DESCRIPTION:
URL:https://zontanorthpugetsound.org/calendar-item/program-meeting-32
LOCATION:Kindred Kitchen\, 3315 Broadway\, everett\, WA\, 98201\, United States
ATTACH;FMTTYPE=image/jpeg:https://zontanorthpugetsound.org/wp-content/uploads/2020/07/PROGRAM-e1597367089590.jpg
END:VEVENT
END:VCALENDAR