BEGIN:VCALENDAR
VERSION:2.0
PRODID:-//Zonta Club of North Puget Sound WA- Aka Zonta Club of Everett - ECPv6.15.20//NONSGML v1.0//EN
CALSCALE:GREGORIAN
METHOD:PUBLISH
X-ORIGINAL-URL:https://zontanorthpugetsound.org
X-WR-CALDESC:Events for Zonta Club of North Puget Sound WA- Aka Zonta Club of Everett
REFRESH-INTERVAL;VALUE=DURATION:PT1H
X-Robots-Tag:noindex
X-PUBLISHED-TTL:PT1H
BEGIN:VTIMEZONE
TZID:America/Los_Angeles
BEGIN:DAYLIGHT
TZOFFSETFROM:-0800
TZOFFSETTO:-0700
TZNAME:PDT
DTSTART:20230312T100000
END:DAYLIGHT
BEGIN:STANDARD
TZOFFSETFROM:-0700
TZOFFSETTO:-0800
TZNAME:PST
DTSTART:20231105T090000
END:STANDARD
BEGIN:DAYLIGHT
TZOFFSETFROM:-0800
TZOFFSETTO:-0700
TZNAME:PDT
DTSTART:20240310T100000
END:DAYLIGHT
BEGIN:STANDARD
TZOFFSETFROM:-0700
TZOFFSETTO:-0800
TZNAME:PST
DTSTART:20241103T090000
END:STANDARD
BEGIN:DAYLIGHT
TZOFFSETFROM:-0800
TZOFFSETTO:-0700
TZNAME:PDT
DTSTART:20250309T100000
END:DAYLIGHT
BEGIN:STANDARD
TZOFFSETFROM:-0700
TZOFFSETTO:-0800
TZNAME:PST
DTSTART:20251102T090000
END:STANDARD
BEGIN:DAYLIGHT
TZOFFSETFROM:-0800
TZOFFSETTO:-0700
TZNAME:PDT
DTSTART:20260308T100000
END:DAYLIGHT
BEGIN:STANDARD
TZOFFSETFROM:-0700
TZOFFSETTO:-0800
TZNAME:PST
DTSTART:20261101T090000
END:STANDARD
BEGIN:DAYLIGHT
TZOFFSETFROM:-0800
TZOFFSETTO:-0700
TZNAME:PDT
DTSTART:20270314T100000
END:DAYLIGHT
BEGIN:STANDARD
TZOFFSETFROM:-0700
TZOFFSETTO:-0800
TZNAME:PST
DTSTART:20271107T090000
END:STANDARD
END:VTIMEZONE
BEGIN:VEVENT
DTSTART;TZID=America/Los_Angeles:20240201T080000
DTEND;TZID=America/Los_Angeles:20240201T090000
DTSTAMP:20260425T062755
CREATED:20230823T200722Z
LAST-MODIFIED:20240215T003901Z
UID:8855-1706774400-1706778000@zontanorthpugetsound.org
SUMMARY:Club Business Meeting
DESCRIPTION:Consent Agenda and Activities of the Club: \nBuilding a Better World for Women and Girls
URL:https://zontanorthpugetsound.org/calendar-item/club-business-meeting-6
LOCATION:Zoom
CATEGORIES:Business Meetings
ATTACH;FMTTYPE=image/jpeg:https://zontanorthpugetsound.org/wp-content/uploads/2020/07/BUSINESS-e1597367074684.jpg
END:VEVENT
BEGIN:VEVENT
DTSTART;TZID=America/Los_Angeles:20240208T173000
DTEND;TZID=America/Los_Angeles:20240208T203000
DTSTAMP:20260425T062755
CREATED:20231214T235129Z
LAST-MODIFIED:20240110T234632Z
UID:9178-1707413400-1707424200@zontanorthpugetsound.org
SUMMARY:Mysterious Mardi Gras Fun-draiser
DESCRIPTION:Zonta Club of Puget Sound’s\n\nMysterious Masquerade Ball\n\nThursday February 8th at 5:30pm\n\n\n\n\nEverett Transit Station  Weyerhauser Room \n3201 Smith Ave – 4th floor\nEverett\, WA \n$85 per person including dinner  \nThe rustle of silks and feathers under muted conversation was probably the last thing heard by the tragically and unexpectedly deceased at the Zonta Club of Puget Sound’s Masquerade Ball. It’s up to you to determine which partygoer is guilty\, bring this crime to justice\, and save the party! \nAttend Zonta’s Masquerade Ball and help get this soiree back on track by trading clues with guests\, gathering information\, and solving the crime before the masked menace gets away! Evening wear\, ball gowns\, Venetian masks\, suits\, and tuxes are what to wear to this high class night of masks and murder (OPTIONAL). Get ready for a glamorous evening of mystery\, intrigue\, and murder at this masquerade ball murder mystery party! \nIn addition to the fun\, learn more about what your support is doing for women in our community. Hear directly from a scholarship recipient who has received funding from Zonta. \nThis is a fundraising event and there will be an ask for financial support\, as well as a small raffle. \nProceeds support Zonta Club of Puget Sound Foundation\, where we envision a community in which women’s rights are recognized as human rights and every woman is able to reach her full potential. \nBook your tickets now on the ticket page! https://zontaeverett.ejoinme.org/masquerade \nRegrets gifts can be made on our ticket page
URL:https://zontanorthpugetsound.org/calendar-item/mysterious-mardi-gras-fun-draiser
LOCATION:Everett Transit Station\, 3201 Smith Ave - 4th floor Everett\, WA\, Everett\, WA
CATEGORIES:Special Events
ATTACH;FMTTYPE=image/png:https://zontanorthpugetsound.org/wp-content/uploads/2023/12/Violet-and-Yellow-Image-Mardi-Gras-Facebook-Post1.png
ORGANIZER;CN="Zonta Club of Everett Foundation":MAILTO:info@zontaeverett.org
END:VEVENT
BEGIN:VEVENT
DTSTART;TZID=America/Los_Angeles:20240321T113000
DTEND;TZID=America/Los_Angeles:20240321T130000
DTSTAMP:20260425T062755
CREATED:20240214T173921Z
LAST-MODIFIED:20240221T164506Z
UID:9384-1711020600-1711026000@zontanorthpugetsound.org
SUMMARY:Women In Government Panel Discussion
DESCRIPTION:  \n \nDownload the Flyer \nRSVP and Get zoom link from info@zontaeverett.org \n 
URL:https://zontanorthpugetsound.org/calendar-item/women-in-government-panel-discussion
LOCATION:Everett Public Library\, 2702 Hoyt Ave.\, Everett\, WA\, 98201\, United States
CATEGORIES:Program Meetings
ATTACH;FMTTYPE=image/png:https://zontanorthpugetsound.org/wp-content/uploads/2024/02/Screenshot-2024-02-21-at-8.39.01-AM.png
END:VEVENT
BEGIN:VEVENT
DTSTART;TZID=America/Los_Angeles:20240404T080000
DTEND;TZID=America/Los_Angeles:20240404T090000
DTSTAMP:20260425T062755
CREATED:20240402T010048Z
LAST-MODIFIED:20240402T010048Z
UID:9692-1712217600-1712221200@zontanorthpugetsound.org
SUMMARY:Business Meeting
DESCRIPTION:
URL:https://zontanorthpugetsound.org/calendar-item/business-meeting-58
LOCATION:Zoom
ATTACH;FMTTYPE=image/jpeg:https://zontanorthpugetsound.org/wp-content/uploads/2020/07/BUSINESS-e1597367074684.jpg
END:VEVENT
BEGIN:VEVENT
DTSTART;TZID=America/Los_Angeles:20240418T113000
DTEND;TZID=America/Los_Angeles:20240418T130000
DTSTAMP:20260425T062755
CREATED:20240402T002118Z
LAST-MODIFIED:20240402T002118Z
UID:9684-1713439800-1713445200@zontanorthpugetsound.org
SUMMARY:Go Red for Women- Heart Health and Stroke Risk
DESCRIPTION:
URL:https://zontanorthpugetsound.org/calendar-item/go-red-for-women-heart-health-and-stroke-risk
LOCATION:Everett Evergreen library\, 9512 Evergreen Way\, Everett\, WA\, United States
CATEGORIES:Program Meetings
ATTACH;FMTTYPE=image/jpeg:https://zontanorthpugetsound.org/wp-content/uploads/2024/03/Heart-Health-Womens-Heart-Attacks-and-Stroke-2.jpg
END:VEVENT
BEGIN:VEVENT
DTSTART;TZID=America/Los_Angeles:20240429T081500
DTEND;TZID=America/Los_Angeles:20240429T090000
DTSTAMP:20260425T062755
CREATED:20240402T010200Z
LAST-MODIFIED:20240402T010200Z
UID:9694-1714378500-1714381200@zontanorthpugetsound.org
SUMMARY:Board Meeting
DESCRIPTION:
URL:https://zontanorthpugetsound.org/calendar-item/board-meeting-39
LOCATION:Zoom
ATTACH;FMTTYPE=image/jpeg:https://zontanorthpugetsound.org/wp-content/uploads/2020/07/BOARD-e1597367058740.jpg
END:VEVENT
BEGIN:VEVENT
DTSTART;TZID=America/Los_Angeles:20240523T173000
DTEND;TZID=America/Los_Angeles:20240523T200000
DTSTAMP:20260425T062755
CREATED:20240402T010646Z
LAST-MODIFIED:20240406T164059Z
UID:9696-1716485400-1716494400@zontanorthpugetsound.org
SUMMARY:Celebrating Strength & Service: 95 Years of Zonta North Puget Sound
DESCRIPTION:Join us for a celebration of our 95th anniversary! \nWe are excited to award scholarships and grants and install our new officers.  \nTickets include appetizers and a champagne toast.  \nRegister today
URL:https://zontanorthpugetsound.org/calendar-item/celebrating-strength-service-95-years-of-zonta-north-puget-sound
LOCATION:Floral Hall at Forest Park\, 802 E Mukilteo Blvd\, Everett\, 98203\, United States
CATEGORIES:Special Events
ATTACH;FMTTYPE=image/png:https://zontanorthpugetsound.org/wp-content/uploads/2024/04/Zonta-Invitation-Stong-LinkedIn-Post.png
END:VEVENT
BEGIN:VEVENT
DTSTART;TZID=America/Los_Angeles:20240620T113000
DTEND;TZID=America/Los_Angeles:20240620T130000
DTSTAMP:20260425T062755
CREATED:20240507T221342Z
LAST-MODIFIED:20240507T221544Z
UID:9792-1718883000-1718888400@zontanorthpugetsound.org
SUMMARY:Program Meeting: Boys and Girls Club- Heather Freeman
DESCRIPTION:
URL:https://zontanorthpugetsound.org/calendar-item/program-meeting-boys-and-girls-club-heather-freeman
LOCATION:WA
CATEGORIES:Business Meetings,Program Meetings
ATTACH;FMTTYPE=image/jpeg:https://zontanorthpugetsound.org/wp-content/uploads/2020/07/PROGRAM-e1597367089590.jpg
END:VEVENT
BEGIN:VEVENT
DTSTART;VALUE=DATE:20240627
DTEND;VALUE=DATE:20240702
DTSTAMP:20260425T062755
CREATED:20240507T222044Z
LAST-MODIFIED:20240507T222044Z
UID:9796-1719446400-1719878399@zontanorthpugetsound.org
SUMMARY:Zonta International Convention - Brisbane AU
DESCRIPTION:
URL:https://zontanorthpugetsound.org/calendar-item/zonta-international-convention-brisbane-au
LOCATION:WA
CATEGORIES:Convention or Conference
ATTACH;FMTTYPE=image/png:https://zontanorthpugetsound.org/wp-content/uploads/2024/05/Zonta-Convention-Brisbane-2024-.png
ORGANIZER;CN="Zonta International":MAILTO:convention@zonta.org
END:VEVENT
BEGIN:VEVENT
DTSTART;TZID=America/Los_Angeles:20240718T113000
DTEND;TZID=America/Los_Angeles:20240718T130000
DTSTAMP:20260425T062755
CREATED:20240507T221455Z
LAST-MODIFIED:20240507T221613Z
UID:9794-1721302200-1721307600@zontanorthpugetsound.org
SUMMARY:Program Meeting: All about Zonta International - Club Members
DESCRIPTION:
URL:https://zontanorthpugetsound.org/calendar-item/program-meeting-all-about-zonta-international-club-members
LOCATION:WA
CATEGORIES:Business Meetings,Program Meetings
ATTACH;FMTTYPE=image/jpeg:https://zontanorthpugetsound.org/wp-content/uploads/2020/07/PROGRAM-e1597367089590.jpg
END:VEVENT
BEGIN:VEVENT
DTSTART;TZID=America/Los_Angeles:20240815T113000
DTEND;TZID=America/Los_Angeles:20240815T130000
DTSTAMP:20260425T062755
CREATED:20240804T040220Z
LAST-MODIFIED:20240804T040220Z
UID:9922-1723721400-1723726800@zontanorthpugetsound.org
SUMMARY:T.A.K.E. back our Kids - children in today's drug culture- Keep them safe.
DESCRIPTION:Join the Zonta club of North Puget sound on August 15th at 11:30 am PDT via Zoom\, to hear powerful speaker\, retired DEA agent Rogeana Patterson King\, speak about kids and drugs. You will learn so much. See you there! Email info@ ZontaNorthPugetSound .org for the link \n  \nRogeana Patterson-King:\nAfter a distinguished 28-year career in law enforcement\, including 23 years in federal law enforcement with the Drug Enforcement Administration (DEA)\, Rogeana Patterson-King retired\, yet remains dedicated to serving others. Rising through the ranks from Special Agent to senior management\, she attained the role of Assistant Special Agent in Charge\, overseeing operations of an entire District Office. Throughout her career\, Rogeana has consistently demonstrated a gift and passion for inspiring and uplifting others\, a commitment she continues to uphold today
URL:https://zontanorthpugetsound.org/calendar-item/t-a-k-e-back-our-kids-children-in-todays-drug-culture-keep-them-safe
LOCATION:Zoom
CATEGORIES:Program Meetings
ATTACH;FMTTYPE=image/jpeg:https://zontanorthpugetsound.org/wp-content/uploads/2024/08/453976054_902017715297396_5447110151478432018_n.jpg
END:VEVENT
BEGIN:VEVENT
DTSTART;TZID=America/Los_Angeles:20241017T113000
DTEND;TZID=America/Los_Angeles:20241017T130000
DTSTAMP:20260425T062755
CREATED:20240904T014347Z
LAST-MODIFIED:20240904T015130Z
UID:9945-1729164600-1729170000@zontanorthpugetsound.org
SUMMARY:Discussion of Missing and Exploited Children- SnoCo Sheriff
DESCRIPTION:Join the Zonta Club of North Puget sound for an insightful discussion with Snohomish  County Sheriff\, Susanna Johnson.   Hybrid meeting will be in person at the Everett Evergreen Library\, and via zoom.
URL:https://zontanorthpugetsound.org/calendar-item/discussion-of-missing-and-exploited-children-snoco-sheriff
LOCATION:Everett Evergreen library\, 9512 Evergreen Way\, Everett\, WA\, United States
CATEGORIES:Program Meetings
ATTACH;FMTTYPE=image/png:https://zontanorthpugetsound.org/wp-content/uploads/2024/09/Green-and-Red-Modern-Marathon-Event-Poster-3.png
END:VEVENT
BEGIN:VEVENT
DTSTART;TZID=America/Los_Angeles:20241107T080000
DTEND;TZID=America/Los_Angeles:20241107T090000
DTSTAMP:20260425T062755
CREATED:20241023T145646Z
LAST-MODIFIED:20241023T150938Z
UID:10005-1730966400-1730970000@zontanorthpugetsound.org
SUMMARY:Business Meeting
DESCRIPTION:
URL:https://zontanorthpugetsound.org/calendar-item/business-meeting-59
LOCATION:Zoom
CATEGORIES:Business Meetings
ATTACH;FMTTYPE=image/jpeg:https://zontanorthpugetsound.org/wp-content/uploads/2020/07/BUSINESS-e1597367074684.jpg
END:VEVENT
BEGIN:VEVENT
DTSTART;TZID=America/Los_Angeles:20241121T113000
DTEND;TZID=America/Los_Angeles:20241121T130000
DTSTAMP:20260425T062755
CREATED:20240913T211209Z
LAST-MODIFIED:20240913T211209Z
UID:9953-1732188600-1732194000@zontanorthpugetsound.org
SUMMARY:Founders Day
DESCRIPTION:Zonta Club of Everett\, Now Zonta Club of North Puget Sound was Founded in 1929.  Founder’s day celebrates our long history of helping women in the area.   \nBring Your own Lunch:  Cupcakes provided \nRecognition:\nNovember is an exciting month for our club as we recognize and present our annual Founder’s Day award to a person who has shown great commitment to the efforts of Zonta. It’s always a surprise to the recipient and the club\, which adds a little extra excitement! \nGrant Recipients:\nWe will also recognize all of the agencies building a better world for women and girls who were selected for a grant award this year. \nNew Name:\nAt our 2024 Founder’s Day Lunch\, we will also celebrate our accomplishments for this past year\, and welcome all of our members from across North Puget Sound…from Seattle to Mt. Vernon and Whidby Island to Kirkland.  \nMore Details Coming Soon!
URL:https://zontanorthpugetsound.org/calendar-item/founders-day-2
LOCATION:Everett Evergreen library\, 9512 Evergreen Way\, Everett\, WA\, United States
CATEGORIES:Program Meetings,Special Events
ATTACH;FMTTYPE=image/jpeg:https://zontanorthpugetsound.org/wp-content/uploads/2023/09/founders.jpg
END:VEVENT
BEGIN:VEVENT
DTSTART;TZID=America/Los_Angeles:20241203T160000
DTEND;TZID=America/Los_Angeles:20241203T190000
DTSTAMP:20260425T062755
CREATED:20241023T151139Z
LAST-MODIFIED:20241023T152421Z
UID:10007-1733241600-1733252400@zontanorthpugetsound.org
SUMMARY:Holiday Zocial
DESCRIPTION:Join us for our Holiday Zocial December 3rd 4:00 – 7:00 \n  \nStart the holiday season off right with a fun evening of friendship and laughter.  Bring your favorite dish to share and beverage to enjoy while mingling with others.  This is a great opportunity to share Zonta with spouses\, significant others and potential members.  \nFor address and more information info@zontanorthpugetsound.org
URL:https://zontanorthpugetsound.org/calendar-item/holiday-zocial
LOCATION:WA
CATEGORIES:Special Events
ATTACH;FMTTYPE=image/jpeg:https://zontanorthpugetsound.org/wp-content/uploads/2024/10/snowman.jpg
END:VEVENT
BEGIN:VEVENT
DTSTART;TZID=America/Los_Angeles:20241219T113000
DTEND;TZID=America/Los_Angeles:20241219T130000
DTSTAMP:20260425T062755
CREATED:20240913T225105Z
LAST-MODIFIED:20241023T131902Z
UID:9955-1734607800-1734613200@zontanorthpugetsound.org
SUMMARY:Annual Holiday Lunch and Auction
DESCRIPTION:Join Us for our Seasonal Celebration…\nZonta Club of North Puget Sound invites you to our Holiday Auction!\nThursday\, December 19th 11:30 am – 1:30 pm\nEverett Golf and Country Club\nTickets at:   https://givebutter.com/ZontaHoliday24\nBid on Mystery Holiday Bags prepared by Zonta Members!\nTickets are $60 each and include lunch. \n \nFunds raised support the work of Zonta Club of North Puget Sound where we envision a community in which women’s rights are recognized as human rights and every woman is able to reach her full potential. \nIncluding:\nScholarships\nCommunity Grants \nUnable to attend? Make a gift for regrets by clicking the link below.\nTickets at:   https://givebutter.com/ZontaHoliday24
URL:https://zontanorthpugetsound.org/calendar-item/annual-holiday-lunch-and-auction
LOCATION:WA
CATEGORIES:Special Events
ATTACH;FMTTYPE=image/png:https://zontanorthpugetsound.org/wp-content/uploads/2024/10/Copy-of-Zonta-Holiday-Auction-Invite-24-Facebook-Post.png
END:VEVENT
BEGIN:VEVENT
DTSTART;TZID=America/Los_Angeles:20250116T113000
DTEND;TZID=America/Los_Angeles:20250116T130000
DTSTAMP:20260425T062755
CREATED:20250106T203851Z
LAST-MODIFIED:20250106T204938Z
UID:10091-1737027000-1737032400@zontanorthpugetsound.org
SUMMARY:Amelia Earhart Program Meeting
DESCRIPTION:Join us for our Amelia Earhart Program on January 16th\nWe will have a presentation of Amelia’s fashion deigns\, a research questionnaire developed by Amelia in college\, and a related presentation on women in flight.  \nThe Questionnaire is eye-opening.  Fill out the google form and we’ll share responses at the meeting! \nThis is a Zoom only meeting. 
URL:https://zontanorthpugetsound.org/calendar-item/amelia-earhart-program-meeting
LOCATION:Zoom
CATEGORIES:Program Meetings
ATTACH;FMTTYPE=image/jpeg:https://zontanorthpugetsound.org/wp-content/uploads/2025/01/amelia.jpg
END:VEVENT
BEGIN:VEVENT
DTSTART;TZID=America/Los_Angeles:20250203T080000
DTEND;TZID=America/Los_Angeles:20250203T090000
DTSTAMP:20260425T062755
CREATED:20250106T204050Z
LAST-MODIFIED:20250106T205110Z
UID:10094-1738569600-1738573200@zontanorthpugetsound.org
SUMMARY:Board Meeting
DESCRIPTION:
URL:https://zontanorthpugetsound.org/calendar-item/board-meeting-40
LOCATION:Zoom
CATEGORIES:Board Meetings
ATTACH;FMTTYPE=image/jpeg:https://zontanorthpugetsound.org/wp-content/uploads/2020/07/BOARD-e1597367058740.jpg
END:VEVENT
BEGIN:VEVENT
DTSTART;TZID=America/Los_Angeles:20250206T080000
DTEND;TZID=America/Los_Angeles:20250206T090000
DTSTAMP:20260425T062755
CREATED:20250106T204152Z
LAST-MODIFIED:20250106T204856Z
UID:10096-1738828800-1738832400@zontanorthpugetsound.org
SUMMARY:Business Meeting
DESCRIPTION:
URL:https://zontanorthpugetsound.org/calendar-item/business-meeting-60
LOCATION:Zoom
ATTACH;FMTTYPE=image/jpeg:https://zontanorthpugetsound.org/wp-content/uploads/2020/07/BUSINESS-e1597367074684.jpg
END:VEVENT
BEGIN:VEVENT
DTSTART;TZID=America/Los_Angeles:20250405T173000
DTEND;TZID=America/Los_Angeles:20250405T200000
DTSTAMP:20260425T062755
CREATED:20250209T200649Z
LAST-MODIFIED:20250328T051630Z
UID:10166-1743874200-1743883200@zontanorthpugetsound.org
SUMMARY:Game Night Gala - Postponed
DESCRIPTION:Postponed…
URL:https://zontanorthpugetsound.org/calendar-item/game-night-gala
LOCATION:WA
CATEGORIES:Special Events
ORGANIZER;CN="Zonta Club of Everett Foundation":MAILTO:info@zontaeverett.org
END:VEVENT
BEGIN:VEVENT
DTSTART;TZID=America/Los_Angeles:20250426T090000
DTEND;TZID=America/Los_Angeles:20250426T140000
DTSTAMP:20260425T062755
CREATED:20250106T204600Z
LAST-MODIFIED:20250106T204738Z
UID:10098-1745658000-1745676000@zontanorthpugetsound.org
SUMMARY:All Area District 8 Workshop
DESCRIPTION:Weaving Advocacy Into Building a Better World for Women and Girls. \nMore info to follow
URL:https://zontanorthpugetsound.org/calendar-item/all-area-district-8-workshop
LOCATION:Zoom
CATEGORIES:Special Events
ATTACH;FMTTYPE=image/png:https://zontanorthpugetsound.org/wp-content/uploads/2025/01/2025-All-area.png
END:VEVENT
BEGIN:VEVENT
DTSTART;TZID=America/Los_Angeles:20250520T173000
DTEND;TZID=America/Los_Angeles:20250520T193000
DTSTAMP:20260425T062755
CREATED:20250503T160705Z
LAST-MODIFIED:20250503T161206Z
UID:10260-1747762200-1747769400@zontanorthpugetsound.org
SUMMARY:Zonta in Our Community
DESCRIPTION:May 20th 5:30 pm Shawn O’Donnell’s\nYou will have the opportunity to meet some of our scholarship and grant recipients.  we will also be installing our 2025-26 board members and inducting a new member.  \nPlus there will be fun Raffle prizes to benefit the foundation. \nCost is $30 per person \n  \nRSVP by May 14th to cmmacgregor@yahoo.com
URL:https://zontanorthpugetsound.org/calendar-item/zonta-in-our-community
LOCATION:Shawn O’Donnell’s 122 128th St SE Everett\, WA  98208
ATTACH;FMTTYPE=image/jpeg:https://zontanorthpugetsound.org/wp-content/uploads/2020/07/PROGRAM-e1597367089590.jpg
END:VEVENT
BEGIN:VEVENT
DTSTART;TZID=America/Los_Angeles:20250605T080000
DTEND;TZID=America/Los_Angeles:20250605T170000
DTSTAMP:20260425T062755
CREATED:20250503T161054Z
LAST-MODIFIED:20250503T161054Z
UID:10264-1749110400-1749142800@zontanorthpugetsound.org
SUMMARY:Business Meeting
DESCRIPTION:
URL:https://zontanorthpugetsound.org/calendar-item/business-meeting-61
LOCATION:Zoom
ATTACH;FMTTYPE=image/jpeg:https://zontanorthpugetsound.org/wp-content/uploads/2020/07/BUSINESS-e1597367074684.jpg
END:VEVENT
BEGIN:VEVENT
DTSTART;TZID=America/Los_Angeles:20251002T080000
DTEND;TZID=America/Los_Angeles:20251002T090000
DTSTAMP:20260425T062755
CREATED:20250926T183952Z
LAST-MODIFIED:20250926T183952Z
UID:10323-1759392000-1759395600@zontanorthpugetsound.org
SUMMARY:Business Meeting
DESCRIPTION:
URL:https://zontanorthpugetsound.org/calendar-item/business-meeting-62
LOCATION:Zoom
ATTACH;FMTTYPE=image/jpeg:https://zontanorthpugetsound.org/wp-content/uploads/2020/07/BUSINESS-e1597367074684.jpg
END:VEVENT
BEGIN:VEVENT
DTSTART;TZID=America/Los_Angeles:20251218T113000
DTEND;TZID=America/Los_Angeles:20251218T130000
DTSTAMP:20260425T062755
CREATED:20250926T183538Z
LAST-MODIFIED:20250926T183822Z
UID:10320-1766057400-1766062800@zontanorthpugetsound.org
SUMMARY:Annual Holiday Auction
DESCRIPTION:
URL:https://zontanorthpugetsound.org/calendar-item/annual-holiday-auction-3
LOCATION:Everett Golf and Country Club\, 1500 52nd St SE\, Everett\, WA\, 98203\, United States
CATEGORIES:Special Events
ATTACH;FMTTYPE=image/png:https://zontanorthpugetsound.org/wp-content/uploads/2025/09/Zonta-Auction-002.png
ORGANIZER;CN="Zonta Club of Everett Foundation":MAILTO:info@zontaeverett.org
END:VEVENT
BEGIN:VEVENT
DTSTART;TZID=America/Los_Angeles:20260411T100000
DTEND;TZID=America/Los_Angeles:20260411T140000
DTSTAMP:20260425T062755
CREATED:20260404T174151Z
LAST-MODIFIED:20260408T151637Z
UID:10388-1775901600-1775916000@zontanorthpugetsound.org
SUMMARY:All Area Meeting - Virtually
DESCRIPTION:  \nWe hope you’ll join us for our Virtual All Area Workshop on Saturday April 11 from 10am-2pm PT!  The agenda is full—complete with guest speakers\, District award winners\, Area Meetings\, announcements and more than a couple surprises!  Registration is required\, but the event is free!  Follow us on social media and check your inboxes for more details coming soon!
URL:https://zontanorthpugetsound.org/calendar-item/all-area-meeting-virtually
LOCATION:Zoom
CATEGORIES:Special Events
ATTACH;FMTTYPE=image/png:https://zontanorthpugetsound.org/wp-content/uploads/2026/04/2026-All-Area.png
END:VEVENT
BEGIN:VEVENT
DTSTART;TZID=America/Los_Angeles:20260501T173000
DTEND;TZID=America/Los_Angeles:20260501T210000
DTSTAMP:20260425T062755
CREATED:20260404T174909Z
LAST-MODIFIED:20260408T151521Z
UID:10391-1777656600-1777669200@zontanorthpugetsound.org
SUMMARY:Annual GALA
DESCRIPTION:You are invited to : Blooming Futures\nDinner and Silent Auction to benefit Women and Girls\nMay 1st\, 5:30 to 9:00 pm \nEverett Golf and Country Club \nTickets on sale now \n 
URL:https://zontanorthpugetsound.org/calendar-item/annual-gala-4
LOCATION:Everett Golf and Country Club\, 1500 52nd St SE\, Everett\, WA\, 98203\, United States
CATEGORIES:Special Events
ATTACH;FMTTYPE=image/png:https://zontanorthpugetsound.org/wp-content/uploads/2026/04/gala-I.png
ORGANIZER;CN="Zonta Club of Everett Foundation":MAILTO:info@zontaeverett.org
END:VEVENT
BEGIN:VEVENT
DTSTART;TZID=America/Los_Angeles:20260507T080000
DTEND;TZID=America/Los_Angeles:20260507T090000
DTSTAMP:20260425T062755
CREATED:20260404T175114Z
LAST-MODIFIED:20260404T175114Z
UID:10393-1778140800-1778144400@zontanorthpugetsound.org
SUMMARY:Business Meeting
DESCRIPTION:
URL:https://zontanorthpugetsound.org/calendar-item/business-meeting-63
LOCATION:Zoom
ATTACH;FMTTYPE=image/jpeg:https://zontanorthpugetsound.org/wp-content/uploads/2020/07/BUSINESS-e1597367074684.jpg
END:VEVENT
BEGIN:VEVENT
DTSTART;TZID=America/Los_Angeles:20260521T173000
DTEND;TZID=America/Los_Angeles:20260521T200000
DTSTAMP:20260425T062755
CREATED:20260404T175439Z
LAST-MODIFIED:20260404T175439Z
UID:10395-1779384600-1779393600@zontanorthpugetsound.org
SUMMARY:May Program Meeting
DESCRIPTION:Hosted by Annie Otake Escalona\, Director of Community Relations and Denise Lamb\, Executive Chef \nThank you to outgoing board members \nInduction of new board members \nAward of scholarships \nAward of agency grants
URL:https://zontanorthpugetsound.org/calendar-item/may-program-meeting
LOCATION:Morning Star Senior Living 520 112th St SW\, Everett 98204\, 520 112th St SW\,\, Everett\, WA\, 98204\, United States
ATTACH;FMTTYPE=image/jpeg:https://zontanorthpugetsound.org/wp-content/uploads/2020/07/PROGRAM-e1597367089590.jpg
END:VEVENT
END:VCALENDAR