BEGIN:VCALENDAR
VERSION:2.0
PRODID:-//Zonta Club of North Puget Sound WA- Aka Zonta Club of Everett - ECPv6.15.20//NONSGML v1.0//EN
CALSCALE:GREGORIAN
METHOD:PUBLISH
X-ORIGINAL-URL:https://zontanorthpugetsound.org
X-WR-CALDESC:Events for Zonta Club of North Puget Sound WA- Aka Zonta Club of Everett
REFRESH-INTERVAL;VALUE=DURATION:PT1H
X-Robots-Tag:noindex
X-PUBLISHED-TTL:PT1H
BEGIN:VTIMEZONE
TZID:America/Los_Angeles
BEGIN:DAYLIGHT
TZOFFSETFROM:-0800
TZOFFSETTO:-0700
TZNAME:PDT
DTSTART:20250309T100000
END:DAYLIGHT
BEGIN:STANDARD
TZOFFSETFROM:-0700
TZOFFSETTO:-0800
TZNAME:PST
DTSTART:20251102T090000
END:STANDARD
BEGIN:DAYLIGHT
TZOFFSETFROM:-0800
TZOFFSETTO:-0700
TZNAME:PDT
DTSTART:20260308T100000
END:DAYLIGHT
BEGIN:STANDARD
TZOFFSETFROM:-0700
TZOFFSETTO:-0800
TZNAME:PST
DTSTART:20261101T090000
END:STANDARD
BEGIN:DAYLIGHT
TZOFFSETFROM:-0800
TZOFFSETTO:-0700
TZNAME:PDT
DTSTART:20270314T100000
END:DAYLIGHT
BEGIN:STANDARD
TZOFFSETFROM:-0700
TZOFFSETTO:-0800
TZNAME:PST
DTSTART:20271107T090000
END:STANDARD
END:VTIMEZONE
BEGIN:VEVENT
DTSTART;TZID=America/Los_Angeles:20260411T100000
DTEND;TZID=America/Los_Angeles:20260411T140000
DTSTAMP:20260423T091333
CREATED:20260404T174151Z
LAST-MODIFIED:20260408T151637Z
UID:10388-1775901600-1775916000@zontanorthpugetsound.org
SUMMARY:All Area Meeting - Virtually
DESCRIPTION:  \nWe hope you’ll join us for our Virtual All Area Workshop on Saturday April 11 from 10am-2pm PT!  The agenda is full—complete with guest speakers\, District award winners\, Area Meetings\, announcements and more than a couple surprises!  Registration is required\, but the event is free!  Follow us on social media and check your inboxes for more details coming soon!
URL:https://zontanorthpugetsound.org/calendar-item/all-area-meeting-virtually
LOCATION:Zoom
CATEGORIES:Special Events
ATTACH;FMTTYPE=image/png:https://zontanorthpugetsound.org/wp-content/uploads/2026/04/2026-All-Area.png
END:VEVENT
BEGIN:VEVENT
DTSTART;TZID=America/Los_Angeles:20260501T173000
DTEND;TZID=America/Los_Angeles:20260501T210000
DTSTAMP:20260423T091333
CREATED:20260404T174909Z
LAST-MODIFIED:20260408T151521Z
UID:10391-1777656600-1777669200@zontanorthpugetsound.org
SUMMARY:Annual GALA
DESCRIPTION:You are invited to : Blooming Futures\nDinner and Silent Auction to benefit Women and Girls\nMay 1st\, 5:30 to 9:00 pm \nEverett Golf and Country Club \nTickets on sale now \n 
URL:https://zontanorthpugetsound.org/calendar-item/annual-gala-4
LOCATION:Everett Golf and Country Club\, 1500 52nd St SE\, Everett\, WA\, 98203\, United States
CATEGORIES:Special Events
ATTACH;FMTTYPE=image/png:https://zontanorthpugetsound.org/wp-content/uploads/2026/04/gala-I.png
ORGANIZER;CN="Zonta Club of Everett Foundation":MAILTO:info@zontaeverett.org
END:VEVENT
BEGIN:VEVENT
DTSTART;TZID=America/Los_Angeles:20260507T080000
DTEND;TZID=America/Los_Angeles:20260507T090000
DTSTAMP:20260423T091333
CREATED:20260404T175114Z
LAST-MODIFIED:20260404T175114Z
UID:10393-1778140800-1778144400@zontanorthpugetsound.org
SUMMARY:Business Meeting
DESCRIPTION:
URL:https://zontanorthpugetsound.org/calendar-item/business-meeting-63
LOCATION:Zoom
ATTACH;FMTTYPE=image/jpeg:https://zontanorthpugetsound.org/wp-content/uploads/2020/07/BUSINESS-e1597367074684.jpg
END:VEVENT
BEGIN:VEVENT
DTSTART;TZID=America/Los_Angeles:20260521T173000
DTEND;TZID=America/Los_Angeles:20260521T200000
DTSTAMP:20260423T091333
CREATED:20260404T175439Z
LAST-MODIFIED:20260404T175439Z
UID:10395-1779384600-1779393600@zontanorthpugetsound.org
SUMMARY:May Program Meeting
DESCRIPTION:Hosted by Annie Otake Escalona\, Director of Community Relations and Denise Lamb\, Executive Chef \nThank you to outgoing board members \nInduction of new board members \nAward of scholarships \nAward of agency grants
URL:https://zontanorthpugetsound.org/calendar-item/may-program-meeting
LOCATION:Morning Star Senior Living 520 112th St SW\, Everett 98204\, 520 112th St SW\,\, Everett\, WA\, 98204\, United States
ATTACH;FMTTYPE=image/jpeg:https://zontanorthpugetsound.org/wp-content/uploads/2020/07/PROGRAM-e1597367089590.jpg
END:VEVENT
END:VCALENDAR