BEGIN:VCALENDAR
VERSION:2.0
PRODID:-//Zonta Club of North Puget Sound WA- Aka Zonta Club of Everett - ECPv6.15.20//NONSGML v1.0//EN
CALSCALE:GREGORIAN
METHOD:PUBLISH
X-WR-CALNAME:Zonta Club of North Puget Sound WA- Aka Zonta Club of Everett
X-ORIGINAL-URL:https://zontanorthpugetsound.org
X-WR-CALDESC:Events for Zonta Club of North Puget Sound WA- Aka Zonta Club of Everett
REFRESH-INTERVAL;VALUE=DURATION:PT1H
X-Robots-Tag:noindex
X-PUBLISHED-TTL:PT1H
BEGIN:VTIMEZONE
TZID:UTC
BEGIN:STANDARD
TZOFFSETFROM:+0000
TZOFFSETTO:+0000
TZNAME:UTC
DTSTART:20130101T000000
END:STANDARD
END:VTIMEZONE
BEGIN:VEVENT
DTSTART;TZID=UTC:20141002T073000
DTEND;TZID=UTC:20141002T090000
DTSTAMP:20260423T221423
CREATED:20140414T013235Z
LAST-MODIFIED:20140414T013544Z
UID:1180-1412235000-1412240400@zontanorthpugetsound.org
SUMMARY:October Business Meeting
DESCRIPTION:
URL:https://zontanorthpugetsound.org/calendar-item/october-business-meeting
LOCATION:Everett Golf and Country Club\, 1500 52nd St SE\, Everett\, WA\, 98203\, United States
END:VEVENT
BEGIN:VEVENT
DTSTART;TZID=UTC:20140925T170000
DTEND;TZID=UTC:20140928T220000
DTSTAMP:20260423T221423
CREATED:20140414T015337Z
LAST-MODIFIED:20140729T021648Z
UID:1199-1411664400-1411941600@zontanorthpugetsound.org
SUMMARY:District 8 Governor's Seminar
DESCRIPTION:
URL:https://zontanorthpugetsound.org/calendar-item/district-8-governors-seminar
LOCATION:Olympia Red Lion\, 2300 Evergreen Park Drive SW\, Olympia\, 98502\, United States
END:VEVENT
BEGIN:VEVENT
DTSTART;TZID=UTC:20140918T113000
DTEND;TZID=UTC:20140918T133000
DTSTAMP:20260423T221423
CREATED:20140414T013107Z
LAST-MODIFIED:20140903T073133Z
UID:1178-1411039800-1411047000@zontanorthpugetsound.org
SUMMARY:September Program Meeting
DESCRIPTION:Marge Martin\, Executive Director of Victim Support Services will speak about services for crime victims and survivors of the OSO slide.
URL:https://zontanorthpugetsound.org/calendar-item/september-program-meeting
LOCATION:Everett Golf and Country Club\, 1500 52nd St SE\, Everett\, WA\, 98203\, United States
END:VEVENT
BEGIN:VEVENT
DTSTART;TZID=UTC:20140910T180000
DTEND;TZID=UTC:20140910T190000
DTSTAMP:20260423T221423
CREATED:20140807T023516Z
LAST-MODIFIED:20140903T073646Z
UID:1443-1410372000-1410375600@zontanorthpugetsound.org
SUMMARY:Auction Meeting
DESCRIPTION:All members are welcome to attend
URL:https://zontanorthpugetsound.org/calendar-item/auction-meeting
LOCATION:Erickson Furniture\, 2015 Broadway\, Everett\, 98201
END:VEVENT
BEGIN:VEVENT
DTSTART;TZID=UTC:20140904T073000
DTEND;TZID=UTC:20140904T090000
DTSTAMP:20260423T221423
CREATED:20140414T012943Z
LAST-MODIFIED:20140414T013005Z
UID:1176-1409815800-1409821200@zontanorthpugetsound.org
SUMMARY:September Business Meeting
DESCRIPTION:
URL:https://zontanorthpugetsound.org/calendar-item/september-business-meeting
LOCATION:Everett Golf and Country Club\, 1500 52nd St SE\, Everett\, WA\, 98203\, United States
END:VEVENT
BEGIN:VEVENT
DTSTART;TZID=UTC:20140824T110000
DTEND;TZID=UTC:20140824T150000
DTSTAMP:20260423T221423
CREATED:20140729T021435Z
LAST-MODIFIED:20140729T021435Z
UID:1409-1408878000-1408892400@zontanorthpugetsound.org
SUMMARY:The Retreat
DESCRIPTION:RSVP to Suzanne no later then August 10th.  Potluck so bring your favorite dish to share.
URL:https://zontanorthpugetsound.org/calendar-item/the-retreat
LOCATION:Suzanne Poppema’s
END:VEVENT
BEGIN:VEVENT
DTSTART;TZID=UTC:20140814T173000
DTEND;TZID=UTC:20140814T173000
DTSTAMP:20260423T221423
CREATED:20140729T021147Z
LAST-MODIFIED:20140729T021147Z
UID:1405-1408037400-1408037400@zontanorthpugetsound.org
SUMMARY:Annual Picnic
DESCRIPTION:Potluck\, bring your favorite dish to share.  RSVP to Judy no later then August 1st
URL:https://zontanorthpugetsound.org/calendar-item/annual-picnic
LOCATION:Home of Judy Gish\, 98270
END:VEVENT
BEGIN:VEVENT
DTSTART;TZID=UTC:20140722T170000
DTEND;TZID=UTC:20140722T200000
DTSTAMP:20260423T221423
CREATED:20140414T012507Z
LAST-MODIFIED:20140414T020303Z
UID:1170-1406048400-1406059200@zontanorthpugetsound.org
SUMMARY:Annual Pool Party
DESCRIPTION:The pool will be open so bring your swimsuit and towel if you want to swim and of course your favorite Pot Luck item
URL:https://zontanorthpugetsound.org/calendar-item/annual-pool-party
LOCATION:Pool Party\, 4200 84th ST NE #15\, Marysville\, 98270\, United States
END:VEVENT
END:VCALENDAR