BEGIN:VCALENDAR
VERSION:2.0
PRODID:-//Zonta Club of North Puget Sound WA- Aka Zonta Club of Everett - ECPv6.15.20//NONSGML v1.0//EN
CALSCALE:GREGORIAN
METHOD:PUBLISH
X-WR-CALNAME:Zonta Club of North Puget Sound WA- Aka Zonta Club of Everett
X-ORIGINAL-URL:https://zontanorthpugetsound.org
X-WR-CALDESC:Events for Zonta Club of North Puget Sound WA- Aka Zonta Club of Everett
REFRESH-INTERVAL;VALUE=DURATION:PT1H
X-Robots-Tag:noindex
X-PUBLISHED-TTL:PT1H
BEGIN:VTIMEZONE
TZID:America/Los_Angeles
BEGIN:DAYLIGHT
TZOFFSETFROM:-0800
TZOFFSETTO:-0700
TZNAME:PDT
DTSTART:20200308T100000
END:DAYLIGHT
BEGIN:STANDARD
TZOFFSETFROM:-0700
TZOFFSETTO:-0800
TZNAME:PST
DTSTART:20201101T090000
END:STANDARD
BEGIN:DAYLIGHT
TZOFFSETFROM:-0800
TZOFFSETTO:-0700
TZNAME:PDT
DTSTART:20210314T100000
END:DAYLIGHT
BEGIN:STANDARD
TZOFFSETFROM:-0700
TZOFFSETTO:-0800
TZNAME:PST
DTSTART:20211107T090000
END:STANDARD
BEGIN:DAYLIGHT
TZOFFSETFROM:-0800
TZOFFSETTO:-0700
TZNAME:PDT
DTSTART:20220313T100000
END:DAYLIGHT
BEGIN:STANDARD
TZOFFSETFROM:-0700
TZOFFSETTO:-0800
TZNAME:PST
DTSTART:20221106T090000
END:STANDARD
BEGIN:DAYLIGHT
TZOFFSETFROM:-0800
TZOFFSETTO:-0700
TZNAME:PDT
DTSTART:20230312T100000
END:DAYLIGHT
BEGIN:STANDARD
TZOFFSETFROM:-0700
TZOFFSETTO:-0800
TZNAME:PST
DTSTART:20231105T090000
END:STANDARD
END:VTIMEZONE
BEGIN:VEVENT
DTSTART;TZID=America/Los_Angeles:20221006T073000
DTEND;TZID=America/Los_Angeles:20221006T090000
DTSTAMP:20260423T103647
CREATED:20220915T160918Z
LAST-MODIFIED:20220915T160918Z
UID:8080-1665041400-1665046800@zontanorthpugetsound.org
SUMMARY:Business Meeting
DESCRIPTION:
URL:https://zontanorthpugetsound.org/calendar-item/business-meeting-49
LOCATION:Zoom
ATTACH;FMTTYPE=image/jpeg:https://zontanorthpugetsound.org/wp-content/uploads/2020/07/BUSINESS-e1597367074684.jpg
END:VEVENT
BEGIN:VEVENT
DTSTART;VALUE=DATE:20220908
DTEND;VALUE=DATE:20220909
DTSTAMP:20260423T103647
CREATED:20220727T165222Z
LAST-MODIFIED:20220817T060350Z
UID:7967-1662595200-1662681599@zontanorthpugetsound.org
SUMMARY:Lunafest 2022
DESCRIPTION:Please join us for Luna Fest 2022!\nThe Zonta Club of Everett is excited to again present Luna Fest: a festival of films made by women\, for women. We are offering the ability to enjoy them in your choice of comfort level: streaming at home or in person at The Edmonds Theater in beautiful downtown Edmonds! \nAll funds raised from ticket sales and sponsorships go directly to supporting women and girls in our community through scholarships and grants to local non-profits. \n[tx_button style=”default” text=”Buy Tickets” url=”https://lunafest.eventive.org/schedule/62e81798aba9400030054738″ color=”#1e73be” textcolor=”white” target=”blank”]\nIn Person Event: Edmonds Theater September 8\, 6pm-8:30pm\nWe are thrilled to be hosting an in-person screening at Edmonds Theater on September 8\, 2022. Doors open at 6pm. Tickets are $35 per person and include a glass of wine upon entry. Films will begin at 7pm sharp. The theater will have concessions for sale\, and we encourage taking full advantage of the snacks for purchase!Click here to purchase tickets to join us in person. \nVirtual Event:  At Your Place 48 hrs starting Sept 8 6pm.\nTickets are $35 each and you will be provided with a link at 6pm on September 8 to watch the films at your convenience. You will have 48 hours to watch the films upon clicking the link\, not just receiving it. The link will be live for 48 hours upon receiving. Click here to purchase virtual tickets. \nGive in Lieu of attending  \nIf you are unable to join us\, but would still like to contribute to support women and girls in our community\, we welcome regrets gifts here. \n\nTHIS YEAR’S FILM LINEUP\n\nThis year’s films challenge our perceptions about the world and our place in it\, spark conversations\, strengthen connections\, and inspire us to be better versions of ourselves. \nFilms feature bold individuals\, powerful images\, and impactful language. Stories reflect the diverse perspectives of the filmmakers and their subjects. Some may contain content that is not suitable for children. \nThe 2022 Season features eight short films with a total running time of 80 minutes. \n\n\n\n \nHow to Be at Home | Filmmaker: Andrea Dorfman (Halifax\, NS) \nAn animated poem about coping with isolation during the COVID-19 pandemic. \n \nClose Ties to Home Country | Filmmaker: Akanksha Cruczynski (Chicago\, IL) \nAn immigrant dog walker finds connection in the hearts of the wealthy pets she cares for. \n \nGeneration Impact: The Coder | Filmmaker: Samantha Knowles (Brooklyn\, NY) \nA 13-year-old girl designs and builds a mobile app to help kids stay connected to their incarcerated parents by sending photos and letters. \n \nProof of Loss | Filmmaker: Katherine Fisher (Los Angeles\, CA) \nWhen a fire takes their home\, a father and daughter must find a way to salvage what remains: each other. \n \nWhen You Clean a Stranger’s Home | Filmmaker: Sharon Arteaga (Austin\, TX) \nA first-generation high school student describes what she and her mom learn about people when cleaning their homes. \n \nBetween the Lines: Liz at Large | Filmmaker: Abi Cole (Weaverville\, NC) \nFrustrated with the lack of character diversity in The New Yorker’s cartoons\, an artist submits her own illustrations\, becoming the first Black woman cartoonist in the magazine’s near-century run. \n \nWearable Tracy | Filmmaker: Emily McAllister (Carnelian Bay\, CA) \nA Bronx woman’s accidental social experiment connects her with fellow New Yorkers who might otherwise forever remain strangers.  \n \nTo the Future\, with Love | Filmmakers: Shaleece Haas (Los Angeles\, CA) and Hunter “Pixel” Jimenez (Los Angeles\, CA) \nAn animated self-portrait of a nonbinary trans teen caught between the expectations of his Guatemalan immigrant family and his dreams of living happily ever after with his long-distance boyfriend. \nLearn more about our films and filmmakers at lunafest.org/filmmakers. \nYear:……………………..2022 \nRuntime:………………80 minutes \nLanguage:…………….English \nCountry:……………….United States \nRating:………………….13+ \n\n[tx_button style=”default” text=”Buy Tickets” url=”https://lunafest.eventive.org/schedule/62e81798aba9400030054738″ color=”#1e73be” textcolor=”white” target=”blank”]\n\nEdmonds Theater \n415 Main St \nEdmonds\, WA 98020 \nSeptember 8\, 2022\, 6:00 – 8:00 PM PDT \nGet directions 
URL:https://zontanorthpugetsound.org/calendar-item/lunafest-2022
LOCATION:edmonds theatre\, 415 Mail St.\, Edmonds\, WA\, 98020\, United States
CATEGORIES:Special Events
ATTACH;FMTTYPE=image/png:https://zontanorthpugetsound.org/wp-content/uploads/2022/08/Lunafest-invite-copy-e1660715709880.png
ORGANIZER;CN="Zonta Club of Everett Foundation":MAILTO:info@zontaeverett.org
END:VEVENT
BEGIN:VEVENT
DTSTART;TZID=America/Los_Angeles:20220829T080000
DTEND;TZID=America/Los_Angeles:20220829T090000
DTSTAMP:20260423T103647
CREATED:20220713T161024Z
LAST-MODIFIED:20220713T161024Z
UID:7952-1661760000-1661763600@zontanorthpugetsound.org
SUMMARY:Board Meeting
DESCRIPTION:
URL:https://zontanorthpugetsound.org/calendar-item/board-meeting-32
LOCATION:Zoom
ATTACH;FMTTYPE=image/jpeg:https://zontanorthpugetsound.org/wp-content/uploads/2020/07/BOARD-e1597367058740.jpg
END:VEVENT
BEGIN:VEVENT
DTSTART;TZID=America/Los_Angeles:20220818T113000
DTEND;TZID=America/Los_Angeles:20220818T130000
DTSTAMP:20260423T103647
CREATED:20220713T160733Z
LAST-MODIFIED:20220713T160733Z
UID:7950-1660822200-1660827600@zontanorthpugetsound.org
SUMMARY:Program Meeting
DESCRIPTION:Penny Davis\, Respectful Relationships Consulting\, LLC\nAttachment and The Brain: The Impact of Chronic Trauma \n \nThis presentation is a brief look at the attachment cycle (secure and insecure) between infants and primary caregivers\, the formation of brain structure that results and the effects of abuse\, neglect and/or chronic stress on the infant brain. It speaks directly to the relationship between women and their children and impacts the lives of girls (and boys) long term.   As Zontians we support many local agencies that serve women and their children\, many of whom have experienced chronic stress and trauma.  Understanding this material can help inform our work with this population.
URL:https://zontanorthpugetsound.org/calendar-item/program-meeting-29
LOCATION:Kindred Kitchen\, 3315 Broadway\, everett\, WA\, 98201\, United States
ATTACH;FMTTYPE=image/jpeg:https://zontanorthpugetsound.org/wp-content/uploads/2020/07/PROGRAM-e1597367089590.jpg
END:VEVENT
BEGIN:VEVENT
DTSTART;TZID=America/Los_Angeles:20220804T080000
DTEND;TZID=America/Los_Angeles:20220804T090000
DTSTAMP:20260423T103647
CREATED:20220713T160253Z
LAST-MODIFIED:20220713T160253Z
UID:7948-1659600000-1659603600@zontanorthpugetsound.org
SUMMARY:Business Meeting
DESCRIPTION:
URL:https://zontanorthpugetsound.org/calendar-item/business-meeting-48
LOCATION:Zoom
ATTACH;FMTTYPE=image/jpeg:https://zontanorthpugetsound.org/wp-content/uploads/2020/07/BUSINESS-e1597367074684.jpg
END:VEVENT
BEGIN:VEVENT
DTSTART;TZID=America/Los_Angeles:20220801T080000
DTEND;TZID=America/Los_Angeles:20220801T090000
DTSTAMP:20260423T103647
CREATED:20220622T152616Z
LAST-MODIFIED:20220622T152616Z
UID:7873-1659340800-1659344400@zontanorthpugetsound.org
SUMMARY:Board Meeting
DESCRIPTION:
URL:https://zontanorthpugetsound.org/calendar-item/board-meeting-31
LOCATION:Zoom
ATTACH;FMTTYPE=image/jpeg:https://zontanorthpugetsound.org/wp-content/uploads/2020/07/BOARD-e1597367058740.jpg
END:VEVENT
BEGIN:VEVENT
DTSTART;TZID=America/Los_Angeles:20220721T113000
DTEND;TZID=America/Los_Angeles:20220721T130000
DTSTAMP:20260423T103647
CREATED:20220622T152512Z
LAST-MODIFIED:20220713T154946Z
UID:7871-1658403000-1658408400@zontanorthpugetsound.org
SUMMARY:Program Meeting
DESCRIPTION:Victoria Trabosh will be presenting a fundraising training program  \n  \n“But what if they say no? 3 Secrets to Raising a lot of Money”
URL:https://zontanorthpugetsound.org/calendar-item/program-meeting-28
LOCATION:Zoom
ATTACH;FMTTYPE=image/jpeg:https://zontanorthpugetsound.org/wp-content/uploads/2020/07/PROGRAM-e1597367089590.jpg
END:VEVENT
BEGIN:VEVENT
DTSTART;TZID=America/Los_Angeles:20220707T080000
DTEND;TZID=America/Los_Angeles:20220707T090000
DTSTAMP:20260423T103647
CREATED:20220622T152323Z
LAST-MODIFIED:20220622T152323Z
UID:7869-1657180800-1657184400@zontanorthpugetsound.org
SUMMARY:Business Meeting
DESCRIPTION:
URL:https://zontanorthpugetsound.org/calendar-item/business-meeting-47
LOCATION:Zoom
ATTACH;FMTTYPE=image/jpeg:https://zontanorthpugetsound.org/wp-content/uploads/2020/07/BUSINESS-e1597367074684.jpg
END:VEVENT
BEGIN:VEVENT
DTSTART;TZID=America/Los_Angeles:20220625T080000
DTEND;TZID=America/Los_Angeles:20220628T170000
DTSTAMP:20260423T103647
CREATED:20220504T164110Z
LAST-MODIFIED:20220504T164219Z
UID:7500-1656144000-1656435600@zontanorthpugetsound.org
SUMMARY:Zonta International Convention
DESCRIPTION:
URL:https://zontanorthpugetsound.org/calendar-item/zonta-international-convention
CATEGORIES:Convention or Conference
ORGANIZER;CN="Zonta International":MAILTO:convention@zonta.org
END:VEVENT
BEGIN:VEVENT
DTSTART;TZID=America/Los_Angeles:20220623T163000
DTEND;TZID=America/Los_Angeles:20220624T193000
DTSTAMP:20260423T103647
CREATED:20220330T173024Z
LAST-MODIFIED:20220518T160940Z
UID:7413-1656001800-1656099000@zontanorthpugetsound.org
SUMMARY:Fashion\, Flowers\, Food\, Fun and Fermented Fruit
DESCRIPTION:Fashion\, Flowers\, Food\, Fun and Fermented Fruit! \nJoin us for a unique social Fundraising get-together. \nPick the date that works best for you — or attend both. \nWe can promise you a night of great fun with such worthwhile purpose supporting our foundation and the women and girls of our communities. \nJune 23rd and/or 24th 2022 4:30 PM to 7:30 PM OPEN HOUSE \nRucker Hill area of Everett (exact address to be emailed with ticket purchase\, check your spam folder) \nExplore the fashion sense and style of a former Zonta fashionista and her gently used wardrobe. There will be a large variety of clothes and accessories available for purchase to add to your collection. Also included is a garden tour\, nibbles\, and a glass of fermented fruit (aka wine). \nTickets $25   Benefits the Zonta Club of Everett Foundation to Build a Better World for Women and Girls \n	\n		\n		\n			\n		\n		\n			Fashion\, Flowers\, Food\, Fun and Fermented Fruit\n		\n		\n		\n		\n		Join us for a unique social fundraising get-together.\nPick the date that works best for you -- or attend both. We can promise you a night of great fun with such worthwhile purpose supporting our foundation and the women and girls of our communities. \nJune 23rd and/or 24th 2022 4:30 PM to 7:30 PM  Open House \n \n\n		\n		\n		  \n		\n		\n		\n		Processing ... DonateStripe Payments requires Javascript to be supported by the browser in order to operate.\n		\n	\n	 \nPick the date that works best for you – or attend both – Thursday\, June 23 or Friday\, June 24\, 4:30 to 7:30 (although times could adjust slightly).  Open House format.  
URL:https://zontanorthpugetsound.org/calendar-item/food-flowers-fashion
CATEGORIES:Special Events
ATTACH;FMTTYPE=image/png:https://zontanorthpugetsound.org/wp-content/uploads/2022/05/Copy-of-Fashion-Flowers-Food-Fun-Fermented-Fruit-e1651680458547.png
ORGANIZER;CN="Zonta Club of Everett Foundation":MAILTO:info@zontaeverett.org
END:VEVENT
BEGIN:VEVENT
DTSTART;TZID=America/Los_Angeles:20220616T113000
DTEND;TZID=America/Los_Angeles:20220616T130000
DTSTAMP:20260423T103647
CREATED:20220518T155130Z
LAST-MODIFIED:20220614T050657Z
UID:7550-1655379000-1655384400@zontanorthpugetsound.org
SUMMARY:POSTPONED Program- Will occur at a later date. Chronic Trauma and the Brain
DESCRIPTION:This Thursday’s Program meeting with Penny Davis will be postponed due to illness.  We will do our best to reschedule. \nAttachment and The Brain: The Impact of Chronic Trauma\nProgram – Penny Davis\, Respectful Relationships Consulting\, LLC \n 
URL:https://zontanorthpugetsound.org/calendar-item/program-penny-davis
LOCATION:Kindred Kitchen\, 3315 Broadway\, everett\, WA\, 98201\, United States
CATEGORIES:Program Meetings
ATTACH;FMTTYPE=image/jpeg:https://zontanorthpugetsound.org/wp-content/uploads/2020/07/PROGRAM-e1597367089590.jpg
END:VEVENT
BEGIN:VEVENT
DTSTART;TZID=America/Los_Angeles:20220602T080000
DTEND;TZID=America/Los_Angeles:20220602T090000
DTSTAMP:20260423T103647
CREATED:20220518T155330Z
LAST-MODIFIED:20220518T155330Z
UID:7553-1654156800-1654160400@zontanorthpugetsound.org
SUMMARY:Business Meeting
DESCRIPTION:
URL:https://zontanorthpugetsound.org/calendar-item/business-meeting-46
LOCATION:Zoom
CATEGORIES:Business Meetings
ATTACH;FMTTYPE=image/jpeg:https://zontanorthpugetsound.org/wp-content/uploads/2020/07/BUSINESS-e1597367074684.jpg
END:VEVENT
BEGIN:VEVENT
DTSTART;TZID=America/Los_Angeles:20220519T113000
DTEND;TZID=America/Los_Angeles:20220519T130000
DTSTAMP:20260423T103647
CREATED:20220504T165438Z
LAST-MODIFIED:20220504T165601Z
UID:7507-1652959800-1652965200@zontanorthpugetsound.org
SUMMARY:American Democracy’s Indigenous Roots and Future- Humanities WA
DESCRIPTION:You’re invited and Bring a Friend! \nMay Program meeting (Virtual) is Fern Renville\, Native American Storyteller: American Democracy’s Indigenous Roots and Future\nPresented by Humanities Washington \n\nHistory books teach us that the Founding Fathers birthed American democracy\, but do not reveal the Indigenous sources of inspiration that guided their vision. The Haudenosaunee Confederacy’s Great Law of Peace—uniting six Nations in an alliance that predates the American Constitution by centuries \nPlease join us on May 19 at 11:30 via Zoom – Check your Zontagram for the zoom link\, or email info@zontaeverett.org for an invitation. \nMore info on the talk at https://www.humanities.org/speaker/fern-renville/
URL:https://zontanorthpugetsound.org/calendar-item/american-democracys-indigenous-roots-and-future-humanities-wa
LOCATION:Zoom
CATEGORIES:Program Meetings
ATTACH;FMTTYPE=image/png:https://zontanorthpugetsound.org/wp-content/uploads/2022/05/Screen-Shot-2022-04-27-at-9.20.52-AM.png
END:VEVENT
BEGIN:VEVENT
DTSTART;TZID=America/Los_Angeles:20220505T080000
DTEND;TZID=America/Los_Angeles:20220505T090000
DTSTAMP:20260423T103647
CREATED:20220504T192755Z
LAST-MODIFIED:20220504T192755Z
UID:7514-1651737600-1651741200@zontanorthpugetsound.org
SUMMARY:Business meeting
DESCRIPTION:
URL:https://zontanorthpugetsound.org/calendar-item/business-meeting-45
LOCATION:Zoom
CATEGORIES:Business Meetings
ATTACH;FMTTYPE=image/jpeg:https://zontanorthpugetsound.org/wp-content/uploads/2020/07/BUSINESS-e1597367074684.jpg
END:VEVENT
BEGIN:VEVENT
DTSTART;TZID=America/Los_Angeles:20220423T080000
DTEND;TZID=America/Los_Angeles:20220423T170000
DTSTAMP:20260423T103647
CREATED:20220218T202240Z
LAST-MODIFIED:20220218T202240Z
UID:7304-1650700800-1650733200@zontanorthpugetsound.org
SUMMARY:Virtual All Area Workshop
DESCRIPTION:– save the DATE SAT April 23rd\,
URL:https://zontanorthpugetsound.org/calendar-item/virtual-all-area-workshop
LOCATION:Virtual e-Conference
CATEGORIES:Business Meetings
END:VEVENT
BEGIN:VEVENT
DTSTART;TZID=America/Los_Angeles:20220421T113000
DTEND;TZID=America/Los_Angeles:20220421T130000
DTSTAMP:20260423T103647
CREATED:20220330T170136Z
LAST-MODIFIED:20220330T170136Z
UID:7402-1650540600-1650546000@zontanorthpugetsound.org
SUMMARY:Program Meeting
DESCRIPTION:
URL:https://zontanorthpugetsound.org/calendar-item/program-meeting-27
LOCATION:Virtual e-Conference
ATTACH;FMTTYPE=image/jpeg:https://zontanorthpugetsound.org/wp-content/uploads/2020/07/PROGRAM-e1597367089590.jpg
END:VEVENT
BEGIN:VEVENT
DTSTART;TZID=America/Los_Angeles:20220407T080000
DTEND;TZID=America/Los_Angeles:20220407T093000
DTSTAMP:20260423T103647
CREATED:20220330T165936Z
LAST-MODIFIED:20220330T165936Z
UID:7398-1649318400-1649323800@zontanorthpugetsound.org
SUMMARY:Business Meeting
DESCRIPTION:
URL:https://zontanorthpugetsound.org/calendar-item/business-meeting-44
LOCATION:Virtual e-Conference
ATTACH;FMTTYPE=image/jpeg:https://zontanorthpugetsound.org/wp-content/uploads/2020/07/BUSINESS-e1597367074684.jpg
END:VEVENT
BEGIN:VEVENT
DTSTART;TZID=America/Los_Angeles:20220404T081500
DTEND;TZID=America/Los_Angeles:20220404T090000
DTSTAMP:20260423T103647
CREATED:20220330T170030Z
LAST-MODIFIED:20220330T170030Z
UID:7400-1649060100-1649062800@zontanorthpugetsound.org
SUMMARY:Board Meeting
DESCRIPTION:
URL:https://zontanorthpugetsound.org/calendar-item/board-meeting-30
LOCATION:Virtual e-Conference
ATTACH;FMTTYPE=image/jpeg:https://zontanorthpugetsound.org/wp-content/uploads/2020/07/BOARD-e1597367058740.jpg
END:VEVENT
BEGIN:VEVENT
DTSTART;TZID=America/Los_Angeles:20220312T173000
DTEND;TZID=America/Los_Angeles:20220312T210000
DTSTAMP:20260423T103647
CREATED:20210330T200412Z
LAST-MODIFIED:20220218T200627Z
UID:7029-1647106200-1647118800@zontanorthpugetsound.org
SUMMARY:Greater Heights Virtual Fundraiser
DESCRIPTION:
URL:https://zontanorthpugetsound.org/calendar-item/annual-gala-fundraiser
LOCATION:Everett Golf and Country Club\, 1500 52nd St SE\, Everett\, WA\, 98203\, United States
CATEGORIES:Special Events
ATTACH;FMTTYPE=image/jpeg:https://zontanorthpugetsound.org/wp-content/uploads/2020/10/gala-dancing-scaled.jpeg
ORGANIZER;CN="Zonta Club of Everett Foundation":MAILTO:info@zontaeverett.org
END:VEVENT
BEGIN:VEVENT
DTSTART;TZID=America/Los_Angeles:20220131T081500
DTEND;TZID=America/Los_Angeles:20220131T213000
DTSTAMP:20260423T103647
CREATED:20211229T185123Z
LAST-MODIFIED:20211229T185123Z
UID:7152-1643616900-1643664600@zontanorthpugetsound.org
SUMMARY:Board Meeting
DESCRIPTION:
URL:https://zontanorthpugetsound.org/calendar-item/board-meeting-29
LOCATION:online\, Everett\, WA\, 98201\, United States
ATTACH;FMTTYPE=image/jpeg:https://zontanorthpugetsound.org/wp-content/uploads/2020/07/BOARD-e1597367058740.jpg
END:VEVENT
BEGIN:VEVENT
DTSTART;TZID=America/Los_Angeles:20220113T113000
DTEND;TZID=America/Los_Angeles:20220113T130000
DTSTAMP:20260423T103647
CREATED:20211130T210050Z
LAST-MODIFIED:20211130T210050Z
UID:7027-1642073400-1642078800@zontanorthpugetsound.org
SUMMARY:January Program meeting featuring  Ya-Han Brownlee-Chen
DESCRIPTION:January Program meeting featuring \nYa-Han Brownlee-Chen
URL:https://zontanorthpugetsound.org/calendar-item/january-program-meeting-featuring-ya-han-brownlee-chen
ATTACH;FMTTYPE=image/jpeg:https://zontanorthpugetsound.org/wp-content/uploads/2020/07/PROGRAM-e1597367089590.jpg
END:VEVENT
BEGIN:VEVENT
DTSTART;TZID=America/Los_Angeles:20220106T080000
DTEND;TZID=America/Los_Angeles:20220106T093000
DTSTAMP:20260423T103647
CREATED:20211229T185303Z
LAST-MODIFIED:20211229T185303Z
UID:7154-1641456000-1641461400@zontanorthpugetsound.org
SUMMARY:Business Meeting
DESCRIPTION:
URL:https://zontanorthpugetsound.org/calendar-item/business-meeting-43
ATTACH;FMTTYPE=image/jpeg:https://zontanorthpugetsound.org/wp-content/uploads/2020/07/BUSINESS-e1597367074684.jpg
END:VEVENT
BEGIN:VEVENT
DTSTART;TZID=America/Los_Angeles:20211216T113000
DTEND;TZID=America/Los_Angeles:20211216T130000
DTSTAMP:20260423T103647
CREATED:20211027T154520Z
LAST-MODIFIED:20211129T040827Z
UID:6927-1639654200-1639659600@zontanorthpugetsound.org
SUMMARY:Holiday Auction + Celebration (In Person)
DESCRIPTION:HOLIDAY AUCTION  –\nSave the Date!  DEC 16th 11:30-1 pm\nEverett Golf and Country Club\nYou are invited to our Holiday Auction to be held in person this year!!   \nThe date is December 16 from 11:30 to 1:00.  Mark your calendar for a fun filled\, holiday luncheon and gift auction. \nWhat fabulous gift will you take home this year? \nTickets HERE $50 (Benefit for the Zonta Club of Everett Foundation helping Women) \n[tx_button style=”default” text=”Tickets” url=”https://zontaeverett.ejoinme.org/holidayauction” color=”#9b2723″ textcolor=”white” target=”blank”] \n  (Proof of vaccination required. )  \n 
URL:https://zontanorthpugetsound.org/calendar-item/holiday-auction-celebration-in-person
LOCATION:Everett Golf and Country Club\, 1500 52nd St SE\, Everett\, WA\, 98203\, United States
CATEGORIES:Special Events
ATTACH;FMTTYPE=image/png:https://zontanorthpugetsound.org/wp-content/uploads/2021/11/holiday-auction-e1638158823892.png
ORGANIZER;CN="Zonta Club of Everett Foundation":MAILTO:info@zontaeverett.org
END:VEVENT
BEGIN:VEVENT
DTSTART;TZID=America/Los_Angeles:20211118T113000
DTEND;TZID=America/Los_Angeles:20211118T130000
DTSTAMP:20260423T103647
CREATED:20210908T153559Z
LAST-MODIFIED:20210908T153559Z
UID:6897-1637235000-1637240400@zontanorthpugetsound.org
SUMMARY:Founder's Day
DESCRIPTION:Honoring a Member for contributions to Zonta and our Mission.
URL:https://zontanorthpugetsound.org/calendar-item/founders-day
ATTACH;FMTTYPE=image/jpeg:https://zontanorthpugetsound.org/wp-content/uploads/2020/07/PROGRAM-e1597367089590.jpg
END:VEVENT
BEGIN:VEVENT
DTSTART;TZID=America/Los_Angeles:20211019T173000
DTEND;TZID=America/Los_Angeles:20211019T190000
DTSTAMP:20260423T103647
CREATED:20210908T153332Z
LAST-MODIFIED:20210908T153332Z
UID:6895-1634664600-1634670000@zontanorthpugetsound.org
SUMMARY:Zocial on Zoom
DESCRIPTION:Recap of Conference – Discussion
URL:https://zontanorthpugetsound.org/calendar-item/zocial-on-zoom
ATTACH;FMTTYPE=image/jpeg:https://zontanorthpugetsound.org/wp-content/uploads/2020/07/Zocial-e1597367035215.jpg
END:VEVENT
BEGIN:VEVENT
DTSTART;TZID=America/Los_Angeles:20211015T090000
DTEND;TZID=America/Los_Angeles:20211016T180000
DTSTAMP:20260423T103647
CREATED:20210830T180056Z
LAST-MODIFIED:20210830T180056Z
UID:6885-1634288400-1634407200@zontanorthpugetsound.org
SUMMARY:District 8 Conference
DESCRIPTION:We invite all members of District 8 and guests to join us at our Electronic Conference\, Transitions\, Changes and New Opportunities\,  Hosted by Zonta Club of Pocatello\, with help from the Zonta Club of Blackfoot! \n  \nhttps://secureservercdn.net/198.71.233.38/492.532.myftpupload.com/wp-content/uploads/2021/08/Zonta-District-8-2021-Call-to-Conference-FINAL.pdf
URL:https://zontanorthpugetsound.org/calendar-item/district-8-conference-2
ATTACH;FMTTYPE=image/png:https://zontanorthpugetsound.org/wp-content/uploads/2021/08/2021-D8-conference.png
END:VEVENT
BEGIN:VEVENT
DTSTART;TZID=America/Los_Angeles:20211004T081500
DTEND;TZID=America/Los_Angeles:20211004T090000
DTSTAMP:20260423T103647
CREATED:20210830T173030Z
LAST-MODIFIED:20210830T173030Z
UID:6881-1633335300-1633338000@zontanorthpugetsound.org
SUMMARY:Board Meeting
DESCRIPTION:
URL:https://zontanorthpugetsound.org/calendar-item/board-meeting-28
LOCATION:Virtual e-Conference
ATTACH;FMTTYPE=image/jpeg:https://zontanorthpugetsound.org/wp-content/uploads/2020/07/BOARD-e1597367058740.jpg
END:VEVENT
BEGIN:VEVENT
DTSTART;TZID=America/Los_Angeles:20210924T183000
DTEND;TZID=America/Los_Angeles:20210926T183000
DTSTAMP:20260423T103647
CREATED:20210326T200420Z
LAST-MODIFIED:20210908T154933Z
UID:6413-1632508200-1632681000@zontanorthpugetsound.org
SUMMARY:Lunafest
DESCRIPTION:LUNAFEST  —  Fundraiser  \n \nThank You to our Sponsors \n \nLamoureux Real Estate \nMerrill-Lynch Wealth Management\, The Sabiers Brayton Wealth Management Group
URL:https://zontanorthpugetsound.org/calendar-item/6413
LOCATION:online\, Everett\, WA\, 98201\, United States
CATEGORIES:Special Events
ATTACH;FMTTYPE=image/jpeg:https://zontanorthpugetsound.org/wp-content/uploads/2020/07/LunaFest_logo_3c-1.jpg
ORGANIZER;CN="Zonta Club of Everett Foundation":MAILTO:info@zontaeverett.org
END:VEVENT
BEGIN:VEVENT
DTSTART;TZID=America/Los_Angeles:20210917T090000
DTEND;TZID=America/Los_Angeles:20210917T130000
DTSTAMP:20260423T103647
CREATED:20210826T192439Z
LAST-MODIFIED:20210826T192439Z
UID:6877-1631869200-1631883600@zontanorthpugetsound.org
SUMMARY:Strategic Retreat
DESCRIPTION:
URL:https://zontanorthpugetsound.org/calendar-item/strategic-retreat
ATTACH;FMTTYPE=image/jpeg:https://zontanorthpugetsound.org/wp-content/uploads/2020/08/RETREAT.jpg
END:VEVENT
BEGIN:VEVENT
DTSTART;TZID=America/Los_Angeles:20210820T170000
DTEND;TZID=America/Los_Angeles:20210820T213000
DTSTAMP:20260423T103647
CREATED:20210707T182402Z
LAST-MODIFIED:20210707T182402Z
UID:6839-1629478800-1629495000@zontanorthpugetsound.org
SUMMARY:DVS Snoco Chocolate and wine lovers Gala Auction
DESCRIPTION:  \nhttps://dvs-snoco.maestroweb.com
URL:https://zontanorthpugetsound.org/calendar-item/dvs-snoco-chocolate-and-wine-lovers-gala-auction
LOCATION:tulalip resort casino\, 10200 Quilceda Blvd\, Tulalip\, WA\, 98271\, United States
ATTACH;FMTTYPE=image/gif:https://zontanorthpugetsound.org/wp-content/uploads/2021/07/logo_1002.gif.ashx_.gif
END:VEVENT
END:VCALENDAR