BEGIN:VCALENDAR
VERSION:2.0
PRODID:-//Zonta Club of North Puget Sound WA- Aka Zonta Club of Everett - ECPv6.15.20//NONSGML v1.0//EN
CALSCALE:GREGORIAN
METHOD:PUBLISH
X-WR-CALNAME:Zonta Club of North Puget Sound WA- Aka Zonta Club of Everett
X-ORIGINAL-URL:https://zontanorthpugetsound.org
X-WR-CALDESC:Events for Zonta Club of North Puget Sound WA- Aka Zonta Club of Everett
REFRESH-INTERVAL;VALUE=DURATION:PT1H
X-Robots-Tag:noindex
X-PUBLISHED-TTL:PT1H
BEGIN:VTIMEZONE
TZID:America/Los_Angeles
BEGIN:DAYLIGHT
TZOFFSETFROM:-0800
TZOFFSETTO:-0700
TZNAME:PDT
DTSTART:20190310T100000
END:DAYLIGHT
BEGIN:STANDARD
TZOFFSETFROM:-0700
TZOFFSETTO:-0800
TZNAME:PST
DTSTART:20191103T090000
END:STANDARD
BEGIN:DAYLIGHT
TZOFFSETFROM:-0800
TZOFFSETTO:-0700
TZNAME:PDT
DTSTART:20200308T100000
END:DAYLIGHT
BEGIN:STANDARD
TZOFFSETFROM:-0700
TZOFFSETTO:-0800
TZNAME:PST
DTSTART:20201101T090000
END:STANDARD
BEGIN:DAYLIGHT
TZOFFSETFROM:-0800
TZOFFSETTO:-0700
TZNAME:PDT
DTSTART:20210314T100000
END:DAYLIGHT
BEGIN:STANDARD
TZOFFSETFROM:-0700
TZOFFSETTO:-0800
TZNAME:PST
DTSTART:20211107T090000
END:STANDARD
BEGIN:DAYLIGHT
TZOFFSETFROM:-0800
TZOFFSETTO:-0700
TZNAME:PDT
DTSTART:20220313T100000
END:DAYLIGHT
BEGIN:STANDARD
TZOFFSETFROM:-0700
TZOFFSETTO:-0800
TZNAME:PST
DTSTART:20221106T090000
END:STANDARD
END:VTIMEZONE
BEGIN:VTIMEZONE
TZID:UTC
BEGIN:STANDARD
TZOFFSETFROM:+0000
TZOFFSETTO:+0000
TZNAME:UTC
DTSTART:20190101T000000
END:STANDARD
END:VTIMEZONE
BEGIN:VEVENT
DTSTART;TZID=America/Los_Angeles:20210511T173000
DTEND;TZID=America/Los_Angeles:20210511T190000
DTSTAMP:20260423T163534
CREATED:20210501T184654Z
LAST-MODIFIED:20210501T184654Z
UID:6695-1620754200-1620759600@zontanorthpugetsound.org
SUMMARY:Zocial
DESCRIPTION:
URL:https://zontanorthpugetsound.org/calendar-item/zocial-24
LOCATION:Virtual e-Conference
ATTACH;FMTTYPE=image/jpeg:https://zontanorthpugetsound.org/wp-content/uploads/2020/07/Zocial-e1597367035215.jpg
END:VEVENT
BEGIN:VEVENT
DTSTART;TZID=America/Los_Angeles:20210506T073000
DTEND;TZID=America/Los_Angeles:20210506T090000
DTSTAMP:20260423T163534
CREATED:20210108T212129Z
LAST-MODIFIED:20210114T162420Z
UID:6013-1620286200-1620291600@zontanorthpugetsound.org
SUMMARY:Business Meeting
DESCRIPTION:
URL:https://zontanorthpugetsound.org/calendar-item/business-meeting-38
LOCATION:Virtual e-Conference
ATTACH;FMTTYPE=image/jpeg:https://zontanorthpugetsound.org/wp-content/uploads/2020/07/BUSINESS-e1597367074684.jpg
END:VEVENT
BEGIN:VEVENT
DTSTART;TZID=America/Los_Angeles:20210503T081500
DTEND;TZID=America/Los_Angeles:20210503T093000
DTSTAMP:20260423T163534
CREATED:20210501T184925Z
LAST-MODIFIED:20210501T184925Z
UID:6699-1620029700-1620034200@zontanorthpugetsound.org
SUMMARY:Board Meeting
DESCRIPTION:
URL:https://zontanorthpugetsound.org/calendar-item/board-meeting-25
LOCATION:Virtual e-Conference
ATTACH;FMTTYPE=image/jpeg:https://zontanorthpugetsound.org/wp-content/uploads/2020/07/BOARD-e1597367058740.jpg
END:VEVENT
BEGIN:VEVENT
DTSTART;TZID=America/Los_Angeles:20210422T183000
DTEND;TZID=America/Los_Angeles:20210422T200000
DTSTAMP:20260423T163534
CREATED:20210213T183235Z
LAST-MODIFIED:20210406T151401Z
UID:6291-1619116200-1619121600@zontanorthpugetsound.org
SUMMARY:Annual Gala -Hope Springs Forward
DESCRIPTION:
URL:https://zontanorthpugetsound.org/calendar-item/annual-gala-2
LOCATION:Virtual e-Conference
CATEGORIES:Special Events
ATTACH;FMTTYPE=image/jpeg:https://zontanorthpugetsound.org/wp-content/uploads/2021/02/FUNDRAISING-EVENT.jpg
ORGANIZER;CN="Zonta Club of Everett Foundation":MAILTO:info@zontaeverett.org
END:VEVENT
BEGIN:VEVENT
DTSTART;TZID=America/Los_Angeles:20210415T080000
DTEND;TZID=America/Los_Angeles:20210422T183000
DTSTAMP:20260423T163534
CREATED:20210330T175203Z
LAST-MODIFIED:20210405T235248Z
UID:6492-1618473600-1619116200@zontanorthpugetsound.org
SUMMARY:Gala --- Silent Auction
DESCRIPTION:2021 Gala Silent Auction Begins
URL:https://zontanorthpugetsound.org/calendar-item/gala-silent-auction
END:VEVENT
BEGIN:VEVENT
DTSTART;TZID=America/Los_Angeles:20210401T073000
DTEND;TZID=America/Los_Angeles:20210401T090000
DTSTAMP:20260423T163534
CREATED:20210108T211947Z
LAST-MODIFIED:20210108T211947Z
UID:6011-1617262200-1617267600@zontanorthpugetsound.org
SUMMARY:Business Meeting
DESCRIPTION:
URL:https://zontanorthpugetsound.org/calendar-item/business-meeting-41
LOCATION:Virtual e-Conference
ATTACH;FMTTYPE=image/jpeg:https://zontanorthpugetsound.org/wp-content/uploads/2020/07/BUSINESS-e1597367074684.jpg
END:VEVENT
BEGIN:VEVENT
DTSTART;TZID=America/Los_Angeles:20210318T113000
DTEND;TZID=America/Los_Angeles:20210318T130000
DTSTAMP:20260423T163534
CREATED:20210108T211810Z
LAST-MODIFIED:20210108T211810Z
UID:6009-1616067000-1616072400@zontanorthpugetsound.org
SUMMARY:Program Meeting
DESCRIPTION:
URL:https://zontanorthpugetsound.org/calendar-item/program-meeting-24
LOCATION:Virtual e-Conference
ATTACH;FMTTYPE=image/jpeg:https://zontanorthpugetsound.org/wp-content/uploads/2020/07/PROGRAM-e1597367089590.jpg
END:VEVENT
BEGIN:VEVENT
DTSTART;TZID=America/Los_Angeles:20210309T173000
DTEND;TZID=America/Los_Angeles:20210309T190000
DTSTAMP:20260423T163534
CREATED:20210202T221700Z
LAST-MODIFIED:20210202T221700Z
UID:6212-1615311000-1615316400@zontanorthpugetsound.org
SUMMARY:Zocial
DESCRIPTION:
URL:https://zontanorthpugetsound.org/calendar-item/zocial-23
LOCATION:Virtual e-Conference
ATTACH;FMTTYPE=image/jpeg:https://zontanorthpugetsound.org/wp-content/uploads/2020/07/Zocial-e1597367035215.jpg
END:VEVENT
BEGIN:VEVENT
DTSTART;TZID=America/Los_Angeles:20210304T073000
DTEND;TZID=America/Los_Angeles:20210304T090000
DTSTAMP:20260423T163534
CREATED:20210108T211710Z
LAST-MODIFIED:20210108T211710Z
UID:6007-1614843000-1614848400@zontanorthpugetsound.org
SUMMARY:Business Meeting
DESCRIPTION:
URL:https://zontanorthpugetsound.org/calendar-item/business-meeting-40
LOCATION:Virtual e-Conference
ATTACH;FMTTYPE=image/jpeg:https://zontanorthpugetsound.org/wp-content/uploads/2020/07/BUSINESS-e1597367074684.jpg
END:VEVENT
BEGIN:VEVENT
DTSTART;TZID=America/Los_Angeles:20210223T113000
DTEND;TZID=America/Los_Angeles:20210223T130000
DTSTAMP:20260423T163534
CREATED:20210202T221516Z
LAST-MODIFIED:20210202T221516Z
UID:6210-1614079800-1614085200@zontanorthpugetsound.org
SUMMARY:Zocial
DESCRIPTION:
URL:https://zontanorthpugetsound.org/calendar-item/zocial-22
LOCATION:Virtual e-Conference
ATTACH;FMTTYPE=image/jpeg:https://zontanorthpugetsound.org/wp-content/uploads/2020/07/Zocial-e1597367035215.jpg
END:VEVENT
BEGIN:VEVENT
DTSTART;TZID=America/Los_Angeles:20210218T113000
DTEND;TZID=America/Los_Angeles:20210218T130000
DTSTAMP:20260423T163534
CREATED:20210108T211555Z
LAST-MODIFIED:20210108T211555Z
UID:6005-1613647800-1613653200@zontanorthpugetsound.org
SUMMARY:Program Meeting
DESCRIPTION:
URL:https://zontanorthpugetsound.org/calendar-item/program-meeting-23
LOCATION:Virtual e-Conference
ATTACH;FMTTYPE=image/jpeg:https://zontanorthpugetsound.org/wp-content/uploads/2020/07/PROGRAM-e1597367089590.jpg
END:VEVENT
BEGIN:VEVENT
DTSTART;TZID=America/Los_Angeles:20210209T173000
DTEND;TZID=America/Los_Angeles:20210209T190000
DTSTAMP:20260423T163534
CREATED:20210202T221327Z
LAST-MODIFIED:20210202T221327Z
UID:6208-1612891800-1612897200@zontanorthpugetsound.org
SUMMARY:Zocial
DESCRIPTION:
URL:https://zontanorthpugetsound.org/calendar-item/zocial-21
LOCATION:Virtual e-Conference
ATTACH;FMTTYPE=image/jpeg:https://zontanorthpugetsound.org/wp-content/uploads/2020/07/Zocial-e1597367035215.jpg
END:VEVENT
BEGIN:VEVENT
DTSTART;TZID=America/Los_Angeles:20210204T073000
DTEND;TZID=America/Los_Angeles:20210204T090000
DTSTAMP:20260423T163534
CREATED:20210104T204219Z
LAST-MODIFIED:20210104T204219Z
UID:5993-1612423800-1612429200@zontanorthpugetsound.org
SUMMARY:Business Meeting
DESCRIPTION:
URL:https://zontanorthpugetsound.org/calendar-item/business-meeting
LOCATION:Virtual e-Conference
ATTACH;FMTTYPE=image/jpeg:https://zontanorthpugetsound.org/wp-content/uploads/2020/07/BUSINESS-e1597367074684.jpg
END:VEVENT
BEGIN:VEVENT
DTSTART;TZID=America/Los_Angeles:20210201T081500
DTEND;TZID=America/Los_Angeles:20210201T090000
DTSTAMP:20260423T163534
CREATED:20210104T204054Z
LAST-MODIFIED:20210104T204054Z
UID:5991-1612167300-1612170000@zontanorthpugetsound.org
SUMMARY:Board Meeting
DESCRIPTION:
URL:https://zontanorthpugetsound.org/calendar-item/board-meeting-24
LOCATION:Virtual e-Conference
ATTACH;FMTTYPE=image/jpeg:https://zontanorthpugetsound.org/wp-content/uploads/2020/07/BOARD-e1597367058740.jpg
END:VEVENT
BEGIN:VEVENT
DTSTART;TZID=UTC:20210126T113000
DTEND;TZID=UTC:20210126T130000
DTSTAMP:20260423T163534
CREATED:20201108T054336Z
LAST-MODIFIED:20210104T202947Z
UID:5726-1611660600-1611666000@zontanorthpugetsound.org
SUMMARY:Zocial
DESCRIPTION:Everett Social Hour Join Zoom Meeting
URL:https://zontanorthpugetsound.org/calendar-item/zocial-20
ATTACH;FMTTYPE=image/jpeg:https://zontanorthpugetsound.org/wp-content/uploads/2020/07/Zocial-e1597367035215.jpg
END:VEVENT
BEGIN:VEVENT
DTSTART;TZID=America/Los_Angeles:20210121T113000
DTEND;TZID=America/Los_Angeles:20210121T130000
DTSTAMP:20260423T163534
CREATED:20210104T203538Z
LAST-MODIFIED:20210104T203538Z
UID:5989-1611228600-1611234000@zontanorthpugetsound.org
SUMMARY:Program Meeting
DESCRIPTION:
URL:https://zontanorthpugetsound.org/calendar-item/program-meeting
LOCATION:Virtual e-Conference
ATTACH;FMTTYPE=image/jpeg:https://zontanorthpugetsound.org/wp-content/uploads/2020/07/PROGRAM-e1597367089590.jpg
END:VEVENT
BEGIN:VEVENT
DTSTART;TZID=UTC:20210112T173000
DTEND;TZID=UTC:20210112T190000
DTSTAMP:20260423T163534
CREATED:20201108T054032Z
LAST-MODIFIED:20210104T201556Z
UID:5723-1610472600-1610478000@zontanorthpugetsound.org
SUMMARY:Zocial
DESCRIPTION:Everett Social Hour Join Zoom Meeting
URL:https://zontanorthpugetsound.org/calendar-item/zocial-19
LOCATION:Virtual e-Conference
ATTACH;FMTTYPE=image/jpeg:https://zontanorthpugetsound.org/wp-content/uploads/2020/07/Zocial-e1597367035215.jpg
END:VEVENT
BEGIN:VEVENT
DTSTART;TZID=America/Los_Angeles:20210107T073000
DTEND;TZID=America/Los_Angeles:20210107T090000
DTSTAMP:20260423T163534
CREATED:20210104T204541Z
LAST-MODIFIED:20210104T204541Z
UID:5986-1610004600-1610010000@zontanorthpugetsound.org
SUMMARY:Business Meeting
DESCRIPTION:
URL:https://zontanorthpugetsound.org/calendar-item/business-meeting-39
LOCATION:Virtual e-Conference
ATTACH;FMTTYPE=image/jpeg:https://zontanorthpugetsound.org/wp-content/uploads/2020/07/BUSINESS-e1597367074684.jpg
END:VEVENT
BEGIN:VEVENT
DTSTART;TZID=UTC:20201228T081500
DTEND;TZID=UTC:20201228T093000
DTSTAMP:20260423T163534
CREATED:20200720T221959Z
LAST-MODIFIED:20200723T224337Z
UID:4840-1609143300-1609147800@zontanorthpugetsound.org
SUMMARY:Board Meeting
DESCRIPTION:
URL:https://zontanorthpugetsound.org/calendar-item/board-meeting-23
ATTACH;FMTTYPE=image/jpeg:https://zontanorthpugetsound.org/wp-content/uploads/2020/07/BOARD-e1597367058740.jpg
END:VEVENT
BEGIN:VEVENT
DTSTART;TZID=America/Los_Angeles:20201217T113000
DTEND;TZID=America/Los_Angeles:20201217T133000
DTSTAMP:20260423T163534
CREATED:20200720T230722Z
LAST-MODIFIED:20201118T224748Z
UID:4884-1608204600-1608211800@zontanorthpugetsound.org
SUMMARY:Holiday Auction
DESCRIPTION: ANNUAL HOLIDAY AUCTION \nThursday\, December 17th 11:30 am to 1:00 pm \nNEW This Year (w COVID)  ALL VIRTUAL!  \nFREE REGISTRATION to participate  \nIncludes special raffle for a 2-night B&B stay at the “Greenlake Guest House”  \nRSVP through Registration at:  \nhttps://zce.betterworld.org/ \nTo benefit Club & Foundation activities 
URL:https://zontanorthpugetsound.org/calendar-item/holiday-auction-4
CATEGORIES:Special Events
ATTACH;FMTTYPE=image/png:https://zontanorthpugetsound.org/wp-content/uploads/2020/11/Screen-Shot-2020-11-18-at-8.34.12-AM.png
ORGANIZER;CN="Zonta Club of Everett Foundation":MAILTO:info@zontaeverett.org
END:VEVENT
BEGIN:VEVENT
DTSTART;TZID=UTC:20201203T073000
DTEND;TZID=UTC:20201203T090000
DTSTAMP:20260423T163534
CREATED:20200720T221958Z
LAST-MODIFIED:20200723T224900Z
UID:4839-1606980600-1606986000@zontanorthpugetsound.org
SUMMARY:Business Meeting
DESCRIPTION:
URL:https://zontanorthpugetsound.org/calendar-item/business-meeting-37
ATTACH;FMTTYPE=image/jpeg:https://zontanorthpugetsound.org/wp-content/uploads/2020/07/BUSINESS-e1597367074684.jpg
END:VEVENT
BEGIN:VEVENT
DTSTART;TZID=UTC:20201130T081500
DTEND;TZID=UTC:20201130T093000
DTSTAMP:20260423T163534
CREATED:20200720T221958Z
LAST-MODIFIED:20200723T225126Z
UID:4838-1606724100-1606728600@zontanorthpugetsound.org
SUMMARY:Board Meeting
DESCRIPTION:
URL:https://zontanorthpugetsound.org/calendar-item/board-meeting-22
ATTACH;FMTTYPE=image/jpeg:https://zontanorthpugetsound.org/wp-content/uploads/2020/07/BOARD-e1597367058740.jpg
END:VEVENT
BEGIN:VEVENT
DTSTART;TZID=UTC:20201124T113000
DTEND;TZID=UTC:20201124T130000
DTSTAMP:20260423T163534
CREATED:20200720T220641Z
LAST-MODIFIED:20201108T054459Z
UID:4833-1606217400-1606222800@zontanorthpugetsound.org
SUMMARY:Zocial
DESCRIPTION:  \nTopic: Everett Social Hour \n Join Zoom Meeting
URL:https://zontanorthpugetsound.org/calendar-item/zocial-18
ATTACH;FMTTYPE=image/jpeg:https://zontanorthpugetsound.org/wp-content/uploads/2020/07/Zocial-e1597367035215.jpg
END:VEVENT
BEGIN:VEVENT
DTSTART;TZID=UTC:20201119T113000
DTEND;TZID=UTC:20201119T130000
DTSTAMP:20260423T163534
CREATED:20200720T220640Z
LAST-MODIFIED:20200723T225902Z
UID:4832-1605785400-1605790800@zontanorthpugetsound.org
SUMMARY:Program Meeting
DESCRIPTION:
URL:https://zontanorthpugetsound.org/calendar-item/program-meeting-22
ATTACH;FMTTYPE=image/jpeg:https://zontanorthpugetsound.org/wp-content/uploads/2020/07/PROGRAM-e1597367089590.jpg
END:VEVENT
BEGIN:VEVENT
DTSTART;TZID=UTC:20201110T173000
DTEND;TZID=UTC:20201110T190000
DTSTAMP:20260423T163534
CREATED:20200720T220640Z
LAST-MODIFIED:20201108T054556Z
UID:4830-1605029400-1605034800@zontanorthpugetsound.org
SUMMARY:Zocial
DESCRIPTION: \n\nTopic: Everett Social Hour\n\n Join Zoom Meeting
URL:https://zontanorthpugetsound.org/calendar-item/zocial-16
ATTACH;FMTTYPE=image/jpeg:https://zontanorthpugetsound.org/wp-content/uploads/2020/07/Zocial-e1597367035215.jpg
END:VEVENT
BEGIN:VEVENT
DTSTART;TZID=UTC:20201105T073000
DTEND;TZID=UTC:20201105T090000
DTSTAMP:20260423T163534
CREATED:20200720T220640Z
LAST-MODIFIED:20200723T230127Z
UID:4829-1604561400-1604566800@zontanorthpugetsound.org
SUMMARY:Business Meeting
DESCRIPTION:
URL:https://zontanorthpugetsound.org/calendar-item/business-meeting-36
ATTACH;FMTTYPE=image/jpeg:https://zontanorthpugetsound.org/wp-content/uploads/2020/07/BUSINESS-e1597367074684.jpg
END:VEVENT
BEGIN:VEVENT
DTSTART;TZID=UTC:20201103T080000
DTEND;TZID=UTC:20201103T170000
DTSTAMP:20260423T163534
CREATED:20200807T045527Z
LAST-MODIFIED:20200807T045527Z
UID:5091-1604390400-1604422800@zontanorthpugetsound.org
SUMMARY:Election Day
DESCRIPTION:Be sure to Vote \nApprove R90  YES for SexEd for Safe and Healthy Youth
URL:https://zontanorthpugetsound.org/calendar-item/election-day
END:VEVENT
BEGIN:VEVENT
DTSTART;TZID=UTC:20201026T081500
DTEND;TZID=UTC:20201026T093000
DTSTAMP:20260423T163534
CREATED:20200720T220637Z
LAST-MODIFIED:20200723T234314Z
UID:4827-1603700100-1603704600@zontanorthpugetsound.org
SUMMARY:Board Meeting
DESCRIPTION:
URL:https://zontanorthpugetsound.org/calendar-item/board-meeting-21
ATTACH;FMTTYPE=image/jpeg:https://zontanorthpugetsound.org/wp-content/uploads/2020/07/BOARD-e1597367058740.jpg
END:VEVENT
BEGIN:VEVENT
DTSTART;TZID=UTC:20201020T173000
DTEND;TZID=UTC:20201020T190000
DTSTAMP:20260423T163534
CREATED:20200720T220637Z
LAST-MODIFIED:20200723T234345Z
UID:4826-1603215000-1603220400@zontanorthpugetsound.org
SUMMARY:Zocial
DESCRIPTION:  \nTopic: Everett Social Hour \n Join Zoom Meeting \nhttps://us02web.zoom.us/j/88127073632?pwd=VTdWWFM5M1AydVp2eTU2bkdxR2RvZz09 \n  \nMeeting ID: 881 2707 3632 \nPassword: 420097
URL:https://zontanorthpugetsound.org/calendar-item/zocial-14
ATTACH;FMTTYPE=image/jpeg:https://zontanorthpugetsound.org/wp-content/uploads/2020/07/Zocial-e1597367035215.jpg
END:VEVENT
BEGIN:VEVENT
DTSTART;TZID=UTC:20201015T180000
DTEND;TZID=UTC:20201016T180000
DTSTAMP:20260423T163534
CREATED:20200212T032327Z
LAST-MODIFIED:20200814T073943Z
UID:4439-1602784800-1602871200@zontanorthpugetsound.org
SUMMARY:Lunafest 2020 -Online
DESCRIPTION:Mark your Calendar for our next Fun Event!\nJoin your friends and family online for the 19th Annual LUNAFEST\, the national film festival that supports films by and about women\, hosted by the Zonta Club of Everett Foundation. Enjoy our flexible virtual format showcasing seven short films that compel discussion\, make you laugh\, tug at your heart strings and motivate you to make a difference in the community. \nScreening Online October 15th\nWe will screen the films on October 15\, 2020 (you will have a 24-hour window in which to view the films) with a subsequent virtual discussion and happy hour on October 20\, 2020 at 5:30pm. Please remember to enter both dates on your calendar. \nFeaturing 7 Short Films:\n	\n\n		.\n\n		\n				\n						\n		\n\n		\n		\n\n			\n				\n					\n				\n			\n\n			\n				\n					\n				\n			\n\n			\n				Image				1				of				7			\n\n		\n\n		\n			  \n		\n\n			\n	\n\nBenefit for Women and Girls\nThe Zonta Club of Everett Foundation works to empower women worldwide through service and advocacy. Proceeds from this event will specifically provide community grants and individual scholarships to promote equity for women. \nOur work would not be possible without the generosity of our sponsors:Merrill Lynch Wealth Management Sabiers Brayton Group\, Lamoureux Real Estate\, Beneficial Bank and Boyden Robinett and Associates. Thank you. \n	\n\n		Lamoureux Real Estate\n\n		\n				\n						\n		\n\n		\n		\n\n			\n				\n					\n				\n			\n\n			\n				\n					\n				\n			\n\n			\n				Image				1				of				3			\n\n		\n\n		\n			  \n		\n\n			\n	\n\n\nAnnual GALAMay 1 @ 5:30 pm – 9:00 pm  PDT Business MeetingMay 7 @ 8:00 am – 9:00 am  PDT May Program MeetingMay 21 @ 5:30 pm – 8:00 pm  PDT Event listing powered by The Events Calendar Shortcode
URL:https://zontanorthpugetsound.org/calendar-item/lunafest-2020
LOCATION:online\, Everett\, WA\, 98201\, United States
CATEGORIES:Special Events
ATTACH;FMTTYPE=image/jpeg:https://zontanorthpugetsound.org/wp-content/uploads/2020/07/LUNAFEST-social.jpg
ORGANIZER;CN="Zonta Club of Everett Foundation":MAILTO:info@zontaeverett.org
END:VEVENT
END:VCALENDAR