BEGIN:VCALENDAR
VERSION:2.0
PRODID:-//Zonta Club of North Puget Sound WA- Aka Zonta Club of Everett - ECPv6.15.20//NONSGML v1.0//EN
CALSCALE:GREGORIAN
METHOD:PUBLISH
X-WR-CALNAME:Zonta Club of North Puget Sound WA- Aka Zonta Club of Everett
X-ORIGINAL-URL:https://zontanorthpugetsound.org
X-WR-CALDESC:Events for Zonta Club of North Puget Sound WA- Aka Zonta Club of Everett
REFRESH-INTERVAL;VALUE=DURATION:PT1H
X-Robots-Tag:noindex
X-PUBLISHED-TTL:PT1H
BEGIN:VTIMEZONE
TZID:UTC
BEGIN:STANDARD
TZOFFSETFROM:+0000
TZOFFSETTO:+0000
TZNAME:UTC
DTSTART:20180101T000000
END:STANDARD
END:VTIMEZONE
BEGIN:VEVENT
DTSTART;TZID=UTC:20200928T081500
DTEND;TZID=UTC:20200928T093000
DTSTAMP:20260423T134858
CREATED:20200720T220634Z
LAST-MODIFIED:20200723T235219Z
UID:4821-1601280900-1601285400@zontanorthpugetsound.org
SUMMARY:Board Meeting
DESCRIPTION:
URL:https://zontanorthpugetsound.org/calendar-item/board-meeting-20
ATTACH;FMTTYPE=image/jpeg:https://zontanorthpugetsound.org/wp-content/uploads/2020/07/BOARD-e1597367058740.jpg
END:VEVENT
BEGIN:VEVENT
DTSTART;TZID=UTC:20200922T173000
DTEND;TZID=UTC:20200922T190000
DTSTAMP:20260423T134858
CREATED:20200720T220634Z
LAST-MODIFIED:20200723T235247Z
UID:4820-1600795800-1600801200@zontanorthpugetsound.org
SUMMARY:Zocial
DESCRIPTION:
URL:https://zontanorthpugetsound.org/calendar-item/zocial-10
ATTACH;FMTTYPE=image/jpeg:https://zontanorthpugetsound.org/wp-content/uploads/2020/07/Zocial-e1597367035215.jpg
END:VEVENT
BEGIN:VEVENT
DTSTART;TZID=UTC:20200918T100000
DTEND;TZID=UTC:20200918T123000
DTSTAMP:20260423T134858
CREATED:20200828T003407Z
LAST-MODIFIED:20200828T003409Z
UID:5176-1600423200-1600432200@zontanorthpugetsound.org
SUMMARY:Annual Club Retreat
DESCRIPTION:
URL:https://zontanorthpugetsound.org/calendar-item/annual-club-retreat
ATTACH;FMTTYPE=image/jpeg:https://zontanorthpugetsound.org/wp-content/uploads/2020/08/RETREAT.jpg
END:VEVENT
BEGIN:VEVENT
DTSTART;TZID=UTC:20200915T173000
DTEND;TZID=UTC:20200915T190000
DTSTAMP:20260423T134858
CREATED:20200720T220634Z
LAST-MODIFIED:20200723T235318Z
UID:4819-1600191000-1600196400@zontanorthpugetsound.org
SUMMARY:Zocial
DESCRIPTION:  \nTopic: Everett Social Hour \n Join Zoom Meeting \nhttps://us02web.zoom.us/j/88127073632?pwd=VTdWWFM5M1AydVp2eTU2bkdxR2RvZz09 \n  \nMeeting ID: 881 2707 3632 \nPassword: 420097
URL:https://zontanorthpugetsound.org/calendar-item/zocial-9
ATTACH;FMTTYPE=image/jpeg:https://zontanorthpugetsound.org/wp-content/uploads/2020/07/Zocial-e1597367035215.jpg
END:VEVENT
BEGIN:VEVENT
DTSTART;TZID=UTC:20200908T173000
DTEND;TZID=UTC:20200908T190000
DTSTAMP:20260423T134858
CREATED:20200720T220631Z
LAST-MODIFIED:20200723T235348Z
UID:4818-1599586200-1599591600@zontanorthpugetsound.org
SUMMARY:Zocial
DESCRIPTION:  \nTopic: Everett Social Hour \n Join Zoom Meeting \nhttps://us02web.zoom.us/j/88127073632?pwd=VTdWWFM5M1AydVp2eTU2bkdxR2RvZz09 \n  \nMeeting ID: 881 2707 3632 \nPassword: 420097
URL:https://zontanorthpugetsound.org/calendar-item/zocial-8
ATTACH;FMTTYPE=image/jpeg:https://zontanorthpugetsound.org/wp-content/uploads/2020/07/Zocial-e1597367035215.jpg
END:VEVENT
BEGIN:VEVENT
DTSTART;TZID=UTC:20200901T173000
DTEND;TZID=UTC:20200901T190000
DTSTAMP:20260423T134858
CREATED:20200720T220631Z
LAST-MODIFIED:20200723T235450Z
UID:4816-1598981400-1598986800@zontanorthpugetsound.org
SUMMARY:Zocial
DESCRIPTION:  \nTopic: Everett Social Hour \n Join Zoom Meeting \nhttps://us02web.zoom.us/j/88127073632?pwd=VTdWWFM5M1AydVp2eTU2bkdxR2RvZz09 \n  \nMeeting ID: 881 2707 3632 \nPassword: 420097
URL:https://zontanorthpugetsound.org/calendar-item/zocial-7
ATTACH;FMTTYPE=image/jpeg:https://zontanorthpugetsound.org/wp-content/uploads/2020/07/Zocial-e1597367035215.jpg
END:VEVENT
BEGIN:VEVENT
DTSTART;TZID=UTC:20200831T081500
DTEND;TZID=UTC:20200831T093000
DTSTAMP:20260423T134858
CREATED:20200720T220631Z
LAST-MODIFIED:20200814T080203Z
UID:4814-1598861700-1598866200@zontanorthpugetsound.org
SUMMARY:Board Meeting
DESCRIPTION:
URL:https://zontanorthpugetsound.org/calendar-item/board-meeting-19
ATTACH;FMTTYPE=image/jpeg:https://zontanorthpugetsound.org/wp-content/uploads/2020/07/BOARD-e1597367058740.jpg
END:VEVENT
BEGIN:VEVENT
DTSTART;TZID=UTC:20200825T173000
DTEND;TZID=UTC:20200825T190000
DTSTAMP:20260423T134858
CREATED:20200720T220631Z
LAST-MODIFIED:20200723T235518Z
UID:4815-1598376600-1598382000@zontanorthpugetsound.org
SUMMARY:Zocial
DESCRIPTION:  \nTopic: Everett Social Hour \n Join Zoom Meeting \nhttps://us02web.zoom.us/j/88127073632?pwd=VTdWWFM5M1AydVp2eTU2bkdxR2RvZz09 \n  \nMeeting ID: 881 2707 3632 \nPassword: 420097
URL:https://zontanorthpugetsound.org/calendar-item/zocial-6
ATTACH;FMTTYPE=image/jpeg:https://zontanorthpugetsound.org/wp-content/uploads/2020/07/Zocial-e1597367035215.jpg
END:VEVENT
BEGIN:VEVENT
DTSTART;TZID=UTC:20200820T113000
DTEND;TZID=UTC:20200820T130000
DTSTAMP:20260423T134858
CREATED:20200720T220629Z
LAST-MODIFIED:20200723T235613Z
UID:4813-1597923000-1597928400@zontanorthpugetsound.org
SUMMARY:Program Meeting
DESCRIPTION:
URL:https://zontanorthpugetsound.org/calendar-item/program-meeting-21
ATTACH;FMTTYPE=image/jpeg:https://zontanorthpugetsound.org/wp-content/uploads/2020/07/PROGRAM-e1597367089590.jpg
END:VEVENT
BEGIN:VEVENT
DTSTART;TZID=UTC:20200818T173000
DTEND;TZID=UTC:20200818T190000
DTSTAMP:20260423T134858
CREATED:20200720T220629Z
LAST-MODIFIED:20200723T235641Z
UID:4812-1597771800-1597777200@zontanorthpugetsound.org
SUMMARY:Zocial
DESCRIPTION:  \nTopic: Everett Social Hour \n Join Zoom Meeting \nhttps://us02web.zoom.us/j/88127073632?pwd=VTdWWFM5M1AydVp2eTU2bkdxR2RvZz09 \n  \nMeeting ID: 881 2707 3632 \nPassword: 420097
URL:https://zontanorthpugetsound.org/calendar-item/zocial-5
ATTACH;FMTTYPE=image/jpeg:https://zontanorthpugetsound.org/wp-content/uploads/2020/07/Zocial-e1597367035215.jpg
END:VEVENT
BEGIN:VEVENT
DTSTART;TZID=UTC:20200811T173000
DTEND;TZID=UTC:20200811T190000
DTSTAMP:20260423T134858
CREATED:20200720T220629Z
LAST-MODIFIED:20200723T235713Z
UID:4811-1597167000-1597172400@zontanorthpugetsound.org
SUMMARY:Zocial
DESCRIPTION:  \n Topic: Everett Social Hour \n Join Zoom Meeting \nhttps://us02web.zoom.us/j/88127073632?pwd=VTdWWFM5M1AydVp2eTU2bkdxR2RvZz09 \n  \nMeeting ID: 881 2707 3632 \nPassword: 420097
URL:https://zontanorthpugetsound.org/calendar-item/zocial-4
ATTACH;FMTTYPE=image/jpeg:https://zontanorthpugetsound.org/wp-content/uploads/2020/07/Zocial-e1597367035215.jpg
END:VEVENT
BEGIN:VEVENT
DTSTART;TZID=UTC:20200806T073000
DTEND;TZID=UTC:20200806T090000
DTSTAMP:20260423T134858
CREATED:20200720T220629Z
LAST-MODIFIED:20200723T235740Z
UID:4810-1596699000-1596704400@zontanorthpugetsound.org
SUMMARY:Business Meeting
DESCRIPTION:
URL:https://zontanorthpugetsound.org/calendar-item/business-meeting-33
ATTACH;FMTTYPE=image/jpeg:https://zontanorthpugetsound.org/wp-content/uploads/2020/07/BUSINESS-e1597367074684.jpg
END:VEVENT
BEGIN:VEVENT
DTSTART;TZID=UTC:20200804T173000
DTEND;TZID=UTC:20200804T190000
DTSTAMP:20260423T134858
CREATED:20200720T220628Z
LAST-MODIFIED:20200723T235809Z
UID:4809-1596562200-1596567600@zontanorthpugetsound.org
SUMMARY:Zocial
DESCRIPTION:Topic: Everett Social Hour \n  \n  \nJoin Zoom Meeting \nhttps://us02web.zoom.us/j/88127073632?pwd=VTdWWFM5M1AydVp2eTU2bkdxR2RvZz09 \n  \nMeeting ID: 881 2707 3632 \nPassword: 420097
URL:https://zontanorthpugetsound.org/calendar-item/zocial-3
ATTACH;FMTTYPE=image/jpeg:https://zontanorthpugetsound.org/wp-content/uploads/2020/07/Zocial-e1597367035215.jpg
END:VEVENT
BEGIN:VEVENT
DTSTART;TZID=UTC:20200728T173000
DTEND;TZID=UTC:20200728T190000
DTSTAMP:20260423T134858
CREATED:20200720T220625Z
LAST-MODIFIED:20200723T235836Z
UID:4808-1595957400-1595962800@zontanorthpugetsound.org
SUMMARY:Zocial
DESCRIPTION:  \nJoin Zoom Meeting \nhttps://us02web.zoom.us/j/88127073632?pwd=VTdWWFM5M1AydVp2eTU2bkdxR2RvZz09 \n  \nMeeting ID: 881 2707 3632 \nPassword: 420097
URL:https://zontanorthpugetsound.org/calendar-item/zocial-2
ATTACH;FMTTYPE=image/jpeg:https://zontanorthpugetsound.org/wp-content/uploads/2020/07/Zocial-e1597367035215.jpg
END:VEVENT
BEGIN:VEVENT
DTSTART;TZID=UTC:20200727T081500
DTEND;TZID=UTC:20200727T093000
DTSTAMP:20260423T134858
CREATED:20200720T220625Z
LAST-MODIFIED:20200723T235905Z
UID:4807-1595837700-1595842200@zontanorthpugetsound.org
SUMMARY:Board Meeting
DESCRIPTION:
URL:https://zontanorthpugetsound.org/calendar-item/board-meeting-18
ATTACH;FMTTYPE=image/jpeg:https://zontanorthpugetsound.org/wp-content/uploads/2020/07/BOARD-e1597367058740.jpg
END:VEVENT
BEGIN:VEVENT
DTSTART;TZID=UTC:20200721T173000
DTEND;TZID=UTC:20200721T190000
DTSTAMP:20260423T134858
CREATED:20200720T220624Z
LAST-MODIFIED:20200723T235936Z
UID:4806-1595352600-1595358000@zontanorthpugetsound.org
SUMMARY:Zocial
DESCRIPTION:  \n  \nHere is the invitation to the Zoom Zocial on Tuesday.  Let’s travel down memory lane!  Our topic for our get together will be “what were your favorite things to do in your childhood”\, or special memories from your youth.   \n Topic: Everett Social Hour \nTime: Jul 21\, 2020 05:30 PM Pacific Time (US and Canada) \n         Join Zoom Meeting \nhttps://us02web.zoom.us/j/88127073632?pwd=VTdWWFM5M1AydVp2eTU2bkdxR2RvZz09 \n  \nMeeting ID: 881 2707 3632 \nPassword: 420097 \n 
URL:https://zontanorthpugetsound.org/calendar-item/zocial
ATTACH;FMTTYPE=image/jpeg:https://zontanorthpugetsound.org/wp-content/uploads/2020/07/Zocial-e1597367035215.jpg
END:VEVENT
BEGIN:VEVENT
DTSTART;TZID=UTC:20200716T113000
DTEND;TZID=UTC:20200716T130000
DTSTAMP:20260423T134858
CREATED:20200716T225141Z
LAST-MODIFIED:20200716T231338Z
UID:4764-1594899000-1594904400@zontanorthpugetsound.org
SUMMARY:Program Meeting
DESCRIPTION:Please join us on Thursday\, July 16 for our monthly program meeting.  Our program will cover important\, current topics highlighted by the Black Lives Matter movement\, including Federal policies that created segregated communities\, and racial inequality in employment.  \n \nPlease let me know if you are planning to attend.  Thanks.\n \nHere is the Zoom invitation:\n \n\n\nZonta District8 is inviting you to a scheduled Zoom meeting.\n \nTopic: Everett Program Meeting\nTime: Jul 16\, 2020 11:30 AM Pacific Time (US and Canada)\n \nJoin Zoom Meeting\nhttps://us02web.zoom.us/j/88029505899?pwd=NW8vM2hGUVRHak8zK2twM0pTRW9kQT09\n \nMeeting ID: 880 2950 5899\nPassword: 442844\nOne tap mobile\n+12532158782\,\,88029505899#\,\,\,\,0#\,\,442844# US (Tacoma)\n+16699006833\,\,88029505899#\,\,\,\,0#\,\,442844# US (San Jose)\n \nDial by your location\n        +1 253 215 8782 US (Tacoma)\n        +1 669 900 6833 US (San Jose)\n        +1 346 248 7799 US (Houston)\n        +1 301 715 8592 US (Germantown)\n        +1 312 626 6799 US (Chicago)\n        +1 646 876 9923 US (New York)\nMeeting ID: 880 2950 5899\nPassword: 442844\nFind your local number: https://us02web.zoom.us/u/kwqwTSe00
URL:https://zontanorthpugetsound.org/calendar-item/program-meeting-16
CATEGORIES:Program Meetings
ATTACH;FMTTYPE=image/jpeg:https://zontanorthpugetsound.org/wp-content/uploads/2020/07/PROGRAM-e1597367089590.jpg
END:VEVENT
BEGIN:VEVENT
DTSTART;TZID=UTC:20200525T081500
DTEND;TZID=UTC:20200525T090000
DTSTAMP:20260423T134858
CREATED:20200512T082627Z
LAST-MODIFIED:20200626T051828Z
UID:4582-1590394500-1590397200@zontanorthpugetsound.org
SUMMARY:Zonta Board Meeting
DESCRIPTION:May 25 – 8:15 AM\, Board Meeting @ The Sisters\, Everett\, WA
URL:https://zontanorthpugetsound.org/calendar-item/zonta-board-meeting
LOCATION:The Sisters\, 2804 Grand Ave\, Everett\, WA\, 98201\, United States
CATEGORIES:Board Meetings
END:VEVENT
BEGIN:VEVENT
DTSTART;TZID=UTC:20190716T170000
DTEND;TZID=UTC:20190716T220000
DTSTAMP:20260423T134858
CREATED:20190323T100925Z
LAST-MODIFIED:20190323T100925Z
UID:4210-1563296400-1563314400@zontanorthpugetsound.org
SUMMARY:Annual Pool Party
DESCRIPTION:Zonta Pool Party  Save the Date! July 16th\, 5:00 to ……….
URL:https://zontanorthpugetsound.org/calendar-item/annual-pool-party-2
LOCATION:Pool Party\, 4200 84th ST NE #15\, Marysville\, 98270\, United States
END:VEVENT
BEGIN:VEVENT
DTSTART;TZID=UTC:20190624T080000
DTEND;TZID=UTC:20190624T090000
DTSTAMP:20260423T134858
CREATED:20181009T213855Z
LAST-MODIFIED:20190103T142319Z
UID:4007-1561363200-1561366800@zontanorthpugetsound.org
SUMMARY:Board Meeting
DESCRIPTION:WHAT:  Board Meeting \nWHERE: The Sisters Restaurant
URL:https://zontanorthpugetsound.org/calendar-item/board-meeting-17
LOCATION:The Sisters\, 2804 Grand Ave\, Everett\, WA\, 98201\, United States
END:VEVENT
BEGIN:VEVENT
DTSTART;VALUE=DATE:20190621
DTEND;VALUE=DATE:20190622
DTSTAMP:20260423T134858
CREATED:20181009T213730Z
LAST-MODIFIED:20181009T213730Z
UID:4005-1561075200-1561161599@zontanorthpugetsound.org
SUMMARY:Zonta Club of Everett Annual Retreat
DESCRIPTION:This member’s only event is where we make our plans for the coming year. \nLocation TBD.
URL:https://zontanorthpugetsound.org/calendar-item/zonta-club-of-everett-annual-retreat
END:VEVENT
BEGIN:VEVENT
DTSTART;TZID=UTC:20190620T113000
DTEND;TZID=UTC:20190620T130000
DTSTAMP:20260423T134858
CREATED:20181009T213617Z
LAST-MODIFIED:20181009T213617Z
UID:4003-1561030200-1561035600@zontanorthpugetsound.org
SUMMARY:Program Meeting
DESCRIPTION:Please join us for the Zonta Program Meeting \nWhat:  Zonta Program Meeting (Luncheon) \nWhere: Citrine Health\,  2940 W. Marine View Drive\, Everett. \nSpeaker: TBD \nRSVP:  Judith Strand  Judith_strand39 at msn.com
URL:https://zontanorthpugetsound.org/calendar-item/program-meeting-15
END:VEVENT
BEGIN:VEVENT
DTSTART;TZID=UTC:20190606T073000
DTEND;TZID=UTC:20190606T090000
DTSTAMP:20260423T134858
CREATED:20181009T213458Z
LAST-MODIFIED:20181009T213458Z
UID:4001-1559806200-1559811600@zontanorthpugetsound.org
SUMMARY:Business Meeting
DESCRIPTION:Please join us for the Zonta Business Meeting. \nWHAT: Business Meeting \nWHERE: CafeWorks at HopeWorks Station\, 3331 Broadway\, Everett\, WA \nRSVP:  Judith Strand   Judith_strand39 at msn.com
URL:https://zontanorthpugetsound.org/calendar-item/business-meeting-32
END:VEVENT
BEGIN:VEVENT
DTSTART;VALUE=DATE:20190606
DTEND;VALUE=DATE:20190611
DTSTAMP:20260423T134858
CREATED:20181009T213406Z
LAST-MODIFIED:20181009T213406Z
UID:3999-1559779200-1560211199@zontanorthpugetsound.org
SUMMARY:INTERDISTRICT MEETING - USA
DESCRIPTION:This year in Dallas TX\, USA.  Check back for more details.
URL:https://zontanorthpugetsound.org/calendar-item/interdistrict-meeting-usa
END:VEVENT
BEGIN:VEVENT
DTSTART;TZID=UTC:20190603T080000
DTEND;TZID=UTC:20190603T210000
DTSTAMP:20260423T134858
CREATED:20181009T212746Z
LAST-MODIFIED:20190103T142034Z
UID:3997-1559548800-1559595600@zontanorthpugetsound.org
SUMMARY:Board Meeting
DESCRIPTION:WHAT: Board Meeting \nWHERE: The Sisters Restaurant
URL:https://zontanorthpugetsound.org/calendar-item/board-meeting-16
LOCATION:The Sisters\, 2804 Grand Ave\, Everett\, WA\, 98201\, United States
CATEGORIES:Board Meetings
END:VEVENT
BEGIN:VEVENT
DTSTART;TZID=UTC:20190517T173000
DTEND;TZID=UTC:20190517T190000
DTSTAMP:20260423T134858
CREATED:20181009T212438Z
LAST-MODIFIED:20181009T212637Z
UID:3995-1558114200-1558119600@zontanorthpugetsound.org
SUMMARY:VIP EVENT/ANNIVERSARY PARTY
DESCRIPTION:At our annual VIP event we honor a current or former member of the Everett club for their service.  At this year’s special event we will also be celebrating our 90th anniversary of the club.  Come join us! \nLocation TBD\, check back as the date approaches.
URL:https://zontanorthpugetsound.org/calendar-item/vip-event-anniversary-party
END:VEVENT
BEGIN:VEVENT
DTSTART;TZID=UTC:20190502T073000
DTEND;TZID=UTC:20190502T090000
DTSTAMP:20260423T134858
CREATED:20181009T212040Z
LAST-MODIFIED:20181009T212040Z
UID:3993-1556782200-1556787600@zontanorthpugetsound.org
SUMMARY:Business Meeting
DESCRIPTION:Please join us for the Zonta Business Meeting. \nWHAT: Business Meeting \nWHERE: CafeWorks at HopeWorks Station\, 3331 Broadway\, Everett\, WA \nRSVP:  Judith Strand   Judith_strand39 at msn.com
URL:https://zontanorthpugetsound.org/calendar-item/business-meeting-31
END:VEVENT
BEGIN:VEVENT
DTSTART;TZID=UTC:20190429T080000
DTEND;TZID=UTC:20190429T090000
DTSTAMP:20260423T134858
CREATED:20181009T211950Z
LAST-MODIFIED:20190103T141747Z
UID:3991-1556524800-1556528400@zontanorthpugetsound.org
SUMMARY:Board Meeting
DESCRIPTION:WHAT:  Board Meeting \nWHERE: The Sisters Restaurant
URL:https://zontanorthpugetsound.org/calendar-item/board-meeting-15
LOCATION:The Sisters\, 2804 Grand Ave\, Everett\, WA\, 98201\, United States
END:VEVENT
BEGIN:VEVENT
DTSTART;TZID=UTC:20190418T173000
DTEND;TZID=UTC:20190418T190000
DTSTAMP:20260423T134858
CREATED:20181009T211846Z
LAST-MODIFIED:20181009T211846Z
UID:3989-1555608600-1555614000@zontanorthpugetsound.org
SUMMARY:Scholarship Presentation Event
DESCRIPTION:Join us as we present our annual scholarships to young women in the community.  Always an inspiration! \nLocation TBD\, check back as the date approaches.
URL:https://zontanorthpugetsound.org/calendar-item/scholarship-presentation-event
END:VEVENT
BEGIN:VEVENT
DTSTART;TZID=UTC:20190417T173000
DTEND;TZID=UTC:20190417T200000
DTSTAMP:20260423T134858
CREATED:20180831T113306Z
LAST-MODIFIED:20180831T113306Z
UID:3928-1555522200-1555531200@zontanorthpugetsound.org
SUMMARY:Zonta Awards Dinner
DESCRIPTION:Zonta Awards Dinner
URL:https://zontanorthpugetsound.org/calendar-item/zonta-awards-dinner
END:VEVENT
END:VCALENDAR