BEGIN:VCALENDAR
VERSION:2.0
PRODID:-//Zonta Club of North Puget Sound WA- Aka Zonta Club of Everett - ECPv6.15.20//NONSGML v1.0//EN
CALSCALE:GREGORIAN
METHOD:PUBLISH
X-WR-CALNAME:Zonta Club of North Puget Sound WA- Aka Zonta Club of Everett
X-ORIGINAL-URL:https://zontanorthpugetsound.org
X-WR-CALDESC:Events for Zonta Club of North Puget Sound WA- Aka Zonta Club of Everett
REFRESH-INTERVAL;VALUE=DURATION:PT1H
X-Robots-Tag:noindex
X-PUBLISHED-TTL:PT1H
BEGIN:VTIMEZONE
TZID:UTC
BEGIN:STANDARD
TZOFFSETFROM:+0000
TZOFFSETTO:+0000
TZNAME:UTC
DTSTART:20170101T000000
END:STANDARD
END:VTIMEZONE
BEGIN:VTIMEZONE
TZID:America/Los_Angeles
BEGIN:DAYLIGHT
TZOFFSETFROM:-0800
TZOFFSETTO:-0700
TZNAME:PDT
DTSTART:20170312T100000
END:DAYLIGHT
BEGIN:STANDARD
TZOFFSETFROM:-0700
TZOFFSETTO:-0800
TZNAME:PST
DTSTART:20171105T090000
END:STANDARD
BEGIN:DAYLIGHT
TZOFFSETFROM:-0800
TZOFFSETTO:-0700
TZNAME:PDT
DTSTART:20180311T100000
END:DAYLIGHT
BEGIN:STANDARD
TZOFFSETFROM:-0700
TZOFFSETTO:-0800
TZNAME:PST
DTSTART:20181104T090000
END:STANDARD
BEGIN:DAYLIGHT
TZOFFSETFROM:-0800
TZOFFSETTO:-0700
TZNAME:PDT
DTSTART:20190310T100000
END:DAYLIGHT
BEGIN:STANDARD
TZOFFSETFROM:-0700
TZOFFSETTO:-0800
TZNAME:PST
DTSTART:20191103T090000
END:STANDARD
END:VTIMEZONE
BEGIN:VEVENT
DTSTART;TZID=UTC:20190307T073000
DTEND;TZID=UTC:20190307T090000
DTSTAMP:20260423T163459
CREATED:20181004T100049Z
LAST-MODIFIED:20181004T100049Z
UID:3978-1551943800-1551949200@zontanorthpugetsound.org
SUMMARY:Business Meeting
DESCRIPTION:Please join us for the Zonta Business Meeting. \nWHAT: Business Meeting \nWHERE: CafeWorks at HopeWorks Station\, 3331 Broadway\, Everett\, WA \nRSVP:  Judith Strand   Judith_strand39 at msn.com
URL:https://zontanorthpugetsound.org/calendar-item/business-meeting-29
END:VEVENT
BEGIN:VEVENT
DTSTART;TZID=UTC:20190225T080000
DTEND;TZID=UTC:20190225T090000
DTSTAMP:20260423T163459
CREATED:20181004T095926Z
LAST-MODIFIED:20190103T141151Z
UID:3976-1551081600-1551085200@zontanorthpugetsound.org
SUMMARY:Board Meeting
DESCRIPTION:WHAT:  Board Meeting \nWHERE: The Sisters Restaurant
URL:https://zontanorthpugetsound.org/calendar-item/board-meeting-13
LOCATION:The Sisters\, 2804 Grand Ave\, Everett\, WA\, 98201\, United States
END:VEVENT
BEGIN:VEVENT
DTSTART;TZID=UTC:20190221T113000
DTEND;TZID=UTC:20190221T130000
DTSTAMP:20260423T163459
CREATED:20181004T095601Z
LAST-MODIFIED:20181004T095723Z
UID:3972-1550748600-1550754000@zontanorthpugetsound.org
SUMMARY:Program Meeting
DESCRIPTION:Please join us for the Zonta Program Meeting \nWhat:  Zonta Program Meeting (Luncheon) \nWhere: Citrine Health\,  2940 W. Marine View Drive\, Everett. \nSpeaker: TBD \nRSVP:  Judith Strand  Judith_strand39 at msn.com
URL:https://zontanorthpugetsound.org/calendar-item/program-meeting-14
END:VEVENT
BEGIN:VEVENT
DTSTART;TZID=UTC:20190202T170000
DTEND;TZID=UTC:20190202T220000
DTSTAMP:20260423T163459
CREATED:20181004T095345Z
LAST-MODIFIED:20181004T095345Z
UID:3968-1549126800-1549144800@zontanorthpugetsound.org
SUMMARY:3rd Annual Zonta of Everett Gala
DESCRIPTION:“Zonta Has Heart” Gala
URL:https://zontanorthpugetsound.org/calendar-item/3rd-annual-zonta-of-everett-gala
LOCATION:Everett Golf and Country Club\, 1500 52nd St SE\, Everett\, WA\, 98203\, United States
END:VEVENT
BEGIN:VEVENT
DTSTART;TZID=UTC:20190128T080000
DTEND;TZID=UTC:20190128T090000
DTSTAMP:20260423T163459
CREATED:20181004T094556Z
LAST-MODIFIED:20190103T141028Z
UID:3966-1548662400-1548666000@zontanorthpugetsound.org
SUMMARY:Board Meeting
DESCRIPTION:WHAT:  Board Meeting \nWHERE: The Sisters\, 2804 Grand Ave\, Everett\, WA 98201\, USA
URL:https://zontanorthpugetsound.org/calendar-item/board-meeting-12
LOCATION:The Sisters\, 2804 Grand Ave\, Everett\, WA\, 98201\, United States
END:VEVENT
BEGIN:VEVENT
DTSTART;TZID=UTC:20190117T113000
DTEND;TZID=UTC:20190117T130000
DTSTAMP:20260423T163459
CREATED:20181004T094345Z
LAST-MODIFIED:20181004T094345Z
UID:3964-1547724600-1547730000@zontanorthpugetsound.org
SUMMARY:Program Meeting
DESCRIPTION:Please join us for the Zonta Program Meeting \nWhat:  Zonta Program Meeting (Luncheon) \nWhere: Citrine Health\,  2940 W. Marine View Drive\, Everett. \nRSVP:  Judith Strand  Judith_strand39 at msn.com
URL:https://zontanorthpugetsound.org/calendar-item/program-meeting-13
END:VEVENT
BEGIN:VEVENT
DTSTART;TZID=UTC:20190113T140000
DTEND;TZID=UTC:20190113T160000
DTSTAMP:20260423T163459
CREATED:20190103T140144Z
LAST-MODIFIED:20190103T140629Z
UID:4152-1547388000-1547395200@zontanorthpugetsound.org
SUMMARY:Fellowship Event
DESCRIPTION:Zonta Club of Everett Fellowship\nJoin us for Cosmic Bowling. \nGlow in the dark Fun!  \nMusic and Music Videos\, black lights\, laser lights as you bowl \n \n“A fun to start the New Year”   \nThe cost is $10 per person for as many games as you want to bowl during the 2 hours and it includes your shoe rental.   \nPlease remember All members\, spouses\, significant others\, friends and potential members are Welcome!  \nSend your RSVP to Linda Senter   lindasenter@yahoo.com or Cindy    cin_lynn@msn.com no later than January 9th.
URL:https://zontanorthpugetsound.org/calendar-item/4152
LOCATION:Evergreen Lanes\, 5111 Claremont Way\, Everett\, WA\, 98203\, United States
END:VEVENT
BEGIN:VEVENT
DTSTART;TZID=UTC:20190103T073000
DTEND;TZID=UTC:20190103T090000
DTSTAMP:20260423T163459
CREATED:20181004T094251Z
LAST-MODIFIED:20181004T094251Z
UID:3962-1546500600-1546506000@zontanorthpugetsound.org
SUMMARY:Business Meeting
DESCRIPTION:Please join us for the Zonta Business Meeting.  This month’s agenda will be all about our Gala fundraiser. \nWHAT: Business Meeting \nWHERE: CafeWorks at HopeWorks Station\, 3331 Broadway\, Everett\, WA \nRSVP:  Judith Strand   Judith_strand39 at msn.com
URL:https://zontanorthpugetsound.org/calendar-item/business-meeting-28
END:VEVENT
BEGIN:VEVENT
DTSTART;TZID=UTC:20181220T113000
DTEND;TZID=UTC:20181220T130000
DTSTAMP:20260423T163459
CREATED:20181003T221041Z
LAST-MODIFIED:20181106T120229Z
UID:3956-1545305400-1545310800@zontanorthpugetsound.org
SUMMARY:ANNUAL HOLIDAY AUCTION
DESCRIPTION:Our annual Holiday Luncheon is a fundraiser.  All funds raised go to support the work of the club throughout the year.  It is a fun event with a live auction of wrapped holiday gifts and a door prize drawing.  Please join us! \nRSVP by Dec 12:  Carol Johnson  CJohnson at campfiresnoco.org \n$30 Luncheon (specify chicken or vegetarian)
URL:https://zontanorthpugetsound.org/calendar-item/holiday-luncheon
LOCATION:Everett Golf and Country Club\, 1500 52nd St SE\, Everett\, WA\, 98203\, United States
END:VEVENT
BEGIN:VEVENT
DTSTART;TZID=UTC:20181206T073000
DTEND;TZID=UTC:20181206T090000
DTSTAMP:20260423T163459
CREATED:20181003T220405Z
LAST-MODIFIED:20181003T221520Z
UID:3954-1544081400-1544086800@zontanorthpugetsound.org
SUMMARY:Business Meeting
DESCRIPTION:Please join us for the Zonta Business Meeting. \nWHAT: Business Meeting \nWHERE: CafeWorks at HopeWorks Station\, 3331 Broadway\, Everett\, WA \nRSVP:  Judith Strand   Judith_strand39 at msn.com
URL:https://zontanorthpugetsound.org/calendar-item/business-meeting-27
END:VEVENT
BEGIN:VEVENT
DTSTART;TZID=UTC:20181126T080000
DTEND;TZID=UTC:20181126T090000
DTSTAMP:20260423T163459
CREATED:20181003T220214Z
LAST-MODIFIED:20181003T220214Z
UID:3952-1543219200-1543222800@zontanorthpugetsound.org
SUMMARY:Board Meeting
DESCRIPTION:WHAT:  Board Meeting \nWHERE: The Loft Coffee Bar\, 1309 Hewitt Ave\, Everett\, WA 98201
URL:https://zontanorthpugetsound.org/calendar-item/board-meeting-11
END:VEVENT
BEGIN:VEVENT
DTSTART;TZID=UTC:20181115T113000
DTEND;TZID=UTC:20181115T130000
DTSTAMP:20260423T163459
CREATED:20181004T094057Z
LAST-MODIFIED:20181004T094127Z
UID:3960-1542281400-1542286800@zontanorthpugetsound.org
SUMMARY:Program Meeting - Founder's Day
DESCRIPTION:Please join us for the Zonta Program Meeting where we will be celebrating the founding of Zonta \nWhat:  Zonta Program Meeting (Luncheon) \nWhere: Citrine Health\,  2940 W. Marine View Drive\, Everett. \nRSVP:  Judith Strand  Judith_strand39 at msn.com
URL:https://zontanorthpugetsound.org/calendar-item/program-meeting-founders-day
END:VEVENT
BEGIN:VEVENT
DTSTART;TZID=UTC:20181101T073000
DTEND;TZID=UTC:20181101T090000
DTSTAMP:20260423T163459
CREATED:20181003T215633Z
LAST-MODIFIED:20181003T215633Z
UID:3948-1541057400-1541062800@zontanorthpugetsound.org
SUMMARY:Business Meeting
DESCRIPTION:Please join us for the Zonta Business Meeting. \nWHAT: Business Meeting \nWHERE: CafeWorks\, 3331 Broadway\, Everett\, WA \nRSVP:  Judith Strand   Judith_strand39 at msn.com
URL:https://zontanorthpugetsound.org/calendar-item/business-meeting-26
END:VEVENT
BEGIN:VEVENT
DTSTART;TZID=UTC:20181029T080000
DTEND;TZID=UTC:20181029T090000
DTSTAMP:20260423T163459
CREATED:20181003T215833Z
LAST-MODIFIED:20181003T215833Z
UID:3950-1540800000-1540803600@zontanorthpugetsound.org
SUMMARY:Board Meeting
DESCRIPTION:WHAT:  Board Meeting \nWHERE: The Loft Coffee Bar\, 1309 Hewitt Ave\, Everett\, WA 98201
URL:https://zontanorthpugetsound.org/calendar-item/board-meeting-10
END:VEVENT
BEGIN:VEVENT
DTSTART;TZID=UTC:20181018T113000
DTEND;TZID=UTC:20181018T130000
DTSTAMP:20260423T163459
CREATED:20181003T215410Z
LAST-MODIFIED:20181003T215450Z
UID:3945-1539862200-1539867600@zontanorthpugetsound.org
SUMMARY:Program Meeting
DESCRIPTION:Please join us for the Zonta Program Meeting \nWhat:  Zonta Program Meeting (Luncheon) \nWhere: Citrine Health\,  2940 W. Marine View Drive\, Everett. \nRSVP:  Judith Strand  Judith_strand39 at msn.com
URL:https://zontanorthpugetsound.org/calendar-item/program-meeting-12
END:VEVENT
BEGIN:VEVENT
DTSTART;TZID=UTC:20181012T173000
DTEND;TZID=UTC:20181012T200000
DTSTAMP:20260423T163459
CREATED:20181002T101322Z
LAST-MODIFIED:20181002T101322Z
UID:3939-1539365400-1539374400@zontanorthpugetsound.org
SUMMARY:October Fellowship Event
DESCRIPTION:Join us October 12th at the home of Carol & Ted Janowicz \nFor an evening of fellowship and good food while watching Suffragette \n  \nIn 1912 London\, a young working mother is galvanized into radical political activism supporting the right for women to vote\, and is willing to meet violence with violence to achieve this end \nWe will start the movie at 6:30pm \nMembers are asked to bring finger foods to share. Please remember All members\, spouses\, significant others\, friends and potential members are Welcome!  \nSend your RSVP to Linda Senter lindasenter at yahoo.com or Cindy cin_lynn at msn.com no later than October 5th
URL:https://zontanorthpugetsound.org/calendar-item/october-fellowship-event
LOCATION:Home of Carol Janowicz\, 2425 56th St SW\, Everett\, WA\, United States
END:VEVENT
BEGIN:VEVENT
DTSTART;TZID=UTC:20181004T073000
DTEND;TZID=UTC:20181004T090000
DTSTAMP:20260423T163459
CREATED:20181002T101807Z
LAST-MODIFIED:20181003T214748Z
UID:3942-1538638200-1538643600@zontanorthpugetsound.org
SUMMARY:Business Meeting
DESCRIPTION:Please join us for the Zonta Business Meeting. \nWHAT: Business Meeting \nWHERE: CafeWorks\, 3331 Broadway\, Everett\, WA \nWHEN:   Thurs. Oct. 4th\, 7:30am \nRSVP: By Tuesday\, Oct. 2 by close of day.
URL:https://zontanorthpugetsound.org/calendar-item/business-meeting-25
LOCATION:CafeWorks\, 3331 Broadway\, Everett\, WA\, United States
END:VEVENT
BEGIN:VEVENT
DTSTART;TZID=UTC:20180908T150000
DTEND;TZID=UTC:20180908T150000
DTSTAMP:20260423T163459
CREATED:20180831T110157Z
LAST-MODIFIED:20180831T110157Z
UID:3916-1536418800-1536418800@zontanorthpugetsound.org
SUMMARY:Fellowship Event - Fall Beach Party
DESCRIPTION:It’s time to RSVP for the Beach…..   Please let myself or Linda Senter know if you can attend.  \nJoin us at the home of Gerry & Jeff Riggs for a Fall Beach Party! \nTake a relaxing walk on the beach\, sit and enjoy a view of the water or just hang out and socialize while enjoying good food and fellowship. \nMembers are asked to bring finger foods to share and your beverage of choice. Please remember All members\, spouses\, significant others\, friends and potential members are Welcome!   \nSend your RSVP to Linda Senter (lindasenter at yahoo dot com) or Cindy (cin_lynn at msn dot com) no later than September 5th.    \n\n\n\n		\n				\n						\n			\n								\n			\n		\n							\n			\n				\n						\n			\n								\n			\n		\n							\n			\n	\n	\n\n		\n		[Show slideshow]
URL:https://zontanorthpugetsound.org/calendar-item/fellowship-event-fall-beach-party
LOCATION:Gerry and Jeff Riggs\, 18628 Soundview Dr NW\, Stanwood\, WA\, 98292\, United States
END:VEVENT
BEGIN:VEVENT
DTSTART;TZID=America/Los_Angeles:20180726T170000
DTEND;TZID=America/Los_Angeles:20180726T210000
DTSTAMP:20260423T163459
CREATED:20180416T094718Z
LAST-MODIFIED:20180416T094718Z
UID:3871-1532624400-1532638800@zontanorthpugetsound.org
SUMMARY:Fellowship event
DESCRIPTION:Annual Summer Pool Party!
URL:https://zontanorthpugetsound.org/calendar-item/fellowship-event-2
LOCATION:Pool Party\, 4200 84th ST NE #15\, Marysville\, 98270\, United States
END:VEVENT
BEGIN:VEVENT
DTSTART;TZID=UTC:20180625T073000
DTEND;TZID=UTC:20180625T090000
DTSTAMP:20260423T163459
CREATED:20180521T231329Z
LAST-MODIFIED:20180521T231329Z
UID:3886-1529911800-1529917200@zontanorthpugetsound.org
SUMMARY:Board Meeting
DESCRIPTION:Location TBD
URL:https://zontanorthpugetsound.org/calendar-item/board-meeting-8
END:VEVENT
BEGIN:VEVENT
DTSTART;TZID=UTC:20180622T090000
DTEND;TZID=UTC:20180622T130000
DTSTAMP:20260423T163459
CREATED:20180521T231509Z
LAST-MODIFIED:20180521T231630Z
UID:3888-1529658000-1529672400@zontanorthpugetsound.org
SUMMARY:Annual Retreat
DESCRIPTION:Zonta members only\, to plan the upcoming year.
URL:https://zontanorthpugetsound.org/calendar-item/annual-retreat-2
LOCATION:Everett Public Library\, 2702 Hoyt Ave.\, Everett\, WA\, 98201\, United States
END:VEVENT
BEGIN:VEVENT
DTSTART;TZID=UTC:20180622T090000
DTEND;TZID=UTC:20180622T130000
DTSTAMP:20260423T163459
CREATED:20180416T100301Z
LAST-MODIFIED:20180416T100301Z
UID:3878-1529658000-1529672400@zontanorthpugetsound.org
SUMMARY:Annual Retreat
DESCRIPTION:Our annual planning event for members. \nPlease plan to attend!  The more participation we have\, the more dynamic our upcoming year will be.
URL:https://zontanorthpugetsound.org/calendar-item/annual-retreat
LOCATION:Everett Public Library\, 2702 Hoyt Ave.\, Everett\, WA\, 98201\, United States
END:VEVENT
BEGIN:VEVENT
DTSTART;TZID=UTC:20180607T070500
DTEND;TZID=UTC:20180607T090000
DTSTAMP:20260423T163459
CREATED:20170828T062452Z
LAST-MODIFIED:20171008T003200Z
UID:3738-1528355100-1528362000@zontanorthpugetsound.org
SUMMARY:Business Meeting
DESCRIPTION:
URL:https://zontanorthpugetsound.org/calendar-item/business-meeting-24
LOCATION:CaféWorks\,  is located inside HopeWorks Station at 3331 Broadway\, Everett\, WA\, 98201\, United States
END:VEVENT
BEGIN:VEVENT
DTSTART;TZID=UTC:20180521T174500
DTEND;TZID=UTC:20180521T190000
DTSTAMP:20260423T163459
CREATED:20180521T230826Z
LAST-MODIFIED:20180521T230826Z
UID:3883-1526924700-1526929200@zontanorthpugetsound.org
SUMMARY:Board Meeting
DESCRIPTION:
URL:https://zontanorthpugetsound.org/calendar-item/board-meeting-9
LOCATION:Carrie Blair’s Home
END:VEVENT
BEGIN:VEVENT
DTSTART;TZID=UTC:20180517T173000
DTEND;TZID=UTC:20180517T173000
DTSTAMP:20260423T163459
CREATED:20170828T062345Z
LAST-MODIFIED:20170828T062345Z
UID:3736-1526578200-1526578200@zontanorthpugetsound.org
SUMMARY:VIP Dinner
DESCRIPTION:The night we celebrate the VIP’s in our Zonta organization.
URL:https://zontanorthpugetsound.org/calendar-item/vip-dinner-4
LOCATION:Legion Memorial Golf Course\, 144 W. Marine View Drive\, Everett\, WA\, 98201\, United States
END:VEVENT
BEGIN:VEVENT
DTSTART;TZID=America/Los_Angeles:20180503T073000
DTEND;TZID=America/Los_Angeles:20180503T090000
DTSTAMP:20260423T163459
CREATED:20170828T062214Z
LAST-MODIFIED:20170828T062214Z
UID:3734-1525332600-1525338000@zontanorthpugetsound.org
SUMMARY:Business Meeting
DESCRIPTION:
URL:https://zontanorthpugetsound.org/calendar-item/business-meeting-23
LOCATION:CaféWorks\,  is located inside HopeWorks Station at 3331 Broadway\, Everett\, WA\, 98201\, United States
END:VEVENT
BEGIN:VEVENT
DTSTART;TZID=UTC:20180430T174500
DTEND;TZID=UTC:20180430T190000
DTSTAMP:20260423T163459
CREATED:20171008T020646Z
LAST-MODIFIED:20171008T020646Z
UID:3767-1525110300-1525114800@zontanorthpugetsound.org
SUMMARY:Board Meeting
DESCRIPTION:
URL:https://zontanorthpugetsound.org/calendar-item/board-meeting-7
LOCATION:Vintage Cafe\, 1510 Hewitt Ave\, Everett\, WA\, 98201\, United States
END:VEVENT
BEGIN:VEVENT
DTSTART;TZID=UTC:20180424T173000
DTEND;TZID=UTC:20180424T190000
DTSTAMP:20260423T163459
CREATED:20180416T094920Z
LAST-MODIFIED:20180416T094920Z
UID:3874-1524591000-1524596400@zontanorthpugetsound.org
SUMMARY:Membership Committee Meeting
DESCRIPTION:
URL:https://zontanorthpugetsound.org/calendar-item/membership-committee-meeting-6
LOCATION:Home of Carol Janowicz\, 2425 56th St SW\, Everett\, WA\, United States
END:VEVENT
BEGIN:VEVENT
DTSTART;TZID=UTC:20180419T113000
DTEND;TZID=UTC:20180419T130000
DTSTAMP:20260423T163459
CREATED:20170828T062018Z
LAST-MODIFIED:20171008T012527Z
UID:3732-1524137400-1524142800@zontanorthpugetsound.org
SUMMARY:Program Meeting
DESCRIPTION:
URL:https://zontanorthpugetsound.org/calendar-item/program-meeting-11
LOCATION:Legion Memorial Golf Course\, 144 W. Marine View Drive\, Everett\, WA\, 98201\, United States
END:VEVENT
BEGIN:VEVENT
DTSTART;TZID=UTC:20180405T073000
DTEND;TZID=UTC:20180405T090000
DTSTAMP:20260423T163459
CREATED:20170828T061704Z
LAST-MODIFIED:20170828T061908Z
UID:3730-1522913400-1522918800@zontanorthpugetsound.org
SUMMARY:Business Meeting
DESCRIPTION:
URL:https://zontanorthpugetsound.org/calendar-item/business-meeting-22
LOCATION:CaféWorks\,  is located inside HopeWorks Station at 3331 Broadway\, Everett\, WA\, 98201\, United States
END:VEVENT
END:VCALENDAR