BEGIN:VCALENDAR
VERSION:2.0
PRODID:-//Zonta Club of North Puget Sound WA- Aka Zonta Club of Everett - ECPv6.15.20//NONSGML v1.0//EN
CALSCALE:GREGORIAN
METHOD:PUBLISH
X-WR-CALNAME:Zonta Club of North Puget Sound WA- Aka Zonta Club of Everett
X-ORIGINAL-URL:https://zontanorthpugetsound.org
X-WR-CALDESC:Events for Zonta Club of North Puget Sound WA- Aka Zonta Club of Everett
REFRESH-INTERVAL;VALUE=DURATION:PT1H
X-Robots-Tag:noindex
X-PUBLISHED-TTL:PT1H
BEGIN:VTIMEZONE
TZID:UTC
BEGIN:STANDARD
TZOFFSETFROM:+0000
TZOFFSETTO:+0000
TZNAME:UTC
DTSTART:20150101T000000
END:STANDARD
END:VTIMEZONE
BEGIN:VEVENT
DTSTART;TZID=UTC:20171005T073000
DTEND;TZID=UTC:20171005T090000
DTSTAMP:20260425T045000
CREATED:20170828T042140Z
LAST-MODIFIED:20170828T042146Z
UID:3693-1507188600-1507194000@zontanorthpugetsound.org
SUMMARY:Business Meeting
DESCRIPTION:
URL:https://zontanorthpugetsound.org/calendar-item/business-meeting-18
LOCATION:CaféWorks\,  is located inside HopeWorks Station at 3331 Broadway\, Everett\, WA\, 98201\, United States
END:VEVENT
BEGIN:VEVENT
DTSTART;VALUE=DATE:20170922
DTEND;VALUE=DATE:20170924
DTSTAMP:20260425T045000
CREATED:20170823T113802Z
LAST-MODIFIED:20170823T113802Z
UID:3664-1506038400-1506211199@zontanorthpugetsound.org
SUMMARY:Zonta District Conference
DESCRIPTION:We hope a large group will be able to attend!  Register at the website\, below.
URL:https://zontanorthpugetsound.org/calendar-item/zonta-district-conference
LOCATION:Holiday Inn Yakima\, 802 E Yakima Ave\, Yakima\, WA\, 98901\, United States
END:VEVENT
BEGIN:VEVENT
DTSTART;TZID=UTC:20170915T170500
DTEND;TZID=UTC:20170915T210000
DTSTAMP:20260425T045000
CREATED:20170904T011510Z
LAST-MODIFIED:20170904T011510Z
UID:3747-1505495100-1505509200@zontanorthpugetsound.org
SUMMARY:Fellowship (TGIF) Event
DESCRIPTION:Join us for a fellowship event and spend some time with your fellow Zontians.  Bring a friend!
URL:https://zontanorthpugetsound.org/calendar-item/fellowship-tgif-event
LOCATION:Arnie’s\, 714 2nd St.\, Mukilteo
END:VEVENT
BEGIN:VEVENT
DTSTART;TZID=UTC:20170907T073000
DTEND;TZID=UTC:20170907T090000
DTSTAMP:20260425T045000
CREATED:20170823T111431Z
LAST-MODIFIED:20170823T112348Z
UID:3655-1504769400-1504774800@zontanorthpugetsound.org
SUMMARY:Business Meeting
DESCRIPTION:Our business meetings have moved to a new venue!
URL:https://zontanorthpugetsound.org/calendar-item/business-meeting-17
LOCATION:CaféWorks\,  is located inside HopeWorks Station at 3331 Broadway\, Everett\, WA\, 98201\, United States
END:VEVENT
BEGIN:VEVENT
DTSTART;TZID=UTC:20170828T174500
DTEND;TZID=UTC:20170828T190000
DTSTAMP:20260425T045000
CREATED:20170828T062907Z
LAST-MODIFIED:20170828T062907Z
UID:3740-1503942300-1503946800@zontanorthpugetsound.org
SUMMARY:Board Meeting
DESCRIPTION:
URL:https://zontanorthpugetsound.org/calendar-item/board-meeting-2
LOCATION:Vintage Cafe\, 1510 Hewitt Ave\, Everett\, WA\, 98201\, United States
END:VEVENT
BEGIN:VEVENT
DTSTART;TZID=UTC:20170828T174500
DTEND;TZID=UTC:20170828T190000
DTSTAMP:20260425T045000
CREATED:20170823T105956Z
LAST-MODIFIED:20170823T105956Z
UID:3651-1503942300-1503946800@zontanorthpugetsound.org
SUMMARY:Board Meeting
DESCRIPTION:
URL:https://zontanorthpugetsound.org/calendar-item/board-meeting
LOCATION:Vintage Cafe\, 1510 Hewitt Ave\, Everett\, WA\, 98201\, United States
END:VEVENT
BEGIN:VEVENT
DTSTART;TZID=UTC:20170824T180000
DTEND;TZID=UTC:20170824T203000
DTSTAMP:20260425T045000
CREATED:20170823T112948Z
LAST-MODIFIED:20170823T112948Z
UID:3660-1503597600-1503606600@zontanorthpugetsound.org
SUMMARY:Fellowship Event
DESCRIPTION:Join us for food\, fun and fellowship while listening to Music at the Marina\, at Lombardi’s Italian Restaurant
URL:https://zontanorthpugetsound.org/calendar-item/fellowship-event
LOCATION:Lombardi’s Italian Restaurant\, 1620 W. Marine View Dr\, Everett\, WA\, 98201\, United States
END:VEVENT
BEGIN:VEVENT
DTSTART;TZID=UTC:20170601T073000
DTEND;TZID=UTC:20170601T090000
DTSTAMP:20260425T045000
CREATED:20160719T120517Z
LAST-MODIFIED:20160719T120517Z
UID:3087-1496302200-1496307600@zontanorthpugetsound.org
SUMMARY:Business Meeting
DESCRIPTION:Zonta of Everett business meeting
URL:https://zontanorthpugetsound.org/calendar-item/business-meeting-16
LOCATION:Legion Memorial Golf Course\, 144 W. Marine View Drive\, Everett\, WA\, 98201\, United States
END:VEVENT
BEGIN:VEVENT
DTSTART;TZID=UTC:20170518T173000
DTEND;TZID=UTC:20170518T203000
DTSTAMP:20260425T045000
CREATED:20160719T120408Z
LAST-MODIFIED:20160719T120408Z
UID:3086-1495128600-1495139400@zontanorthpugetsound.org
SUMMARY:VIP Dinner
DESCRIPTION:Zonta of Everett VIP Dinner
URL:https://zontanorthpugetsound.org/calendar-item/vip-dinner-3
LOCATION:Legion Memorial Golf Course\, 144 W. Marine View Drive\, Everett\, WA\, 98201\, United States
END:VEVENT
BEGIN:VEVENT
DTSTART;TZID=UTC:20170504T073000
DTEND;TZID=UTC:20170504T090000
DTSTAMP:20260425T045000
CREATED:20160719T120128Z
LAST-MODIFIED:20160719T120128Z
UID:3085-1493883000-1493888400@zontanorthpugetsound.org
SUMMARY:Business Meeting
DESCRIPTION:Zonta of Everett business meeting
URL:https://zontanorthpugetsound.org/calendar-item/business-meeting-15
LOCATION:Legion Memorial Golf Course\, 144 W. Marine View Drive\, Everett\, WA\, 98201\, United States
END:VEVENT
BEGIN:VEVENT
DTSTART;TZID=UTC:20170420T113000
DTEND;TZID=UTC:20170420T130000
DTSTAMP:20260425T045000
CREATED:20160719T120005Z
LAST-MODIFIED:20160719T120017Z
UID:3084-1492687800-1492693200@zontanorthpugetsound.org
SUMMARY:Program Meeting
DESCRIPTION:Zonta of Everett program meeting
URL:https://zontanorthpugetsound.org/calendar-item/program-meeting-8
LOCATION:Legion Memorial Golf Course\, 144 W. Marine View Drive\, Everett\, WA\, 98201\, United States
END:VEVENT
BEGIN:VEVENT
DTSTART;TZID=UTC:20170406T073000
DTEND;TZID=UTC:20170406T090000
DTSTAMP:20260425T045000
CREATED:20160719T115908Z
LAST-MODIFIED:20160719T115908Z
UID:3083-1491463800-1491469200@zontanorthpugetsound.org
SUMMARY:Business Meeting
DESCRIPTION:Zonta of Everett business meeting
URL:https://zontanorthpugetsound.org/calendar-item/business-meeting-14
LOCATION:Legion Memorial Golf Course\, 144 W. Marine View Drive\, Everett\, WA\, 98201\, United States
END:VEVENT
BEGIN:VEVENT
DTSTART;TZID=UTC:20170316T180000
DTEND;TZID=UTC:20170316T180000
DTSTAMP:20260425T045000
CREATED:20161103T114728Z
LAST-MODIFIED:20161103T114728Z
UID:3456-1489687200-1489687200@zontanorthpugetsound.org
SUMMARY:Agency grants will be distributed to recipients
DESCRIPTION:
URL:https://zontanorthpugetsound.org/calendar-item/agency-grants-will-be-distributed-to-recipients
LOCATION:WA
END:VEVENT
BEGIN:VEVENT
DTSTART;TZID=UTC:20170316T113000
DTEND;TZID=UTC:20170316T130000
DTSTAMP:20260425T045000
CREATED:20160719T115631Z
LAST-MODIFIED:20160719T115631Z
UID:3082-1489663800-1489669200@zontanorthpugetsound.org
SUMMARY:Program Meeting
DESCRIPTION:Zonta of Everett program meeting
URL:https://zontanorthpugetsound.org/calendar-item/program-meeting-7
LOCATION:Le Bistro (Sno-Isle Skills Center)
END:VEVENT
BEGIN:VEVENT
DTSTART;TZID=UTC:20170302T073000
DTEND;TZID=UTC:20170302T090000
DTSTAMP:20260425T045000
CREATED:20160719T115427Z
LAST-MODIFIED:20160719T115427Z
UID:3081-1488439800-1488445200@zontanorthpugetsound.org
SUMMARY:Business Meeting
DESCRIPTION:Zonta of Everett business meeting
URL:https://zontanorthpugetsound.org/calendar-item/business-meeting-13
LOCATION:Legion Memorial Golf Course\, 144 W. Marine View Drive\, Everett\, WA\, 98201\, United States
END:VEVENT
BEGIN:VEVENT
DTSTART;TZID=UTC:20170204T173000
DTEND;TZID=UTC:20170204T220000
DTSTAMP:20260425T045000
CREATED:20170103T135308Z
LAST-MODIFIED:20170103T140527Z
UID:3577-1486229400-1486245600@zontanorthpugetsound.org
SUMMARY:Fundraiser Gala "From the Heart"
DESCRIPTION:Get Tickets
URL:https://zontanorthpugetsound.org/calendar-item/fundraiser-gala-from-the-heart
LOCATION:Everett Golf and Country Club\, 1500 52nd St SE\, Everett\, WA\, 98203\, United States
END:VEVENT
BEGIN:VEVENT
DTSTART;TZID=UTC:20170202T073000
DTEND;TZID=UTC:20170202T130000
DTSTAMP:20260425T045000
CREATED:20160719T115222Z
LAST-MODIFIED:20160719T115240Z
UID:3080-1486020600-1486040400@zontanorthpugetsound.org
SUMMARY:Business Meeting
DESCRIPTION:Zonta of Everett business meeting
URL:https://zontanorthpugetsound.org/calendar-item/business-meeting-12
LOCATION:Legion Memorial Golf Course\, 144 W. Marine View Drive\, Everett\, WA\, 98201\, United States
END:VEVENT
BEGIN:VEVENT
DTSTART;TZID=UTC:20170119T113000
DTEND;TZID=UTC:20170119T130000
DTSTAMP:20260425T045000
CREATED:20160719T115044Z
LAST-MODIFIED:20160719T115053Z
UID:3079-1484825400-1484830800@zontanorthpugetsound.org
SUMMARY:Program Meeting
DESCRIPTION:Zonta of Everett program meeting
URL:https://zontanorthpugetsound.org/calendar-item/program-meeting-6
LOCATION:Legion Memorial Golf Course\, 144 W. Marine View Drive\, Everett\, WA\, 98201\, United States
END:VEVENT
BEGIN:VEVENT
DTSTART;TZID=UTC:20170112T173000
DTEND;TZID=UTC:20170112T183000
DTSTAMP:20260425T045000
CREATED:20160906T023218Z
LAST-MODIFIED:20160906T023218Z
UID:3122-1484242200-1484245800@zontanorthpugetsound.org
SUMMARY:Membership Committee Meeting
DESCRIPTION:
URL:https://zontanorthpugetsound.org/calendar-item/membership-committee-meeting-5
LOCATION:Home of Carol Janowicz\, 2425 56th St SW\, Everett\, WA\, United States
END:VEVENT
BEGIN:VEVENT
DTSTART;TZID=UTC:20170105T073000
DTEND;TZID=UTC:20170105T090000
DTSTAMP:20260425T045000
CREATED:20160719T114931Z
LAST-MODIFIED:20160719T114939Z
UID:3078-1483601400-1483606800@zontanorthpugetsound.org
SUMMARY:Business Meeting
DESCRIPTION:Zonta of Everett business meeting
URL:https://zontanorthpugetsound.org/calendar-item/business-meeting-11
LOCATION:Legion Memorial Golf Course\, 144 W. Marine View Drive\, Everett\, WA\, 98201\, United States
END:VEVENT
BEGIN:VEVENT
DTSTART;TZID=UTC:20161221T120000
DTEND;TZID=UTC:20161221T160000
DTSTAMP:20260425T045000
CREATED:20160906T030853Z
LAST-MODIFIED:20161205T112845Z
UID:3130-1482321600-1482336000@zontanorthpugetsound.org
SUMMARY:Cocoon House Dinner Sponsorship
DESCRIPTION:We drop off a meal for\nCocoon House Outreach Center\nevery 2nd Wednesday of the month.
URL:https://zontanorthpugetsound.org/calendar-item/cocoon-house-dinner-sponsorship-4
LOCATION:WA
END:VEVENT
BEGIN:VEVENT
DTSTART;TZID=UTC:20161215T113000
DTEND;TZID=UTC:20161215T133000
DTSTAMP:20260425T045000
CREATED:20160719T114809Z
LAST-MODIFIED:20160719T114809Z
UID:3077-1481801400-1481808600@zontanorthpugetsound.org
SUMMARY:Holiday Auction
DESCRIPTION:Zonta of Everett Holiday Auction
URL:https://zontanorthpugetsound.org/calendar-item/holiday-auction-2
LOCATION:Legion Memorial Golf Course\, 144 W. Marine View Drive\, Everett\, WA\, 98201\, United States
END:VEVENT
BEGIN:VEVENT
DTSTART;TZID=UTC:20161206T173000
DTEND;TZID=UTC:20161206T183000
DTSTAMP:20260425T045000
CREATED:20160906T023059Z
LAST-MODIFIED:20160906T023059Z
UID:3120-1481045400-1481049000@zontanorthpugetsound.org
SUMMARY:Membership Committee Meeting
DESCRIPTION:
URL:https://zontanorthpugetsound.org/calendar-item/membership-committee-meeting-4
LOCATION:Home of Carol Janowicz\, 2425 56th St SW\, Everett\, WA\, United States
END:VEVENT
BEGIN:VEVENT
DTSTART;TZID=UTC:20161201T073000
DTEND;TZID=UTC:20161201T090000
DTSTAMP:20260425T045000
CREATED:20160719T114633Z
LAST-MODIFIED:20160719T114641Z
UID:3076-1480577400-1480582800@zontanorthpugetsound.org
SUMMARY:Business Meeting
DESCRIPTION:Zonta of Everett business meeting
URL:https://zontanorthpugetsound.org/calendar-item/business-meeting-10
LOCATION:WA
END:VEVENT
BEGIN:VEVENT
DTSTART;TZID=UTC:20161117T173000
DTEND;TZID=UTC:20161117T200000
DTSTAMP:20260425T045000
CREATED:20160719T114430Z
LAST-MODIFIED:20160719T114439Z
UID:3075-1479403800-1479412800@zontanorthpugetsound.org
SUMMARY:Founder's Day Event
DESCRIPTION:Founder’s Day Dinner
URL:https://zontanorthpugetsound.org/calendar-item/founders-day-event
LOCATION:Legion Memorial Golf Course\, 144 W. Marine View Drive\, Everett\, WA\, 98201\, United States
END:VEVENT
BEGIN:VEVENT
DTSTART;TZID=UTC:20161116T173000
DTEND;TZID=UTC:20161116T200000
DTSTAMP:20260425T045000
CREATED:20161108T120935Z
LAST-MODIFIED:20161108T120959Z
UID:3466-1479317400-1479326400@zontanorthpugetsound.org
SUMMARY:Movie Showing: "A Cherokee Word for Water"
DESCRIPTION:Zonta of Everett & Everett Community College Present \nA Cherokee Word for Water \nThe inspiring story of Wilma Mankiller. \nSuggested donation $20.00.  Proceeds go to a scholarship for women studying aviation.
URL:https://zontanorthpugetsound.org/calendar-item/movie-showing-a-cherokee-word-for-water
LOCATION:Henry M. Jackson Conference Center\,Everett Community College\, 2000 Tower Street\,  room 101\, Everett\, WA\, 98201\, United States
END:VEVENT
BEGIN:VEVENT
DTSTART;TZID=UTC:20161115T173000
DTEND;TZID=UTC:20161115T183000
DTSTAMP:20260425T045000
CREATED:20160906T022938Z
LAST-MODIFIED:20160906T022938Z
UID:3118-1479231000-1479234600@zontanorthpugetsound.org
SUMMARY:Membership Committee Meeting
DESCRIPTION:
URL:https://zontanorthpugetsound.org/calendar-item/membership-committee-meeting-3
LOCATION:Home of Carol Janowicz\, 2425 56th St SW\, Everett\, WA\, United States
END:VEVENT
BEGIN:VEVENT
DTSTART;TZID=UTC:20161109T120000
DTEND;TZID=UTC:20161109T160000
DTSTAMP:20260425T045000
CREATED:20160906T030817Z
LAST-MODIFIED:20160906T030817Z
UID:3128-1478692800-1478707200@zontanorthpugetsound.org
SUMMARY:Cocoon House Dinner Sponsorship
DESCRIPTION:We drop off a meal for\nCocoon House Outreach Center\nevery 2nd Wednesday of the month.
URL:https://zontanorthpugetsound.org/calendar-item/cocoon-house-dinner-sponsorship-3
LOCATION:WA
END:VEVENT
BEGIN:VEVENT
DTSTART;TZID=UTC:20161103T073000
DTEND;TZID=UTC:20161103T090000
DTSTAMP:20260425T045000
CREATED:20160719T113127Z
LAST-MODIFIED:20160719T113127Z
UID:3073-1478158200-1478163600@zontanorthpugetsound.org
SUMMARY:Business Meeting
DESCRIPTION:Zonta of Everett business meeting
URL:https://zontanorthpugetsound.org/calendar-item/business-meeting-9
LOCATION:Legion Memorial Golf Course\, 144 W. Marine View Drive\, Everett\, WA\, 98201\, United States
END:VEVENT
BEGIN:VEVENT
DTSTART;TZID=UTC:20161023T140000
DTEND;TZID=UTC:20161023T160000
DTSTAMP:20260425T045000
CREATED:20160926T023115Z
LAST-MODIFIED:20161013T125451Z
UID:3152-1477231200-1477238400@zontanorthpugetsound.org
SUMMARY:Memorial for Jeanne Judd
DESCRIPTION:Donations in Jeanne’s name to Zonta Club of Everett have been requested.
URL:https://zontanorthpugetsound.org/calendar-item/memorial-for-jeanne-judd
LOCATION:Floral Hall at Forest Park\, 802 E Mukilteo Blvd\, Everett\, 98203\, United States
END:VEVENT
END:VCALENDAR