BEGIN:VCALENDAR
VERSION:2.0
PRODID:-//Zonta Club of North Puget Sound WA- Aka Zonta Club of Everett - ECPv6.15.20//NONSGML v1.0//EN
CALSCALE:GREGORIAN
METHOD:PUBLISH
X-WR-CALNAME:Zonta Club of North Puget Sound WA- Aka Zonta Club of Everett
X-ORIGINAL-URL:https://zontanorthpugetsound.org
X-WR-CALDESC:Events for Zonta Club of North Puget Sound WA- Aka Zonta Club of Everett
REFRESH-INTERVAL;VALUE=DURATION:PT1H
X-Robots-Tag:noindex
X-PUBLISHED-TTL:PT1H
BEGIN:VTIMEZONE
TZID:UTC
BEGIN:STANDARD
TZOFFSETFROM:+0000
TZOFFSETTO:+0000
TZNAME:UTC
DTSTART:20130101T000000
END:STANDARD
END:VTIMEZONE
BEGIN:VEVENT
DTSTART;TZID=UTC:20160318T180000
DTEND;TZID=UTC:20160318T210000
DTSTAMP:20260423T181426
CREATED:20150911T050359Z
LAST-MODIFIED:20150911T050359Z
UID:2910-1458324000-1458334800@zontanorthpugetsound.org
SUMMARY:Bunco Party
DESCRIPTION:
URL:https://zontanorthpugetsound.org/calendar-item/bunco-party
LOCATION:Home of Carol Johnson
END:VEVENT
BEGIN:VEVENT
DTSTART;TZID=UTC:20160308T113000
DTEND;TZID=UTC:20160308T170000
DTSTAMP:20260423T181426
CREATED:20150605T033836Z
LAST-MODIFIED:20150605T033836Z
UID:2833-1457436600-1457456400@zontanorthpugetsound.org
SUMMARY:International Women's Day/Rose Day Forum
DESCRIPTION:
URL:https://zontanorthpugetsound.org/calendar-item/international-womens-dayrose-day-forum
LOCATION:TBA
END:VEVENT
BEGIN:VEVENT
DTSTART;TZID=UTC:20160218T113000
DTEND;TZID=UTC:20160218T133000
DTSTAMP:20260423T181426
CREATED:20150605T033656Z
LAST-MODIFIED:20150605T033656Z
UID:2831-1455795000-1455802200@zontanorthpugetsound.org
SUMMARY:Business/Program Meeting
DESCRIPTION:
URL:https://zontanorthpugetsound.org/calendar-item/businessprogram-meeting-6
LOCATION:Le Bistro (Sno-Isle Skills Center)
END:VEVENT
BEGIN:VEVENT
DTSTART;TZID=UTC:20160121T113000
DTEND;TZID=UTC:20160121T133000
DTSTAMP:20260423T181426
CREATED:20150605T033507Z
LAST-MODIFIED:20151225T024646Z
UID:2830-1453375800-1453383000@zontanorthpugetsound.org
SUMMARY:Business/Program Meeting
DESCRIPTION:Lisa Fitch and Shelia Dunn from EVCC will be speaking on how EVCC is providing tools that empower women to be self-sufficient and successful.
URL:https://zontanorthpugetsound.org/calendar-item/businessprogram-meeting-5
LOCATION:Legion Memorial Golf Course\, 144 W. Marine View Drive\, Everett\, WA\, 98201\, United States
END:VEVENT
BEGIN:VEVENT
DTSTART;TZID=UTC:20160115T180000
DTEND;TZID=UTC:20160115T210000
DTSTAMP:20260423T181426
CREATED:20150911T050212Z
LAST-MODIFIED:20150911T050212Z
UID:2908-1452880800-1452891600@zontanorthpugetsound.org
SUMMARY:Fondues & Raclettes
DESCRIPTION:
URL:https://zontanorthpugetsound.org/calendar-item/fondues-raclettes
LOCATION:Home of Jeanne Judd
END:VEVENT
BEGIN:VEVENT
DTSTART;TZID=UTC:20151217T113000
DTEND;TZID=UTC:20151217T140000
DTSTAMP:20260423T181426
CREATED:20150605T033335Z
LAST-MODIFIED:20150605T033335Z
UID:2828-1450351800-1450360800@zontanorthpugetsound.org
SUMMARY:Holiday Auction
DESCRIPTION:
URL:https://zontanorthpugetsound.org/calendar-item/holiday-auction
LOCATION:TBA
END:VEVENT
BEGIN:VEVENT
DTSTART;TZID=UTC:20151204T173000
DTEND;TZID=UTC:20151204T200000
DTSTAMP:20260423T181426
CREATED:20151205T013021Z
LAST-MODIFIED:20150911T053249Z
UID:2906-1449250200-1449259200@zontanorthpugetsound.org
SUMMARY:Holiday Party
DESCRIPTION:
URL:https://zontanorthpugetsound.org/calendar-item/holiday-party
LOCATION:Home of Carol Janowicz\, 2425 56th St SW\, Everett\, WA\, United States
END:VEVENT
BEGIN:VEVENT
DTSTART;TZID=UTC:20151204T053000
DTEND;TZID=UTC:20151204T200000
DTSTAMP:20260423T181426
CREATED:20151105T002039Z
LAST-MODIFIED:20151105T002131Z
UID:2934-1449207000-1449259200@zontanorthpugetsound.org
SUMMARY:Festive Fellowship Event
DESCRIPTION:Get in the sprit! Bring your spouse/partner and friends to our festive fellowship event.  This is a potluck with holiday appetizers\, desserts and wines.  We will celebrate the season with holiday cheer\, friends and a sing-along with Alan Marsh.
URL:https://zontanorthpugetsound.org/calendar-item/festive-fellowship-event
LOCATION:Home of Nancy and Paul Kniest\, 5121 Harbor Lane\, Everett
END:VEVENT
BEGIN:VEVENT
DTSTART;TZID=UTC:20151119T113000
DTEND;TZID=UTC:20151119T133000
DTSTAMP:20260423T181426
CREATED:20150605T033209Z
LAST-MODIFIED:20150605T033209Z
UID:2827-1447932600-1447939800@zontanorthpugetsound.org
SUMMARY:Business/Program Meeting
DESCRIPTION:
URL:https://zontanorthpugetsound.org/calendar-item/businessprogram-meeting-4
LOCATION:Legion Memorial Golf Course\, 144 W. Marine View Drive\, Everett\, WA\, 98201\, United States
END:VEVENT
BEGIN:VEVENT
DTSTART;TZID=UTC:20151024T170000
DTEND;TZID=UTC:20151024T220000
DTSTAMP:20260423T181426
CREATED:20150226T060636Z
LAST-MODIFIED:20150226T060636Z
UID:2667-1445706000-1445724000@zontanorthpugetsound.org
SUMMARY:Zonta Club of Everett Foundation's Annual Auction
DESCRIPTION:For reservations or additional information contact info@zontaeverett.org
URL:https://zontanorthpugetsound.org/calendar-item/zonta-club-of-everett-foundations-annual-auction
LOCATION:Lynnwood Convention Center\, 3711 196th St SW\, Lynnwood\, WA\, 98036\, United States
ORGANIZER;CN="Zonta Club of Everett Foundation":MAILTO:info@zontaeverett.org
END:VEVENT
BEGIN:VEVENT
DTSTART;TZID=UTC:20151024T053000
DTEND;TZID=UTC:20151024T170000
DTSTAMP:20260423T181426
CREATED:20150605T032940Z
LAST-MODIFIED:20150605T032940Z
UID:2824-1445664600-1445706000@zontanorthpugetsound.org
SUMMARY:Auction
DESCRIPTION:
URL:https://zontanorthpugetsound.org/calendar-item/auction
LOCATION:Lynnwood Convention Center\, 3711 196th St SW\, Lynnwood\, WA\, 98036\, United States
END:VEVENT
BEGIN:VEVENT
DTSTART;TZID=UTC:20151013T173000
DTEND;TZID=UTC:20151013T190000
DTSTAMP:20260423T181426
CREATED:20151003T043055Z
LAST-MODIFIED:20151003T043055Z
UID:2920-1444757400-1444762800@zontanorthpugetsound.org
SUMMARY:Strengthening Women's Economic Security
DESCRIPTION:Everett Forum Oct 13 Flyer
URL:https://zontanorthpugetsound.org/calendar-item/strengthening-womens-economic-security
LOCATION:Everett Community College\, Jason Conference Center\, Senate Room JKC 106
END:VEVENT
BEGIN:VEVENT
DTSTART;TZID=UTC:20151008T113000
DTEND;TZID=UTC:20151008T133000
DTSTAMP:20260423T181426
CREATED:20150605T032823Z
LAST-MODIFIED:20150605T032823Z
UID:2822-1444303800-1444311000@zontanorthpugetsound.org
SUMMARY:Business/Program Meeting
DESCRIPTION:
URL:https://zontanorthpugetsound.org/calendar-item/businessprogram-meeting-3
LOCATION:Legion Memorial Golf Course\, 144 W. Marine View Drive\, Everett\, WA\, 98201\, United States
END:VEVENT
BEGIN:VEVENT
DTSTART;VALUE=DATE:20151002
DTEND;VALUE=DATE:20151005
DTSTAMP:20260423T181426
CREATED:20150226T061359Z
LAST-MODIFIED:20150819T040941Z
UID:2669-1443744000-1444003199@zontanorthpugetsound.org
SUMMARY:District 8 Conference
DESCRIPTION:
URL:https://zontanorthpugetsound.org/calendar-item/district-8-conference
LOCATION:The Lodge at Riverside\, Grants Pass\, OR\, United States
END:VEVENT
BEGIN:VEVENT
DTSTART;TZID=UTC:20150917T113000
DTEND;TZID=UTC:20150917T133000
DTSTAMP:20260423T181426
CREATED:20150605T032607Z
LAST-MODIFIED:20150605T032607Z
UID:2820-1442489400-1442496600@zontanorthpugetsound.org
SUMMARY:Business/Program Meeting
DESCRIPTION:
URL:https://zontanorthpugetsound.org/calendar-item/businessprogram-meeting-2
LOCATION:Legion Memorial Golf Course\, 144 W. Marine View Drive\, Everett\, WA\, 98201\, United States
END:VEVENT
BEGIN:VEVENT
DTSTART;TZID=UTC:20150813T113000
DTEND;TZID=UTC:20150813T133000
DTSTAMP:20260423T181426
CREATED:20150605T032034Z
LAST-MODIFIED:20150605T032427Z
UID:2818-1439465400-1439472600@zontanorthpugetsound.org
SUMMARY:Business/Program Meeting
DESCRIPTION:
URL:https://zontanorthpugetsound.org/calendar-item/businessprogram-meeting
LOCATION:Legion Memorial Golf Course\, 144 W. Marine View Drive\, Everett\, WA\, 98201\, United States
END:VEVENT
BEGIN:VEVENT
DTSTART;TZID=UTC:20150720T180000
DTEND;TZID=UTC:20150720T193000
DTSTAMP:20260423T181426
CREATED:20150630T084423Z
LAST-MODIFIED:20150630T084423Z
UID:2858-1437415200-1437420600@zontanorthpugetsound.org
SUMMARY:PR Committee Meeting
DESCRIPTION:
URL:https://zontanorthpugetsound.org/calendar-item/pr-committee-meeting
LOCATION:Tampico\, 2303 Broadway\, Everett
END:VEVENT
BEGIN:VEVENT
DTSTART;TZID=UTC:20150716T163000
DTEND;TZID=UTC:20150716T210000
DTSTAMP:20260423T181426
CREATED:20150403T002457Z
LAST-MODIFIED:20150506T042028Z
UID:2779-1437064200-1437080400@zontanorthpugetsound.org
SUMMARY:Summer Pool Party
DESCRIPTION:
URL:https://zontanorthpugetsound.org/calendar-item/summer-pool-party
LOCATION:Wexford II Condominium\, 4200 84th ST NE #15\, Marysville\, WA\, 98270\, United States
END:VEVENT
BEGIN:VEVENT
DTSTART;TZID=UTC:20150712T110000
DTEND;TZID=UTC:20150712T150000
DTSTAMP:20260423T181426
CREATED:20150605T031605Z
LAST-MODIFIED:20150605T031704Z
UID:2815-1436698800-1436713200@zontanorthpugetsound.org
SUMMARY:Retreat
DESCRIPTION:Potluck
URL:https://zontanorthpugetsound.org/calendar-item/retreat
LOCATION:Suzanne Poppema’s Home
END:VEVENT
BEGIN:VEVENT
DTSTART;TZID=UTC:20150625T120000
DTEND;TZID=UTC:20150625T133000
DTSTAMP:20260423T181426
CREATED:20150227T030637Z
LAST-MODIFIED:20150227T030637Z
UID:2680-1435233600-1435239000@zontanorthpugetsound.org
SUMMARY:June Program Meeting "Wise Women"
DESCRIPTION:For reservations or additional information contact info@zontaeverett.org
URL:https://zontanorthpugetsound.org/calendar-item/june-program-meeting-wise-women
LOCATION:Legion Memorial Golf Course\, 144 W. Marine View Drive\, Everett\, WA\, 98201\, United States
END:VEVENT
BEGIN:VEVENT
DTSTART;TZID=UTC:20150612T080000
DTEND;TZID=UTC:20150614T120000
DTSTAMP:20260423T181426
CREATED:20140925T054715Z
LAST-MODIFIED:20150226T055040Z
UID:2619-1434096000-1434283200@zontanorthpugetsound.org
SUMMARY:North American Inter-District Meeting
DESCRIPTION:
URL:https://zontanorthpugetsound.org/calendar-item/north-america-summit
LOCATION:Hilton Minneapolist/St Paul Airport Mall of America\, 3800 American Blvd E\, Bloomington\, MN\, 55425\, United States
END:VEVENT
BEGIN:VEVENT
DTSTART;TZID=UTC:20150611T073000
DTEND;TZID=UTC:20150611T090000
DTSTAMP:20260423T181426
CREATED:20150227T030528Z
LAST-MODIFIED:20150227T030528Z
UID:2679-1434007800-1434013200@zontanorthpugetsound.org
SUMMARY:June Business Meeting
DESCRIPTION:For reservations or additional information contact info@zontaeverett.org
URL:https://zontanorthpugetsound.org/calendar-item/june-business-meeting-2
LOCATION:Legion Memorial Golf Course\, 144 W. Marine View Drive\, Everett\, WA\, 98201\, United States
END:VEVENT
BEGIN:VEVENT
DTSTART;TZID=UTC:20150521T173000
DTEND;TZID=UTC:20150521T200000
DTSTAMP:20260423T181426
CREATED:20150227T030342Z
LAST-MODIFIED:20150507T052510Z
UID:2678-1432229400-1432238400@zontanorthpugetsound.org
SUMMARY:VIP Dinner
DESCRIPTION:
URL:https://zontanorthpugetsound.org/calendar-item/vip-dinner
LOCATION:Everett Golf and Country Club\, 1500 52nd St SE\, Everett\, WA\, 98203\, United States
END:VEVENT
BEGIN:VEVENT
DTSTART;TZID=UTC:20150507T073000
DTEND;TZID=UTC:20150507T090000
DTSTAMP:20260423T181426
CREATED:20150227T030219Z
LAST-MODIFIED:20150227T030219Z
UID:2677-1430983800-1430989200@zontanorthpugetsound.org
SUMMARY:May Business Meeting
DESCRIPTION:For reservations or additional information contact info@zontaeverett.org
URL:https://zontanorthpugetsound.org/calendar-item/may-business-meeting
LOCATION:Legion Memorial Golf Course\, 144 W. Marine View Drive\, Everett\, WA\, 98201\, United States
END:VEVENT
BEGIN:VEVENT
DTSTART;TZID=UTC:20150424T170000
DTEND;TZID=UTC:20150425T160000
DTSTAMP:20260423T181426
CREATED:20150305T051317Z
LAST-MODIFIED:20150305T051317Z
UID:2688-1429894800-1429977600@zontanorthpugetsound.org
SUMMARY:Area 2/5 Workshop
DESCRIPTION:Area 2-5 Workshop Flyer
URL:https://zontanorthpugetsound.org/calendar-item/area-25-workshop
LOCATION:Little Creek Casino\, 91 W. State Route 108\, Shelton\, WA\, 98584-9270\, United States
ORGANIZER;CN="Zonta Club of South Puget Sound":MAILTO:billiew119@comcast.net
END:VEVENT
BEGIN:VEVENT
DTSTART;TZID=UTC:20150416T120000
DTEND;TZID=UTC:20150416T133000
DTSTAMP:20260423T181426
CREATED:20150227T025913Z
LAST-MODIFIED:20150227T030101Z
UID:2676-1429185600-1429191000@zontanorthpugetsound.org
SUMMARY:April Program Meeting
DESCRIPTION:For reservations or additional information contact info@zontaeverett.org
URL:https://zontanorthpugetsound.org/calendar-item/april-program-meeting
LOCATION:Legion Memorial Golf Course\, 144 W. Marine View Drive\, Everett\, WA\, 98201\, United States
END:VEVENT
BEGIN:VEVENT
DTSTART;TZID=UTC:20150402T073000
DTEND;TZID=UTC:20150402T090000
DTSTAMP:20260423T181426
CREATED:20150226T060254Z
LAST-MODIFIED:20150226T060344Z
UID:2666-1427959800-1427965200@zontanorthpugetsound.org
SUMMARY:April Business Meeting
DESCRIPTION:For reservations or additional information contact info@zontaeverett.org.
URL:https://zontanorthpugetsound.org/calendar-item/april-business-meeting
LOCATION:Legion Memorial Golf Course\, 144 W. Marine View Drive\, Everett\, WA\, 98201\, United States
END:VEVENT
BEGIN:VEVENT
DTSTART;TZID=UTC:20150325T113000
DTEND;TZID=UTC:20150325T133000
DTSTAMP:20260423T181426
CREATED:20150226T060158Z
LAST-MODIFIED:20150314T061053Z
UID:2665-1427283000-1427290200@zontanorthpugetsound.org
SUMMARY:Celebrating International Women's Day
DESCRIPTION:International Women’s Day Luncheon Invitation March 2015
URL:https://zontanorthpugetsound.org/calendar-item/march-program-meeting-2
LOCATION:Holiday Inn\, 3105 Pine\, Everett\, 98201\, United States
END:VEVENT
BEGIN:VEVENT
DTSTART;TZID=UTC:20150305T073000
DTEND;TZID=UTC:20150305T090000
DTSTAMP:20260423T181426
CREATED:20150226T055510Z
LAST-MODIFIED:20150226T055837Z
UID:2661-1425540600-1425546000@zontanorthpugetsound.org
SUMMARY:March Business Meeting
DESCRIPTION:For reservations or more information contact info@zontaeverett.org mailto:info@zontaeverett.org
URL:https://zontanorthpugetsound.org/calendar-item/business-meeting-2
LOCATION:Legion Memorial Golf Course\, 144 W. Marine View Drive\, Everett\, WA\, 98201\, United States
END:VEVENT
BEGIN:VEVENT
DTSTART;TZID=UTC:20141218T113000
DTEND;TZID=UTC:20141218T133000
DTSTAMP:20260423T181426
CREATED:20140414T014753Z
LAST-MODIFIED:20140414T014813Z
UID:1197-1418902200-1418909400@zontanorthpugetsound.org
SUMMARY:Annual Holiday Auction
DESCRIPTION:
URL:https://zontanorthpugetsound.org/calendar-item/annual-holiday-auction
LOCATION:Everett Golf and Country Club\, 1500 52nd St SE\, Everett\, WA\, 98203\, United States
END:VEVENT
END:VCALENDAR