BEGIN:VCALENDAR
VERSION:2.0
PRODID:-//Zonta Club of North Puget Sound WA- Aka Zonta Club of Everett - ECPv6.15.20//NONSGML v1.0//EN
CALSCALE:GREGORIAN
METHOD:PUBLISH
X-WR-CALNAME:Zonta Club of North Puget Sound WA- Aka Zonta Club of Everett
X-ORIGINAL-URL:https://zontanorthpugetsound.org
X-WR-CALDESC:Events for Zonta Club of North Puget Sound WA- Aka Zonta Club of Everett
REFRESH-INTERVAL;VALUE=DURATION:PT1H
X-Robots-Tag:noindex
X-PUBLISHED-TTL:PT1H
BEGIN:VTIMEZONE
TZID:America/Los_Angeles
BEGIN:DAYLIGHT
TZOFFSETFROM:-0800
TZOFFSETTO:-0700
TZNAME:PDT
DTSTART:20220313T100000
END:DAYLIGHT
BEGIN:STANDARD
TZOFFSETFROM:-0700
TZOFFSETTO:-0800
TZNAME:PST
DTSTART:20221106T090000
END:STANDARD
BEGIN:DAYLIGHT
TZOFFSETFROM:-0800
TZOFFSETTO:-0700
TZNAME:PDT
DTSTART:20230312T100000
END:DAYLIGHT
BEGIN:STANDARD
TZOFFSETFROM:-0700
TZOFFSETTO:-0800
TZNAME:PST
DTSTART:20231105T090000
END:STANDARD
BEGIN:DAYLIGHT
TZOFFSETFROM:-0800
TZOFFSETTO:-0700
TZNAME:PDT
DTSTART:20240310T100000
END:DAYLIGHT
BEGIN:STANDARD
TZOFFSETFROM:-0700
TZOFFSETTO:-0800
TZNAME:PST
DTSTART:20241103T090000
END:STANDARD
END:VTIMEZONE
BEGIN:VEVENT
DTSTART;TZID=America/Los_Angeles:20230401T173000
DTEND;TZID=America/Los_Angeles:20230401T210000
DTSTAMP:20260425T192307
CREATED:20221130T174528Z
LAST-MODIFIED:20230412T160752Z
UID:8223-1680370200-1680382800@zontanorthpugetsound.org
SUMMARY:2023 Annual Gala
DESCRIPTION:A great success: See our Photo Gallery + Results\n2023 Gala Fundraiser\n\n\n\n\n\n April 1st!\nFor our Gala and Auction \nA Little Bit of Magic\n $85 per person\nLive Magic + Silent Auction & Raffle\nSaturday April 1st 5:30 PM\nGreat fundraising fun! \n\n\n\n\n \n*MENU*\nPlease make your selections after you’ve purchased your ticket: \nClassic Caesar Salad \nRomaine\, Asiago Cheese\, Shaved Radish\, and Croutons\, with Caesar Dressing \nEntrees\nChicken Marsala \nwith Sweet\, Marsala Cream Sauce with Mushroom and Thyme \nServed with Garlic Mashed Potatoes with Butter and Half-n-Half \nMedley of Vegetables Sautéed with Garlic and Herbs \nOR \nPortobello Mushroom \nStuffed with Quinoa\, Peppers\, Parmesan and Spinach \n  \nDessert\nNew York Cheesecake with Salted Caramel Sauce \n \nRegrets donations will be gratefully accepted at the above link  to support scholarships and local community work.  \nIf you would like to donate by check or PayPal to support improving the lives of women and girls.  \n\n\nThank you to our Gala Sponsors:\nTitle Sponsor \n \n 
URL:https://zontanorthpugetsound.org/calendar-item/annual-gala-3
LOCATION:Everett Golf and Country Club\, 1500 52nd St SE\, Everett\, WA\, 98203\, United States
CATEGORIES:Special Events
ATTACH;FMTTYPE=image/png:https://zontanorthpugetsound.org/wp-content/uploads/2022/11/2023-Gala-Poster.png
ORGANIZER;CN="Zonta Club of Everett Foundation":MAILTO:info@zontaeverett.org
END:VEVENT
BEGIN:VEVENT
DTSTART;TZID=America/Los_Angeles:20230403T080000
DTEND;TZID=America/Los_Angeles:20230403T090000
DTSTAMP:20260425T192307
CREATED:20230401T204355Z
LAST-MODIFIED:20230401T204355Z
UID:8521-1680508800-1680512400@zontanorthpugetsound.org
SUMMARY:Board Meeting
DESCRIPTION:
URL:https://zontanorthpugetsound.org/calendar-item/board-meeting-34
LOCATION:Zoom
ATTACH;FMTTYPE=image/jpeg:https://zontanorthpugetsound.org/wp-content/uploads/2020/07/BOARD-e1597367058740.jpg
END:VEVENT
BEGIN:VEVENT
DTSTART;TZID=America/Los_Angeles:20230406T080000
DTEND;TZID=America/Los_Angeles:20230406T090000
DTSTAMP:20260425T192307
CREATED:20230401T204453Z
LAST-MODIFIED:20230401T204453Z
UID:8523-1680768000-1680771600@zontanorthpugetsound.org
SUMMARY:Business Meeting
DESCRIPTION:
URL:https://zontanorthpugetsound.org/calendar-item/business-meeting-54
LOCATION:Zoom
ATTACH;FMTTYPE=image/jpeg:https://zontanorthpugetsound.org/wp-content/uploads/2020/07/BUSINESS-e1597367074684.jpg
END:VEVENT
BEGIN:VEVENT
DTSTART;TZID=America/Los_Angeles:20230418T163000
DTEND;TZID=America/Los_Angeles:20230418T180000
DTSTAMP:20260425T192307
CREATED:20230401T204901Z
LAST-MODIFIED:20230401T204901Z
UID:8525-1681835400-1681840800@zontanorthpugetsound.org
SUMMARY:Zocial
DESCRIPTION:Bring Friends\, Prospective Members\, Family\, other members!\nTuesday\, April 18th\, 4-6pm\nHotel Indigo Everett Waterfront – 1028 13th St\, Everett\, WA 98201\nWe will have a table reserved for Zonta in their restaurant area.  No RSVP Required\, but if you would like to let someone know you plan to come\, please feel free to email Cynthia Weaver at cweaver@beneficialstate.com or text her at 425-422-6157. 
URL:https://zontanorthpugetsound.org/calendar-item/zocial-26
LOCATION:Hotel Indigo\, 1028 13th St\, Everett\, WA\, 98201
ATTACH;FMTTYPE=image/jpeg:https://zontanorthpugetsound.org/wp-content/uploads/2020/07/Zocial-e1597367035215.jpg
END:VEVENT
BEGIN:VEVENT
DTSTART;TZID=America/Los_Angeles:20230422T100000
DTEND;TZID=America/Los_Angeles:20230422T140000
DTSTAMP:20260425T192307
CREATED:20230222T163716Z
LAST-MODIFIED:20230401T204157Z
UID:8372-1682157600-1682172000@zontanorthpugetsound.org
SUMMARY:All Area Workshop
DESCRIPTION:https://us02web.zoom.us/meeting/register/tZclcOCuqjsiGNc5fi9fEkwr3kBY9U1a_V3_
URL:https://zontanorthpugetsound.org/calendar-item/all-area-workshop
LOCATION:Zoom
ATTACH;FMTTYPE=image/png:https://zontanorthpugetsound.org/wp-content/uploads/2023/04/AAW-registration.png
END:VEVENT
END:VCALENDAR