BEGIN:VCALENDAR
VERSION:2.0
PRODID:-//Zonta Club of North Puget Sound WA- Aka Zonta Club of Everett - ECPv6.15.20//NONSGML v1.0//EN
CALSCALE:GREGORIAN
METHOD:PUBLISH
X-WR-CALNAME:Zonta Club of North Puget Sound WA- Aka Zonta Club of Everett
X-ORIGINAL-URL:https://zontanorthpugetsound.org
X-WR-CALDESC:Events for Zonta Club of North Puget Sound WA- Aka Zonta Club of Everett
REFRESH-INTERVAL;VALUE=DURATION:PT1H
X-Robots-Tag:noindex
X-PUBLISHED-TTL:PT1H
BEGIN:VTIMEZONE
TZID:America/Los_Angeles
BEGIN:DAYLIGHT
TZOFFSETFROM:-0800
TZOFFSETTO:-0700
TZNAME:PDT
DTSTART:20220313T100000
END:DAYLIGHT
BEGIN:STANDARD
TZOFFSETFROM:-0700
TZOFFSETTO:-0800
TZNAME:PST
DTSTART:20221106T090000
END:STANDARD
BEGIN:DAYLIGHT
TZOFFSETFROM:-0800
TZOFFSETTO:-0700
TZNAME:PDT
DTSTART:20230312T100000
END:DAYLIGHT
BEGIN:STANDARD
TZOFFSETFROM:-0700
TZOFFSETTO:-0800
TZNAME:PST
DTSTART:20231105T090000
END:STANDARD
BEGIN:DAYLIGHT
TZOFFSETFROM:-0800
TZOFFSETTO:-0700
TZNAME:PDT
DTSTART:20240310T100000
END:DAYLIGHT
BEGIN:STANDARD
TZOFFSETFROM:-0700
TZOFFSETTO:-0800
TZNAME:PST
DTSTART:20241103T090000
END:STANDARD
END:VTIMEZONE
BEGIN:VEVENT
DTSTART;TZID=America/Los_Angeles:20230630T110000
DTEND;TZID=America/Los_Angeles:20230702T120000
DTSTAMP:20260425T152151
CREATED:20230215T192608Z
LAST-MODIFIED:20230215T192608Z
UID:8356-1688122800-1688299200@zontanorthpugetsound.org
SUMMARY:North America Inter-District Meeting (NAIDM)
DESCRIPTION:
URL:https://zontanorthpugetsound.org/calendar-item/north-america-inter-district-meeting-naidm
LOCATION:Indianapolis\, IN
ATTACH;FMTTYPE=image/png:https://zontanorthpugetsound.org/wp-content/uploads/2023/02/NAIDM.png
END:VEVENT
BEGIN:VEVENT
DTSTART;TZID=America/Los_Angeles:20230706T080000
DTEND;TZID=America/Los_Angeles:20230706T090000
DTSTAMP:20260425T152151
CREATED:20230621T150810Z
LAST-MODIFIED:20230621T150810Z
UID:8700-1688630400-1688634000@zontanorthpugetsound.org
SUMMARY:Business Meeting
DESCRIPTION:
URL:https://zontanorthpugetsound.org/calendar-item/business-meeting-57
LOCATION:Zoom
ATTACH;FMTTYPE=image/jpeg:https://zontanorthpugetsound.org/wp-content/uploads/2020/07/BUSINESS-e1597367074684.jpg
END:VEVENT
BEGIN:VEVENT
DTSTART;TZID=America/Los_Angeles:20230720T163000
DTEND;TZID=America/Los_Angeles:20230720T200000
DTSTAMP:20260425T152151
CREATED:20230621T151408Z
LAST-MODIFIED:20230621T151408Z
UID:8702-1689870600-1689883200@zontanorthpugetsound.org
SUMMARY:Annual Pool Party
DESCRIPTION:
URL:https://zontanorthpugetsound.org/calendar-item/annual-pool-party-4
LOCATION:Unnamed Venue\, MN\, United States
ATTACH;FMTTYPE=image/png:https://zontanorthpugetsound.org/wp-content/uploads/2023/06/2023-Pool-Party-Zocial-resized.png
END:VEVENT
BEGIN:VEVENT
DTSTART;TZID=America/Los_Angeles:20230731T081500
DTEND;TZID=America/Los_Angeles:20230731T093000
DTSTAMP:20260425T152151
CREATED:20230621T163800Z
LAST-MODIFIED:20230621T163800Z
UID:8705-1690791300-1690795800@zontanorthpugetsound.org
SUMMARY:Board Meeting
DESCRIPTION:
URL:https://zontanorthpugetsound.org/calendar-item/board-meeting-37
LOCATION:Zoom
ATTACH;FMTTYPE=image/jpeg:https://zontanorthpugetsound.org/wp-content/uploads/2020/07/BOARD-e1597367058740.jpg
END:VEVENT
END:VCALENDAR