BEGIN:VCALENDAR
VERSION:2.0
PRODID:-//Zonta Club of North Puget Sound WA- Aka Zonta Club of Everett - ECPv6.15.20//NONSGML v1.0//EN
CALSCALE:GREGORIAN
METHOD:PUBLISH
X-WR-CALNAME:Zonta Club of North Puget Sound WA- Aka Zonta Club of Everett
X-ORIGINAL-URL:https://zontanorthpugetsound.org
X-WR-CALDESC:Events for Zonta Club of North Puget Sound WA- Aka Zonta Club of Everett
REFRESH-INTERVAL;VALUE=DURATION:PT1H
X-Robots-Tag:noindex
X-PUBLISHED-TTL:PT1H
BEGIN:VTIMEZONE
TZID:America/Los_Angeles
BEGIN:DAYLIGHT
TZOFFSETFROM:-0800
TZOFFSETTO:-0700
TZNAME:PDT
DTSTART:20220313T100000
END:DAYLIGHT
BEGIN:STANDARD
TZOFFSETFROM:-0700
TZOFFSETTO:-0800
TZNAME:PST
DTSTART:20221106T090000
END:STANDARD
BEGIN:DAYLIGHT
TZOFFSETFROM:-0800
TZOFFSETTO:-0700
TZNAME:PDT
DTSTART:20230312T100000
END:DAYLIGHT
BEGIN:STANDARD
TZOFFSETFROM:-0700
TZOFFSETTO:-0800
TZNAME:PST
DTSTART:20231105T090000
END:STANDARD
BEGIN:DAYLIGHT
TZOFFSETFROM:-0800
TZOFFSETTO:-0700
TZNAME:PDT
DTSTART:20240310T100000
END:DAYLIGHT
BEGIN:STANDARD
TZOFFSETFROM:-0700
TZOFFSETTO:-0800
TZNAME:PST
DTSTART:20241103T090000
END:STANDARD
END:VTIMEZONE
BEGIN:VEVENT
DTSTART;TZID=America/Los_Angeles:20231207T080000
DTEND;TZID=America/Los_Angeles:20231207T170000
DTSTAMP:20260425T080839
CREATED:20230823T200437Z
LAST-MODIFIED:20230823T200437Z
UID:8851-1701936000-1701968400@zontanorthpugetsound.org
SUMMARY:Club Business Meeting
DESCRIPTION:Consent Agenda and Activities of the Club: \nBuilding a Better World for Women and Girls
URL:https://zontanorthpugetsound.org/calendar-item/club-business-meeting-4
LOCATION:Zoom
CATEGORIES:Business Meetings
ATTACH;FMTTYPE=image/jpeg:https://zontanorthpugetsound.org/wp-content/uploads/2020/07/BUSINESS-e1597367074684.jpg
END:VEVENT
BEGIN:VEVENT
DTSTART;TZID=America/Los_Angeles:20231208T080000
DTEND;TZID=America/Los_Angeles:20231208T170000
DTSTAMP:20260425T080839
CREATED:20231116T021220Z
LAST-MODIFIED:20231116T021418Z
UID:9144-1702022400-1702054800@zontanorthpugetsound.org
SUMMARY:Toy Donations for Wintertide Due
DESCRIPTION:Zonta Club of North Puget Sound service committee is asking members and supporters to participate in the Connect Casino Road’s toy drive. The attached graphic has information on the toy drive (it also has a link to an amazon list in case people would prefer to donate that way).\nUp to half of the children in the Casino neighborhood experience poverty\, so please know how meaningful this holiday support is for the families in this community. Jillian Robinson is the contact for this toy drive if you have any questions. \nhttps://www.amazon.com/registries/gl/guest-view/1HXNTQCIQ5NKL?ref=gr_search_page_result \n\n\n\n\n\nCommunity Organizations
URL:https://zontanorthpugetsound.org/calendar-item/toy-donations-for-wintertide-due
LOCATION:The village on casino road\, 14 E Casino Rd\, Everett\, WA\, United States
CATEGORIES:Special Events
ATTACH;FMTTYPE=image/png:https://zontanorthpugetsound.org/wp-content/uploads/2023/11/Screenshot-2023-11-15-at-5.51.43-PM.png
END:VEVENT
BEGIN:VEVENT
DTSTART;TZID=America/Los_Angeles:20231214T113000
DTEND;TZID=America/Los_Angeles:20231214T130000
DTSTAMP:20260425T080839
CREATED:20230527T181500Z
LAST-MODIFIED:20231116T195314Z
UID:8691-1702553400-1702558800@zontanorthpugetsound.org
SUMMARY:Annual Holiday Lunch and Gift Bag Auction
DESCRIPTION:Zonta Club of North Puget Sound (formerly Everett) annual holiday auction.\n \nYou are invited to our Lunch\, Bagged Holiday Gift Game and Lots of FUN!\nTo be held in person this year!!\nThe date is December 14 from 11:30 to 1:00. Mark your calendar for a fun filled\, holiday luncheon and gift auction.\nWhat fabulous gift will you take home this year?\n  \n[tx_button style=”default” text=”Tickets” url=”https://givebutter.com/ZontaHoliday23″ color=”#9b0b01″ textcolor=”white” target=”blank”]
URL:https://zontanorthpugetsound.org/calendar-item/annual-holiday-auction-2
LOCATION:Everett Golf and Country Club\, 1500 52nd St SE\, Everett\, WA\, 98203\, United States
CATEGORIES:Special Events
ATTACH;FMTTYPE=image/jpeg:https://zontanorthpugetsound.org/wp-content/uploads/2020/07/Holiday.jpg
ORGANIZER;CN="Zonta Club of Everett Foundation":MAILTO:info@zontaeverett.org
END:VEVENT
END:VCALENDAR