BEGIN:VCALENDAR
VERSION:2.0
PRODID:-//Zonta Club of North Puget Sound WA- Aka Zonta Club of Everett - ECPv6.15.20//NONSGML v1.0//EN
CALSCALE:GREGORIAN
METHOD:PUBLISH
X-WR-CALNAME:Zonta Club of North Puget Sound WA- Aka Zonta Club of Everett
X-ORIGINAL-URL:https://zontanorthpugetsound.org
X-WR-CALDESC:Events for Zonta Club of North Puget Sound WA- Aka Zonta Club of Everett
REFRESH-INTERVAL;VALUE=DURATION:PT1H
X-Robots-Tag:noindex
X-PUBLISHED-TTL:PT1H
BEGIN:VTIMEZONE
TZID:America/Los_Angeles
BEGIN:DAYLIGHT
TZOFFSETFROM:-0800
TZOFFSETTO:-0700
TZNAME:PDT
DTSTART:20240310T100000
END:DAYLIGHT
BEGIN:STANDARD
TZOFFSETFROM:-0700
TZOFFSETTO:-0800
TZNAME:PST
DTSTART:20241103T090000
END:STANDARD
BEGIN:DAYLIGHT
TZOFFSETFROM:-0800
TZOFFSETTO:-0700
TZNAME:PDT
DTSTART:20250309T100000
END:DAYLIGHT
BEGIN:STANDARD
TZOFFSETFROM:-0700
TZOFFSETTO:-0800
TZNAME:PST
DTSTART:20251102T090000
END:STANDARD
BEGIN:DAYLIGHT
TZOFFSETFROM:-0800
TZOFFSETTO:-0700
TZNAME:PDT
DTSTART:20260308T100000
END:DAYLIGHT
BEGIN:STANDARD
TZOFFSETFROM:-0700
TZOFFSETTO:-0800
TZNAME:PST
DTSTART:20261101T090000
END:STANDARD
END:VTIMEZONE
BEGIN:VEVENT
DTSTART;TZID=America/Los_Angeles:20251002T080000
DTEND;TZID=America/Los_Angeles:20251002T090000
DTSTAMP:20260423T115331
CREATED:20250926T183952Z
LAST-MODIFIED:20250926T183952Z
UID:10323-1759392000-1759395600@zontanorthpugetsound.org
SUMMARY:Business Meeting
DESCRIPTION:
URL:https://zontanorthpugetsound.org/calendar-item/business-meeting-62
LOCATION:Zoom
ATTACH;FMTTYPE=image/jpeg:https://zontanorthpugetsound.org/wp-content/uploads/2020/07/BUSINESS-e1597367074684.jpg
END:VEVENT
END:VCALENDAR